BEGIN:VCALENDAR
VERSION:2.0
PRODID:-//Tandem - ECPv6.15.12//NONSGML v1.0//EN
CALSCALE:GREGORIAN
METHOD:PUBLISH
X-ORIGINAL-URL:https://www.tandembayarea.org
X-WR-CALDESC:Events for Tandem
REFRESH-INTERVAL;VALUE=DURATION:PT1H
X-Robots-Tag:noindex
X-PUBLISHED-TTL:PT1H
BEGIN:VTIMEZONE
TZID:America/Los_Angeles
BEGIN:DAYLIGHT
TZOFFSETFROM:-0800
TZOFFSETTO:-0700
TZNAME:PDT
DTSTART:20230312T100000
END:DAYLIGHT
BEGIN:STANDARD
TZOFFSETFROM:-0700
TZOFFSETTO:-0800
TZNAME:PST
DTSTART:20231105T090000
END:STANDARD
BEGIN:DAYLIGHT
TZOFFSETFROM:-0800
TZOFFSETTO:-0700
TZNAME:PDT
DTSTART:20240310T100000
END:DAYLIGHT
BEGIN:STANDARD
TZOFFSETFROM:-0700
TZOFFSETTO:-0800
TZNAME:PST
DTSTART:20241103T090000
END:STANDARD
BEGIN:DAYLIGHT
TZOFFSETFROM:-0800
TZOFFSETTO:-0700
TZNAME:PDT
DTSTART:20250309T100000
END:DAYLIGHT
BEGIN:STANDARD
TZOFFSETFROM:-0700
TZOFFSETTO:-0800
TZNAME:PST
DTSTART:20251102T090000
END:STANDARD
BEGIN:DAYLIGHT
TZOFFSETFROM:-0800
TZOFFSETTO:-0700
TZNAME:PDT
DTSTART:20260308T100000
END:DAYLIGHT
BEGIN:STANDARD
TZOFFSETFROM:-0700
TZOFFSETTO:-0800
TZNAME:PST
DTSTART:20261101T090000
END:STANDARD
END:VTIMEZONE
BEGIN:VEVENT
DTSTART;TZID=America/Los_Angeles:20250205T100000
DTEND;TZID=America/Los_Angeles:20250205T103000
DTSTAMP:20260423T185226
CREATED:20240916T214749Z
LAST-MODIFIED:20240916T214749Z
UID:10000569-1738749600-1738751400@www.tandembayarea.org
SUMMARY:English Zoom Read Aloud
DESCRIPTION:
URL:https://www.tandembayarea.org/calendar/english-zoom-read-aloud-5/
LOCATION:Zoom
ORGANIZER;CN="Tandem%2C Partners in Early Learning":MAILTO:info@tandembayarea.org
END:VEVENT
BEGIN:VEVENT
DTSTART;TZID=America/Los_Angeles:20250122T100000
DTEND;TZID=America/Los_Angeles:20250122T103000
DTSTAMP:20260423T185226
CREATED:20240916T214422Z
LAST-MODIFIED:20250117T231459Z
UID:10000568-1737540000-1737541800@www.tandembayarea.org
SUMMARY:Cantonese Zoom Read Aloud
DESCRIPTION:
URL:https://www.tandembayarea.org/calendar/cantonese-zoom-read-aloud-5/
LOCATION:Zoom
ATTACH;FMTTYPE=image/jpeg:https://www.tandembayarea.org/wp-content/uploads/2024/09/0122-Chinese-RA-e1737155693356.jpg
ORGANIZER;CN="Tandem%2C Partners in Early Learning":MAILTO:info@tandembayarea.org
END:VEVENT
BEGIN:VEVENT
DTSTART;TZID=America/Los_Angeles:20250116T190000
DTEND;TZID=America/Los_Angeles:20250116T203000
DTSTAMP:20260423T185226
CREATED:20240911T223540Z
LAST-MODIFIED:20240911T231413Z
UID:10000544-1737054000-1737059400@www.tandembayarea.org
SUMMARY:Dando significado a las matemáticas
DESCRIPTION:Les niñes pequeñes son matemátiques naturales\, siempre buscando patrones en el mundo que les rodea. Únase a nosotros para aprender actividades atractivas para el aula que inspirarán la curiosidad natural de les niñes\, haciendo que las matemáticas sean significativas y divertidas.
URL:https://www.tandembayarea.org/calendar/dar-significado-a-las-matematicas/
LOCATION:Zoom
END:VEVENT
BEGIN:VEVENT
DTSTART;TZID=America/Los_Angeles:20250115T100000
DTEND;TZID=America/Los_Angeles:20250115T103000
DTSTAMP:20260423T185226
CREATED:20240916T214200Z
LAST-MODIFIED:20240916T214200Z
UID:10000567-1736935200-1736937000@www.tandembayarea.org
SUMMARY:Spanish Zoom Read Aloud
DESCRIPTION:
URL:https://www.tandembayarea.org/calendar/spanish-zoom-read-aloud-5/
LOCATION:Zoom
ORGANIZER;CN="Tandem%2C Partners in Early Learning":MAILTO:info@tandembayarea.org
END:VEVENT
BEGIN:VEVENT
DTSTART;TZID=America/Los_Angeles:20250109T190000
DTEND;TZID=America/Los_Angeles:20250109T203000
DTSTAMP:20260423T185226
CREATED:20240911T222458Z
LAST-MODIFIED:20240911T222713Z
UID:10000543-1736449200-1736454600@www.tandembayarea.org
SUMMARY:Making Math Meaningful (with Cantonese interpretation)
DESCRIPTION:Young children are natural mathematicians\, constantly seeking patterns in the world around them. Join us to learn engaging classroom activities that will inspire children’s natural curiosity\, making math meaningful and fun!
URL:https://www.tandembayarea.org/calendar/making-math-meaningful-with-cantonese-interpretation/
LOCATION:Zoom
END:VEVENT
BEGIN:VEVENT
DTSTART;TZID=America/Los_Angeles:20250108T100000
DTEND;TZID=America/Los_Angeles:20250108T223000
DTSTAMP:20260423T185226
CREATED:20240916T213937Z
LAST-MODIFIED:20240916T213937Z
UID:10000566-1736330400-1736375400@www.tandembayarea.org
SUMMARY:English Zoom Read Aloud
DESCRIPTION:
URL:https://www.tandembayarea.org/calendar/english-zoom-read-aloud-4/
LOCATION:Zoom
ORGANIZER;CN="Tandem%2C Partners in Early Learning":MAILTO:info@tandembayarea.org
END:VEVENT
BEGIN:VEVENT
DTSTART;TZID=America/Los_Angeles:20241219T190000
DTEND;TZID=America/Los_Angeles:20241219T203000
DTSTAMP:20260423T185226
CREATED:20240911T221142Z
LAST-MODIFIED:20240911T221142Z
UID:10000542-1734634800-1734640200@www.tandembayarea.org
SUMMARY:Pensamiento crítico y mentalidad de crecimiento
DESCRIPTION:Una mentalidad de crecimiento es esencial para ayudar a les niñes a aprender de sus errores. Únase a nosotros para discutir las implicaciones de los experimentos con rompecabezas de Carol Dweck y cómo fomentar una mentalidad de crecimiento en les niñes bajo su cuidado.
URL:https://www.tandembayarea.org/calendar/pensamiento-critico-y-mentalidad-de-crecimiento/
LOCATION:Zoom
END:VEVENT
BEGIN:VEVENT
DTSTART;TZID=America/Los_Angeles:20241218T100000
DTEND;TZID=America/Los_Angeles:20241218T103000
DTSTAMP:20260423T185226
CREATED:20240916T213741Z
LAST-MODIFIED:20240916T213741Z
UID:10000565-1734516000-1734517800@www.tandembayarea.org
SUMMARY:Cantonese Zoom Read Aloud
DESCRIPTION:
URL:https://www.tandembayarea.org/calendar/cantonese-zoom-read-aloud-4/
LOCATION:Zoom
ORGANIZER;CN="Tandem%2C Partners in Early Learning":MAILTO:info@tandembayarea.org
END:VEVENT
BEGIN:VEVENT
DTSTART;TZID=America/Los_Angeles:20241211T100000
DTEND;TZID=America/Los_Angeles:20241211T223000
DTSTAMP:20260423T185226
CREATED:20240916T213625Z
LAST-MODIFIED:20240916T213625Z
UID:10000564-1733911200-1733956200@www.tandembayarea.org
SUMMARY:Spanish Zoom Read Aloud
DESCRIPTION:
URL:https://www.tandembayarea.org/calendar/spanish-zoom-read-aloud-4/
LOCATION:Zoom
ORGANIZER;CN="Tandem%2C Partners in Early Learning":MAILTO:info@tandembayarea.org
END:VEVENT
BEGIN:VEVENT
DTSTART;TZID=America/Los_Angeles:20241204T100000
DTEND;TZID=America/Los_Angeles:20241204T103000
DTSTAMP:20260423T185226
CREATED:20240916T213503Z
LAST-MODIFIED:20240916T213503Z
UID:10000563-1733306400-1733308200@www.tandembayarea.org
SUMMARY:English Zoom Read Aloud
DESCRIPTION:
URL:https://www.tandembayarea.org/calendar/english-zoom-read-aloud-3/
LOCATION:Zoom
ORGANIZER;CN="Tandem%2C Partners in Early Learning":MAILTO:info@tandembayarea.org
END:VEVENT
BEGIN:VEVENT
DTSTART;TZID=America/Los_Angeles:20241121T190000
DTEND;TZID=America/Los_Angeles:20241121T203000
DTSTAMP:20260423T185226
CREATED:20240911T213452Z
LAST-MODIFIED:20240911T214247Z
UID:10000540-1732215600-1732221000@www.tandembayarea.org
SUMMARY:Compartiendo historias\, compartiendo sentimientos
DESCRIPTION:El uso de libros para apoyar el desarrollo social y emocional de les niñes no solo es divertido\, ¡también tiene muchos beneficios! . Acompañenos para una demostración interactiva de como usar libros de cuentos ilustrados para fomentar un desarrollo social y emocional saludable.
URL:https://www.tandembayarea.org/calendar/compartiendo-historias-compartiendo-sentimientos/
LOCATION:Zoom
END:VEVENT
BEGIN:VEVENT
DTSTART;TZID=America/Los_Angeles:20241120T100000
DTEND;TZID=America/Los_Angeles:20241120T103000
DTSTAMP:20260423T185226
CREATED:20240916T213336Z
LAST-MODIFIED:20241113T192644Z
UID:10000562-1732096800-1732098600@www.tandembayarea.org
SUMMARY:Mandarin Zoom Read Aloud
DESCRIPTION:
URL:https://www.tandembayarea.org/calendar/cantonese-zoom-read-aloud-3/
LOCATION:Zoom
ORGANIZER;CN="Tandem%2C Partners in Early Learning":MAILTO:info@tandembayarea.org
END:VEVENT
BEGIN:VEVENT
DTSTART;TZID=America/Los_Angeles:20241113T100000
DTEND;TZID=America/Los_Angeles:20241113T103000
DTSTAMP:20260423T185226
CREATED:20240916T213235Z
LAST-MODIFIED:20240916T213235Z
UID:10000561-1731492000-1731493800@www.tandembayarea.org
SUMMARY:Spanish Zoom Read Aloud
DESCRIPTION:
URL:https://www.tandembayarea.org/calendar/spanish-zoom-read-aloud-3/
LOCATION:Zoom
ORGANIZER;CN="Tandem%2C Partners in Early Learning":MAILTO:info@tandembayarea.org
END:VEVENT
BEGIN:VEVENT
DTSTART;TZID=America/Los_Angeles:20241107T190000
DTEND;TZID=America/Los_Angeles:20241107T203000
DTSTAMP:20260423T185226
CREATED:20240911T212525Z
LAST-MODIFIED:20240911T212525Z
UID:10000539-1731006000-1731011400@www.tandembayarea.org
SUMMARY:Sharing Stories\, Sharing Feelings (with Cantonese interpretation)
DESCRIPTION:Using books to support children’s social and emotional skills is not only beneficial\, but fun. Join us for an interactive demonstration of how to use picture books to encourage healthy social and emotional development. \n用書籍來支持孩子的社交和情緒技能不僅是有益的，而且很有趣。請加入我們的互動示範，如何使用繪本來鼓勵健康的社交和情緒發展。
URL:https://www.tandembayarea.org/calendar/sharing-stories-sharing-feelings-with-cantonese-interpretation/
LOCATION:Zoom
END:VEVENT
BEGIN:VEVENT
DTSTART;TZID=America/Los_Angeles:20241106T100000
DTEND;TZID=America/Los_Angeles:20241106T103000
DTSTAMP:20260423T185226
CREATED:20240916T213119Z
LAST-MODIFIED:20240916T213119Z
UID:10000560-1730887200-1730889000@www.tandembayarea.org
SUMMARY:English Zoom Read Aloud
DESCRIPTION:
URL:https://www.tandembayarea.org/calendar/english-zoom-read-aloud-2/
LOCATION:Zoom
ORGANIZER;CN="Tandem%2C Partners in Early Learning":MAILTO:info@tandembayarea.org
END:VEVENT
BEGIN:VEVENT
DTSTART;TZID=America/Los_Angeles:20241022T190000
DTEND;TZID=America/Los_Angeles:20241022T203000
DTSTAMP:20260423T185226
CREATED:20240911T211426Z
LAST-MODIFIED:20240911T211714Z
UID:10000538-1729623600-1729629000@www.tandembayarea.org
SUMMARY:故事時間的魔力 (The Magic of Storytime)
DESCRIPTION:發球與接球的互動可以培養早期的語言和讀寫能力，以及強大、健康的大腦!參與者將練習基於證據的互動朗讀策略，激發快樂，支持健康的大腦發育和早期語言習得。
URL:https://www.tandembayarea.org/calendar/%e6%95%85%e4%ba%8b%e6%99%82%e9%96%93%e7%9a%84%e9%ad%94%e5%8a%9b-the-magic-of-storytime/
LOCATION:Zoom
END:VEVENT
BEGIN:VEVENT
DTSTART;TZID=America/Los_Angeles:20241016T100000
DTEND;TZID=America/Los_Angeles:20241016T103000
DTSTAMP:20260423T185226
CREATED:20240916T212944Z
LAST-MODIFIED:20240916T212944Z
UID:10000559-1729072800-1729074600@www.tandembayarea.org
SUMMARY:Cantonese Zoom Read Aloud
DESCRIPTION:
URL:https://www.tandembayarea.org/calendar/cantonese-zoom-read-aloud-2/
LOCATION:Zoom
ORGANIZER;CN="Tandem%2C Partners in Early Learning":MAILTO:info@tandembayarea.org
END:VEVENT
BEGIN:VEVENT
DTSTART;TZID=America/Los_Angeles:20241010T190000
DTEND;TZID=America/Los_Angeles:20241010T203000
DTSTAMP:20260423T185226
CREATED:20240911T210741Z
LAST-MODIFIED:20240911T210741Z
UID:10000537-1728586800-1728592200@www.tandembayarea.org
SUMMARY:The Magic of Storytime
DESCRIPTION:Serve-and-return interactions build early language and literacy skills and strong\, healthy brains! Participants will practice evidence-based interactive Read Aloud strategies that spark joy and support healthy brain development and early language acquisition.
URL:https://www.tandembayarea.org/calendar/the-magic-of-storytime/
LOCATION:Zoom
END:VEVENT
BEGIN:VEVENT
DTSTART;TZID=America/Los_Angeles:20241009T100000
DTEND;TZID=America/Los_Angeles:20241009T103000
DTSTAMP:20260423T185226
CREATED:20240916T212808Z
LAST-MODIFIED:20240916T212808Z
UID:10000558-1728468000-1728469800@www.tandembayarea.org
SUMMARY:Spanish Zoom Read Aloud
DESCRIPTION:
URL:https://www.tandembayarea.org/calendar/spanish-zoom-read-aloud-2/
LOCATION:Zoom
ORGANIZER;CN="Tandem%2C Partners in Early Learning":MAILTO:info@tandembayarea.org
END:VEVENT
BEGIN:VEVENT
DTSTART;TZID=America/Los_Angeles:20241003T190000
DTEND;TZID=America/Los_Angeles:20241003T203000
DTSTAMP:20260423T185226
CREATED:20240911T205118Z
LAST-MODIFIED:20240911T210359Z
UID:10000536-1727982000-1727987400@www.tandembayarea.org
SUMMARY:La magia de la hora del cuento
DESCRIPTION:¡Las interacciones de servir y devolver forman la base del desarrollo cognitivo temprano! Los participantes practicarán estrategias de lectura en voz alta\, basadas en evidencia\, para despertar alegría y apoyar el desarrollo saludable del cerebro y la adquisición temprana del lenguaje.
URL:https://www.tandembayarea.org/calendar/la-magia-de-la-hora-del-cuento/
LOCATION:Zoom
END:VEVENT
BEGIN:VEVENT
DTSTART;TZID=America/Los_Angeles:20241002T100000
DTEND;TZID=America/Los_Angeles:20241002T103000
DTSTAMP:20260423T185226
CREATED:20240916T212655Z
LAST-MODIFIED:20240916T212655Z
UID:10000557-1727863200-1727865000@www.tandembayarea.org
SUMMARY:English Zoom Read Aloud
DESCRIPTION:
URL:https://www.tandembayarea.org/calendar/english-zoom-read-aloud/
LOCATION:Zoom
ORGANIZER;CN="Tandem%2C Partners in Early Learning":MAILTO:info@tandembayarea.org
END:VEVENT
BEGIN:VEVENT
DTSTART;TZID=America/Los_Angeles:20240918T100000
DTEND;TZID=America/Los_Angeles:20240918T103000
DTSTAMP:20260423T185226
CREATED:20240916T212525Z
LAST-MODIFIED:20240916T212525Z
UID:10000556-1726653600-1726655400@www.tandembayarea.org
SUMMARY:Cantonese Zoom Read Aloud
DESCRIPTION:
URL:https://www.tandembayarea.org/calendar/cantonese-zoom-read-aloud/
LOCATION:Zoom
ORGANIZER;CN="Tandem%2C Partners in Early Learning":MAILTO:info@tandembayarea.org
END:VEVENT
BEGIN:VEVENT
DTSTART;TZID=America/Los_Angeles:20240917T190000
DTEND;TZID=America/Los_Angeles:20240917T203000
DTSTAMP:20260423T185226
CREATED:20240911T204559Z
LAST-MODIFIED:20240911T231826Z
UID:10000535-1726599600-1726605000@www.tandembayarea.org
SUMMARY:Construyendo a través del juego
DESCRIPTION:Los educadores exploran el valor del juego libre y cómo utilizar este tiempo para evaluar el desarrollo de los estudiantes. Los educadores recibirán una herramienta de observación basada en DRDP para respaldar las evaluaciones individuales continuas.
URL:https://www.tandembayarea.org/calendar/construir-a-traves-del-juego/
LOCATION:Zoom
END:VEVENT
BEGIN:VEVENT
DTSTART;TZID=America/Los_Angeles:20240912T190000
DTEND;TZID=America/Los_Angeles:20240912T203000
DTSTAMP:20260423T185226
CREATED:20240911T185231Z
LAST-MODIFIED:20240911T190236Z
UID:10000534-1726167600-1726173000@www.tandembayarea.org
SUMMARY:Building on Play (with Cantonese interpretation)
DESCRIPTION:Educators explore the value of free play and how to use this time to assess students’ development. Educators will receive a DRDP-based observation tool to support ongoing individual assessments.
URL:https://www.tandembayarea.org/calendar/building-on-play-with-cantonese-interpretation/
LOCATION:Zoom
END:VEVENT
BEGIN:VEVENT
DTSTART;TZID=America/Los_Angeles:20240911T100000
DTEND;TZID=America/Los_Angeles:20240911T103000
DTSTAMP:20260423T185226
CREATED:20240916T212339Z
LAST-MODIFIED:20240916T212339Z
UID:10000555-1726048800-1726050600@www.tandembayarea.org
SUMMARY:Spanish Zoom Read Aloud
DESCRIPTION:
URL:https://www.tandembayarea.org/calendar/spanish-zoom-read-aloud/
LOCATION:Zoom
ORGANIZER;CN="Tandem%2C Partners in Early Learning":MAILTO:info@tandembayarea.org
END:VEVENT
BEGIN:VEVENT
DTSTART;TZID=America/Los_Angeles:20240904T100000
DTEND;TZID=America/Los_Angeles:20240904T103000
DTSTAMP:20260423T185227
CREATED:20240916T191354Z
LAST-MODIFIED:20240916T211958Z
UID:10000554-1725444000-1725445800@www.tandembayarea.org
SUMMARY:English Zoom Read Aloud
DESCRIPTION:
URL:https://www.tandembayarea.org/calendar/english-zoom-read-aloud-hispanic-heritage-month/
LOCATION:Zoom
ORGANIZER;CN="Tandem%2C Partners in Early Learning":MAILTO:info@tandembayarea.org
END:VEVENT
BEGIN:VEVENT
DTSTART;TZID=America/Los_Angeles:20240626T100000
DTEND;TZID=America/Los_Angeles:20240626T103000
DTSTAMP:20260423T185227
CREATED:20240618T184208Z
LAST-MODIFIED:20240618T184210Z
UID:10000412-1719396000-1719397800@www.tandembayarea.org
SUMMARY:0至5歲兒童粵語Zoom朗讀
DESCRIPTION:Tandem早期學習導師，Tandem邀請您和您的孩子參加她直播的有趣和互動粵語朗讀。 此朗讀最適合0至5歲的兒童。 \n請在此網站註冊 Register here: www.tandem.ngo/signup \n已經登記了？ 您只需要登記一次就可以參加我們的全部公開活動。 請查看您的電子郵件獲取Zoom的鏈接。 主題 “成功註冊Tandem的活動”
URL:https://www.tandembayarea.org/calendar/0%e8%87%b35%e6%ad%b2%e5%85%92%e7%ab%a5%e7%b2%b5%e8%aa%9ezoom%e6%9c%97%e8%ae%80-3-2/
LOCATION:Zoom
ORGANIZER;CN="Tandem%2C Partners in Early Learning":MAILTO:info@tandembayarea.org
END:VEVENT
BEGIN:VEVENT
DTSTART;TZID=America/Los_Angeles:20240612T100000
DTEND;TZID=America/Los_Angeles:20240612T103000
DTSTAMP:20260423T185227
CREATED:20230801T233535Z
LAST-MODIFIED:20230807T190105Z
UID:10000402-1718186400-1718188200@www.tandembayarea.org
SUMMARY:Hora de cuentos en vivo
DESCRIPTION:Para niños de 0 a 5 años \n¡Acompáñenos para una lectura divertida e interactiva! \nInscríbase aquí: www.tandem.ngo/signup \n¿Ya se inscribió usted? Sólo tiene que hacerlo una vez. Busque en su correo el enlace para nuestro salón de Zoom. El mensaje tendrá el título “Tandem Event Registration Successful!”
URL:https://www.tandembayarea.org/calendar/hora-de-cuentos-en-vivo-2/2024-06-12/
LOCATION:Zoom
ORGANIZER;CN="Tandem%2C Partners in Early Learning":MAILTO:info@tandembayarea.org
END:VEVENT
BEGIN:VEVENT
DTSTART;TZID=America/Los_Angeles:20240605T100000
DTEND;TZID=America/Los_Angeles:20240605T103000
DTSTAMP:20260423T185227
CREATED:20230801T233213Z
LAST-MODIFIED:20230807T185602Z
UID:10000392-1717581600-1717583400@www.tandembayarea.org
SUMMARY:Live Zoom Read Aloud
DESCRIPTION:For children ages 0-5! Join us for an engaging\, interactive\, LIVE Read Aloud! \nRegister here: www.tandem.ngo/signup \nAlready Registered? You only need to do it once for all our public events. Check your email for the link to our Zoom Room. Subject “Tandem Event Registration Successful”
URL:https://www.tandembayarea.org/calendar/live-zoom-read-aloud-2/2024-06-05/
LOCATION:Zoom
ORGANIZER;CN="Tandem%2C Partners in Early Learning":MAILTO:info@tandembayarea.org
END:VEVENT
BEGIN:VEVENT
DTSTART;TZID=America/Los_Angeles:20240528T190000
DTEND;TZID=America/Los_Angeles:20240528T203000
DTSTAMP:20260423T185227
CREATED:20230915T100807Z
LAST-MODIFIED:20230915T100807Z
UID:10000422-1716922800-1716928200@www.tandembayarea.org
SUMMARY:Taller: Discusiones Raciales en la Primera Infancia
DESCRIPTION:En linea via CocoKids. \nEn este taller interactivo\, discutiremos las formas en que un enfoque que no hable de distinciones raciales falla en promover la equidad\, y exploramos dos alternativas que pueden ayudarnos a guiar discusiones apropiadas sobre las diferencias raciales y la justicia racial con niñes pequeñes. \nHaga clic para registrarse\nPara recibir recordatorios de nuestros eventos directamente en su correo\, por favor regístrese aquí: tandem.ngo/signup
URL:https://www.tandembayarea.org/calendar/taller-discusiones-raciales-en-la-primera-infancia/
LOCATION:Zoom
END:VEVENT
END:VCALENDAR