BEGIN:VCALENDAR
VERSION:2.0
PRODID:-//Tandem - ECPv6.15.12//NONSGML v1.0//EN
CALSCALE:GREGORIAN
METHOD:PUBLISH
X-ORIGINAL-URL:https://www.tandembayarea.org
X-WR-CALDESC:Events for Tandem
REFRESH-INTERVAL;VALUE=DURATION:PT1H
X-Robots-Tag:noindex
X-PUBLISHED-TTL:PT1H
BEGIN:VTIMEZONE
TZID:America/Los_Angeles
BEGIN:DAYLIGHT
TZOFFSETFROM:-0800
TZOFFSETTO:-0700
TZNAME:PDT
DTSTART:20190310T100000
END:DAYLIGHT
BEGIN:STANDARD
TZOFFSETFROM:-0700
TZOFFSETTO:-0800
TZNAME:PST
DTSTART:20191103T090000
END:STANDARD
BEGIN:DAYLIGHT
TZOFFSETFROM:-0800
TZOFFSETTO:-0700
TZNAME:PDT
DTSTART:20200308T100000
END:DAYLIGHT
BEGIN:STANDARD
TZOFFSETFROM:-0700
TZOFFSETTO:-0800
TZNAME:PST
DTSTART:20201101T090000
END:STANDARD
BEGIN:DAYLIGHT
TZOFFSETFROM:-0800
TZOFFSETTO:-0700
TZNAME:PDT
DTSTART:20210314T100000
END:DAYLIGHT
BEGIN:STANDARD
TZOFFSETFROM:-0700
TZOFFSETTO:-0800
TZNAME:PST
DTSTART:20211107T090000
END:STANDARD
END:VTIMEZONE
BEGIN:VEVENT
DTSTART;TZID=America/Los_Angeles:20200915T114500
DTEND;TZID=America/Los_Angeles:20200915T121500
DTSTAMP:20260425T163422
CREATED:20200819T231143Z
LAST-MODIFIED:20200914T204239Z
UID:10000119-1600170300-1600172100@www.tandembayarea.org
SUMMARY:Hora de Cuentos: Jabari Salta
DESCRIPTION:Para niños de 3 a 5 años\n¡Acompáñenos para una lectura divertida e interactiva de Jabari Salta! \nJabari visita la piscina y quiere saltar desde el gran trampolín por primera vez. Con un poco de paciencia y la ayuda de su papá\, Jabari supera sus miedos y da un salto de fe. \nHaga clic para entrar en la sesión: https://us02web.zoom.us/j/87244722775 \nInscríbase aquí: tinyurl.com/tandem2020\nYa se inscribió usted? Sólo tiene que hacerlo una vez.\nBusque en su correo el link para nuestro salón de Zoom.\nEl mensaje tendrá el título “Tandem Event Registration Successful”
URL:https://www.tandembayarea.org/calendar/hora-de-cuentos-jabari-salta/
LOCATION:Zoom
ORGANIZER;CN="Tandem%2C Partners in Early Learning":MAILTO:info@tandembayarea.org
END:VEVENT
BEGIN:VEVENT
DTSTART;TZID=America/Los_Angeles:20200915T110000
DTEND;TZID=America/Los_Angeles:20200915T113000
DTSTAMP:20260425T163422
CREATED:20200819T230528Z
LAST-MODIFIED:20200914T203908Z
UID:10000118-1600167600-1600169400@www.tandembayarea.org
SUMMARY:Live Read Aloud: Jabari Jumps
DESCRIPTION:For children ages 3-5!\nJoin us for an engaging\, interactive\, LIVE Read Aloud of Jabari Jumps! \nIn this story\, written and illustrated by Gaia Cornwall\, Jabari goes to the community pool and is ready to jump off the big diving board! …Or is he? With a little time and help from dad\, Jabari overcomes his fears and takes a leap of faith. \n  \nYou’ll have to tune in to find out! Click here to join: https://us02web.zoom.us/j/87244722775 \n  \nRegister here: tinyurl.com/tandem2020\nAlready Registered? You only need to do it once for all our public events.\nCheck your email for the link to our Zoom Room.\nSubject “Tandem Event Registration Successful”
URL:https://www.tandembayarea.org/calendar/live-read-aloud-jabari-jumps/
LOCATION:Zoom
ORGANIZER;CN="Tandem%2C Partners in Early Learning":MAILTO:info@tandembayarea.org
END:VEVENT
BEGIN:VEVENT
DTSTART;TZID=America/Los_Angeles:20200910T190000
DTEND;TZID=America/Los_Angeles:20200910T203000
DTSTAMP:20260425T163422
CREATED:20200819T225218Z
LAST-MODIFIED:20200819T225528Z
UID:10000117-1599764400-1599769800@www.tandembayarea.org
SUMMARY:Supporting Students with Trauma: A webinar for educators and caregivers
DESCRIPTION:Caregivers and Educators\nJoin us for a webinar to learn the basics about trauma. What is it? How does it affect the brain and body? We will discuss and share trauma-sensitive strategies that support all children to self-soothe and share helpful handouts to create a trauma support plan for an individual child. \n  \nThis webinar is hosted by CoCoKids.\n\nYou must register for this event by clicking this link. \n 
URL:https://www.tandembayarea.org/calendar/supporting-students-with-trauma-a-webinar-for-educators-and-caregivers/
LOCATION:Zoom
END:VEVENT
END:VCALENDAR