BEGIN:VCALENDAR
VERSION:2.0
PRODID:-//Tandem - ECPv6.15.12//NONSGML v1.0//EN
CALSCALE:GREGORIAN
METHOD:PUBLISH
X-ORIGINAL-URL:https://www.tandembayarea.org
X-WR-CALDESC:Events for Tandem
REFRESH-INTERVAL;VALUE=DURATION:PT1H
X-Robots-Tag:noindex
X-PUBLISHED-TTL:PT1H
BEGIN:VTIMEZONE
TZID:America/Los_Angeles
BEGIN:DAYLIGHT
TZOFFSETFROM:-0800
TZOFFSETTO:-0700
TZNAME:PDT
DTSTART:20200308T100000
END:DAYLIGHT
BEGIN:STANDARD
TZOFFSETFROM:-0700
TZOFFSETTO:-0800
TZNAME:PST
DTSTART:20201101T090000
END:STANDARD
BEGIN:DAYLIGHT
TZOFFSETFROM:-0800
TZOFFSETTO:-0700
TZNAME:PDT
DTSTART:20210314T100000
END:DAYLIGHT
BEGIN:STANDARD
TZOFFSETFROM:-0700
TZOFFSETTO:-0800
TZNAME:PST
DTSTART:20211107T090000
END:STANDARD
BEGIN:DAYLIGHT
TZOFFSETFROM:-0800
TZOFFSETTO:-0700
TZNAME:PDT
DTSTART:20220313T100000
END:DAYLIGHT
BEGIN:STANDARD
TZOFFSETFROM:-0700
TZOFFSETTO:-0800
TZNAME:PST
DTSTART:20221106T090000
END:STANDARD
END:VTIMEZONE
BEGIN:VEVENT
DTSTART;TZID=America/Los_Angeles:20210430T100000
DTEND;TZID=America/Los_Angeles:20210430T103000
DTSTAMP:20260425T075555
CREATED:20210331T223004Z
LAST-MODIFIED:20210331T223004Z
UID:10000069-1619776800-1619778600@www.tandembayarea.org
SUMMARY:Hora de cuentos en vivo: Dreamers and Soñadores
DESCRIPTION:A bilingual storytime for children ages 0-5!\nPara niños de 0 a 5 años\nJoin us for an interactive read aloud! We’ll start in English at 10:00am\, followed by a Spanish reading at 10:45am. \n¡Acompáñenos para una lectura divertida e interactiva de Dreamers / Soñadores! \n  \nInscríbase aquí: tinyurl.com/tandem2020\nYa se inscribió usted? Sólo tiene que hacerlo una vez.\nBusque en su correo el link para nuestro salón de Zoom.\nEl mensaje tendrá el título “Tandem Event Registration Successful”
URL:https://www.tandembayarea.org/calendar/hora-de-cuentos-en-vivo-dreamers-and-sonadores/
LOCATION:Zoom
ORGANIZER;CN="Tandem%2C Partners in Early Learning":MAILTO:info@tandembayarea.org
END:VEVENT
BEGIN:VEVENT
DTSTART;TZID=America/Los_Angeles:20210427T150000
DTEND;TZID=America/Los_Angeles:20210427T153000
DTSTAMP:20260425T075555
CREATED:20210331T221329Z
LAST-MODIFIED:20210331T224245Z
UID:10000209-1619535600-1619537400@www.tandembayarea.org
SUMMARY:0至5歲兒童粵語Zoom朗讀: 電車來囉！
DESCRIPTION:星期二  4月27日\n3:00下午\nTandem早期學習導師，Susan邀請您和您的孩子參加她直播的有趣和互動粵語朗讀。 此朗讀最適合0至5歲的兒童。 \n  \n請在此網站註冊 Register here: tinyurl.com/tandem2020\n已經登記了？ 您只需要登記一次就可以參加我們的全部公開活動。\n請查看您的電子郵件獲取Zoom的鏈接。\n主題 “成功註冊Tandem的活動”
URL:https://www.tandembayarea.org/calendar/0%e8%87%b35%e6%ad%b2%e5%85%92%e7%ab%a5%e7%b2%b5%e8%aa%9ezoom%e9%9b%bb%e8%bb%8a%e4%be%86%e5%9b%89/
LOCATION:Zoom
ORGANIZER;CN="Tandem%2C Partners in Early Learning":MAILTO:info@tandembayarea.org
END:VEVENT
BEGIN:VEVENT
DTSTART;TZID=America/Los_Angeles:20210423T100000
DTEND;TZID=America/Los_Angeles:20210423T103000
DTSTAMP:20260425T075555
CREATED:20210331T223615Z
LAST-MODIFIED:20210331T223615Z
UID:10000071-1619172000-1619173800@www.tandembayarea.org
SUMMARY:Live Read Aloud: "My Friend Earth"
DESCRIPTION:For children ages 0-5!\nJoin us for an engaging\, interactive\, LIVE Read Aloud of My friend Earth by Patricia MacLachlan! \n  \nRegister here: tinyurl.com/tandem2020\nAlready Registered? You only need to do it once for all our public events.\nCheck your email for the link to our Zoom Room.\nSubject “Tandem Event Registration Successful”
URL:https://www.tandembayarea.org/calendar/live-read-aloud-my-friend-earth/
LOCATION:Zoom
ORGANIZER;CN="Tandem%2C Partners in Early Learning":MAILTO:info@tandembayarea.org
END:VEVENT
BEGIN:VEVENT
DTSTART;TZID=America/Los_Angeles:20210422T140000
DTEND;TZID=America/Los_Angeles:20210422T153000
DTSTAMP:20260425T075555
CREATED:20210225T192737Z
LAST-MODIFIED:20210225T192737Z
UID:10000055-1619100000-1619105400@www.tandembayarea.org
SUMMARY:Workshop: 數學在書本
DESCRIPTION:周四 4月22日 下午2:00\n數學就在我們四周圍！ 探索數學在”非數學”故事書和練習策略中發現數學，以幫助幼兒學習關鍵的數學概念。 \n  \n請在此網站註冊 Register here: tinyurl.com/tandem2020\n已經登記了？ 您只需要登記一次就可以參加我們的全部公開活動。\n請查看您的電子郵件獲取Zoom的鏈接。\n主題 “成功註冊Tandem的活動”
URL:https://www.tandembayarea.org/calendar/workshop-%e6%95%b8%e5%ad%b8%e5%9c%a8%e6%9b%b8%e6%9c%ac/
LOCATION:Zoom
ORGANIZER;CN="Tandem%2C Partners in Early Learning":MAILTO:info@tandembayarea.org
END:VEVENT
BEGIN:VEVENT
DTSTART;TZID=America/Los_Angeles:20210416T100000
DTEND;TZID=America/Los_Angeles:20210416T103000
DTSTAMP:20260425T075555
CREATED:20210331T222133Z
LAST-MODIFIED:20210331T223946Z
UID:10000068-1618567200-1618569000@www.tandembayarea.org
SUMMARY:Hora de cuentos en vivo: ¿De dónde eres?
DESCRIPTION:Para niños de 0 a 5 años\n¡Acompáñenos para una lectura divertida e interactiva de ¿De dónde eres?  \n  \nInscríbase aquí: tinyurl.com/tandem2020\nYa se inscribió usted? Sólo tiene que hacerlo una vez.\nBusque en su correo el link para nuestro salón de Zoom.\nEl mensaje tendrá el título “Tandem Event Registration Successful”
URL:https://www.tandembayarea.org/calendar/hora-de-cuentos-en-vivo-de-donde-eres/
LOCATION:Zoom
ORGANIZER;CN="Tandem%2C Partners in Early Learning":MAILTO:info@tandembayarea.org
END:VEVENT
BEGIN:VEVENT
DTSTART;TZID=America/Los_Angeles:20210413T150000
DTEND;TZID=America/Los_Angeles:20210413T153000
DTSTAMP:20260425T075555
CREATED:20210331T223251Z
LAST-MODIFIED:20210331T223251Z
UID:10000070-1618326000-1618327800@www.tandembayarea.org
SUMMARY:Live Read Aloud: "Wallpaper"
DESCRIPTION:For children ages 0-5!\nJoin us for an engaging\, interactive\, LIVE Read Aloud of Wallpaper by Thao Lam! \n  \nRegister here: tinyurl.com/tandem2020\nAlready Registered? You only need to do it once for all our public events.\nCheck your email for the link to our Zoom Room.\nSubject “Tandem Event Registration Successful”
URL:https://www.tandembayarea.org/calendar/live-read-aloud-wallpaper/
LOCATION:Zoom
ORGANIZER;CN="Tandem%2C Partners in Early Learning":MAILTO:info@tandembayarea.org
END:VEVENT
BEGIN:VEVENT
DTSTART;TZID=America/Los_Angeles:20210406T100000
DTEND;TZID=America/Los_Angeles:20210406T103000
DTSTAMP:20260425T075555
CREATED:20210331T220844Z
LAST-MODIFIED:20210331T220946Z
UID:10000210-1617703200-1617705000@www.tandembayarea.org
SUMMARY:0至5歲兒童粵語Zoom朗讀: "晚安，貓頭鷹 !"
DESCRIPTION:星期二  4月6日\n10:00上午\nTandem早期學習導師，Susan邀請您和您的孩子參加她直播的有趣和互動粵語朗讀。 此朗讀最適合0至5歲的兒童。 \n  \n請在此網站註冊 Register here: tinyurl.com/tandem2020\n已經登記了？ 您只需要登記一次就可以參加我們的全部公開活動。\n請查看您的電子郵件獲取Zoom的鏈接。\n主題 “成功註冊Tandem的活動”
URL:https://www.tandembayarea.org/calendar/0%e8%87%b35%e6%ad%b2%e5%85%92%e7%ab%a5%e7%b2%b5%e8%aa%9ezoom%e6%9c%97%e8%ae%80-%e6%99%9a%e5%ae%89%ef%bc%8c%e8%b2%93%e9%a0%ad%e9%b7%b9/
LOCATION:Zoom
ORGANIZER;CN="Tandem%2C Partners in Early Learning":MAILTO:info@tandembayarea.org
END:VEVENT
BEGIN:VEVENT
DTSTART;TZID=America/Los_Angeles:20210330T150000
DTEND;TZID=America/Los_Angeles:20210330T153000
DTSTAMP:20260425T075555
CREATED:20210301T182142Z
LAST-MODIFIED:20210301T182142Z
UID:10000186-1617116400-1617118200@www.tandembayarea.org
SUMMARY:Live Read Aloud: "Drum Dream Girl"
DESCRIPTION:For children ages 0-5!\nJoin us for an engaging\, interactive\, LIVE Read Aloud of Drum Dream Girl by Margarita Engle!  \n  \nRegister here: tinyurl.com/tandem2020\nAlready Registered? You only need to do it once for all our public events.\nCheck your email for the link to our Zoom Room.\nSubject “Tandem Event Registration Successful”
URL:https://www.tandembayarea.org/calendar/live-read-aloud-drum-dream-girl/
LOCATION:Zoom
ORGANIZER;CN="Tandem%2C Partners in Early Learning":MAILTO:info@tandembayarea.org
END:VEVENT
BEGIN:VEVENT
DTSTART;TZID=America/Los_Angeles:20210326T110000
DTEND;TZID=America/Los_Angeles:20210326T113000
DTSTAMP:20260425T075555
CREATED:20210301T181148Z
LAST-MODIFIED:20210312T011802Z
UID:10000182-1616756400-1616758200@www.tandembayarea.org
SUMMARY:Hora de cuentos en vivo: Sofia Valdez\, Presidenta tal vez
DESCRIPTION:Para niños de 0 a 5 años\n¡Acompáñenos para una lectura divertida e interactiva de Sofia Valdez\, Presidenta tal vez por Andrea Beaty! \n  \nInscríbase aquí: tinyurl.com/tandem2020\nYa se inscribió usted? Sólo tiene que hacerlo una vez.\nBusque en su correo el link para nuestro salón de Zoom.\nEl mensaje tendrá el título “Tandem Event Registration Successful”
URL:https://www.tandembayarea.org/calendar/hora-de-cuentos-en-vivo-sofia-valez-presidenta-tal-vez/
LOCATION:Zoom
ORGANIZER;CN="Tandem%2C Partners in Early Learning":MAILTO:info@tandembayarea.org
END:VEVENT
BEGIN:VEVENT
DTSTART;TZID=America/Los_Angeles:20210323T150000
DTEND;TZID=America/Los_Angeles:20210323T153000
DTSTAMP:20260425T075555
CREATED:20210301T181444Z
LAST-MODIFIED:20210301T181519Z
UID:10000184-1616511600-1616513400@www.tandembayarea.org
SUMMARY:0至5歲兒童粵語Zoom朗讀: "吳艾美和完美的包子"
DESCRIPTION:星期二  3月23日\n3:00 下午\nTandem早期學習導師，Susan邀請您和您的孩子參加她直播的有趣和互動粵語朗讀。 此朗讀最適合0至5歲的兒童。 \n  \n請在此網站註冊 Register here: tinyurl.com/tandem2020\n已經登記了？ 您只需要登記一次就可以參加我們的全部公開活動。\n請查看您的電子郵件獲取Zoom的鏈接。\n主題 “成功註冊Tandem的活動”
URL:https://www.tandembayarea.org/calendar/tandem-cantonese-storytime-march-23-2021/
LOCATION:Zoom
ORGANIZER;CN="Tandem%2C Partners in Early Learning":MAILTO:info@tandembayarea.org
END:VEVENT
BEGIN:VEVENT
DTSTART;TZID=America/Los_Angeles:20210317T190000
DTEND;TZID=America/Los_Angeles:20210317T203000
DTSTAMP:20260425T075555
CREATED:20210120T224038Z
LAST-MODIFIED:20210120T224038Z
UID:10000040-1616007600-1616013000@www.tandembayarea.org
SUMMARY:Webinar: Apoyando la diversidad y la inclusión con libros de cuentos
DESCRIPTION:Apoyando la diversidad y la inclusión con libros de cuentos\nEn este exploramos los temas de la equidad mediante el uso de libros de cuentos diversos e inclusivos. Discuta las características clave que debe buscar para construir una biblioteca inclusiva en el salón de clase o casa. Compartiremos ejemplos de títulos inclusivos favoritos y demostrar cómo elevar la diversidad al compartir libros con niños pequeños. \n  \nInscríbase aquí: tinyurl.com/tandem2020\nYa se inscribió usted? Sólo tiene que hacerlo una vez.\nBusque en su correo el link para nuestro salón de Zoom.\nEl mensaje tendrá el título “Tandem Event Registration Successful”
URL:https://www.tandembayarea.org/calendar/webinar-apoyando-la-diversidad-y-la-inclusion-con-libros-de-cuentos/
LOCATION:Zoom
ORGANIZER;CN="Tandem%2C Partners in Early Learning":MAILTO:info@tandembayarea.org
END:VEVENT
BEGIN:VEVENT
DTSTART;TZID=America/Los_Angeles:20210316T150000
DTEND;TZID=America/Los_Angeles:20210316T153000
DTSTAMP:20260425T075555
CREATED:20210301T181853Z
LAST-MODIFIED:20210301T181853Z
UID:10000185-1615906800-1615908600@www.tandembayarea.org
SUMMARY:Live Read Aloud: "Kamala and Maya's Big Idea"
DESCRIPTION:For children ages 0-5!\nJoin us for an engaging\, interactive\, LIVE Read Aloud of Kamala and Maya’s Big Idea by Meena Harris!  \n  \nRegister here: tinyurl.com/tandem2020\nAlready Registered? You only need to do it once for all our public events.\nCheck your email for the link to our Zoom Room.\nSubject “Tandem Event Registration Successful”
URL:https://www.tandembayarea.org/calendar/live-read-aloud-kamala-and-mayas-big-idea/
LOCATION:Zoom
ORGANIZER;CN="Tandem%2C Partners in Early Learning":MAILTO:info@tandembayarea.org
END:VEVENT
BEGIN:VEVENT
DTSTART;TZID=America/Los_Angeles:20210312T110000
DTEND;TZID=America/Los_Angeles:20210312T113000
DTSTAMP:20260425T075555
CREATED:20210301T180813Z
LAST-MODIFIED:20210301T180813Z
UID:10000181-1615546800-1615548600@www.tandembayarea.org
SUMMARY:Hora de cuentos en vivo: Los Deseos de Carmela
DESCRIPTION:Para niños de 0 a 5 años\n¡Acompáñenos para una lectura divertida e interactiva de Los Deseos de Carmela por Matt de la Peña! \n  \nInscríbase aquí: tinyurl.com/tandem2020\nYa se inscribió usted? Sólo tiene que hacerlo una vez.\nBusque en su correo el link para nuestro salón de Zoom.\nEl mensaje tendrá el título “Tandem Event Registration Successful”
URL:https://www.tandembayarea.org/calendar/hora-de-cuentos-en-vivo-los-deseos-de-carmela/
LOCATION:Zoom
ORGANIZER;CN="Tandem%2C Partners in Early Learning":MAILTO:info@tandembayarea.org
END:VEVENT
BEGIN:VEVENT
DTSTART;TZID=America/Los_Angeles:20210311T140000
DTEND;TZID=America/Los_Angeles:20210311T153000
DTSTAMP:20260425T075555
CREATED:20210225T192453Z
LAST-MODIFIED:20210225T192453Z
UID:10000052-1615471200-1615476600@www.tandembayarea.org
SUMMARY:Workshop: 故事時間的魔力 (嬰幼兒)
DESCRIPTION:周四 3月11日 下午2:00\n吸引嬰幼兒學習書籍的技巧和幼兒分享書籍的3個互動小提示 。 \n  \n請在此網站註冊 Register here: tinyurl.com/tandem2020\n已經登記了？ 您只需要登記一次就可以參加我們的全部公開活動。\n請查看您的電子郵件獲取Zoom的鏈接。\n主題 “成功註冊Tandem的活動”
URL:https://www.tandembayarea.org/calendar/workshop-%e6%95%85%e4%ba%8b%e6%99%82%e9%96%93%e7%9a%84%e9%ad%94%e5%8a%9b-%e5%ac%b0%e5%b9%bc%e5%85%92/
LOCATION:Zoom
ORGANIZER;CN="Tandem%2C Partners in Early Learning":MAILTO:info@tandembayarea.org
END:VEVENT
BEGIN:VEVENT
DTSTART;TZID=America/Los_Angeles:20210309T150000
DTEND;TZID=America/Los_Angeles:20210309T153000
DTSTAMP:20260425T075555
CREATED:20210301T180244Z
LAST-MODIFIED:20210301T180244Z
UID:10000059-1615302000-1615303800@www.tandembayarea.org
SUMMARY:0至5歲兒童粵語Zoom朗讀: "我才不要捲捲頭!"
DESCRIPTION:星期二  3月9日\n3:00 下午\nTandem早期學習導師，Susan邀請您和您的孩子參加她直播的有趣和互動粵語朗讀。 此朗讀最適合0至5歲的兒童。 \n  \n請在此網站註冊 Register here: tinyurl.com/tandem2020\n已經登記了？ 您只需要登記一次就可以參加我們的全部公開活動。\n請查看您的電子郵件獲取Zoom的鏈接。\n主題 “成功註冊Tandem的活動”
URL:https://www.tandembayarea.org/calendar/cantonese-storytime-march-9-2021/
LOCATION:Zoom
ORGANIZER;CN="Tandem%2C Partners in Early Learning":MAILTO:info@tandembayarea.org
END:VEVENT
BEGIN:VEVENT
DTSTART;TZID=America/Los_Angeles:20210303T190000
DTEND;TZID=America/Los_Angeles:20210303T203000
DTSTAMP:20260425T075555
CREATED:20210120T223625Z
LAST-MODIFIED:20210120T223625Z
UID:10000180-1614798000-1614803400@www.tandembayarea.org
SUMMARY:Webinar: Children & Play: Supporting the Developing Child
DESCRIPTION:Children & Play: Supporting the Developing Child\nPlay is vital for developing children’s critical thinking and social skills. In this workshop\, families will share ideas about how to facilitate play at home and practice using supportive language to build children’s early learning skills. \n  \nRegister here: tinyurl.com/tandem2020\nAlready Registered? You only need to do it once for all our public events.\nCheck your email for the link to our Zoom Room.\nSubject “Tandem Event Registration Successful”
URL:https://www.tandembayarea.org/calendar/webinar-children-play-supporting-the-developing-child/
LOCATION:Zoom
ORGANIZER;CN="Tandem%2C Partners in Early Learning":MAILTO:info@tandembayarea.org
END:VEVENT
BEGIN:VEVENT
DTSTART;TZID=America/Los_Angeles:20210225T153000
DTEND;TZID=America/Los_Angeles:20210225T160000
DTSTAMP:20260425T075555
CREATED:20210114T202033Z
LAST-MODIFIED:20210129T231702Z
UID:10000178-1614267000-1614268800@www.tandembayarea.org
SUMMARY:Hora de cuentos en vivo: Lola en la biblioteca
DESCRIPTION:Para niños de 0 a 5 años\n¡Acompáñenos para una lectura divertida e interactiva de Lola en la biblioteca por Anna McQuinn y Rosalind Beardshaw! \n  \nInscríbase aquí: tinyurl.com/tandem2020\nYa se inscribió usted? Sólo tiene que hacerlo una vez.\nBusque en su correo el link para nuestro salón de Zoom.\nEl mensaje tendrá el título “Tandem Event Registration Successful”
URL:https://www.tandembayarea.org/calendar/hora-de-cuentos-en-vivo-lola-en-la-biblioteca/
LOCATION:Zoom
ORGANIZER;CN="Tandem%2C Partners in Early Learning":MAILTO:info@tandembayarea.org
END:VEVENT
BEGIN:VEVENT
DTSTART;TZID=America/Los_Angeles:20210225T150000
DTEND;TZID=America/Los_Angeles:20210225T153000
DTSTAMP:20260425T075555
CREATED:20210114T201545Z
LAST-MODIFIED:20210129T231633Z
UID:10000177-1614265200-1614267000@www.tandembayarea.org
SUMMARY:Live Read Aloud: Jabari Tries by Gaia Cornwall
DESCRIPTION:For children ages 0-5!\nJoin us for an engaging\, interactive\, LIVE Read Aloud of Jabari Tries by Gaia Cornwall!  \n  \nRegister here: tinyurl.com/tandem2020\nAlready Registered? You only need to do it once for all our public events.\nCheck your email for the link to our Zoom Room.\nSubject “Tandem Event Registration Successful”
URL:https://www.tandembayarea.org/calendar/live-read-aloud-jabari-tries/
LOCATION:Zoom
ORGANIZER;CN="Tandem%2C Partners in Early Learning":MAILTO:info@tandembayarea.org
END:VEVENT
BEGIN:VEVENT
DTSTART;TZID=America/Los_Angeles:20210224T180000
DTEND;TZID=America/Los_Angeles:20210224T190000
DTSTAMP:20260425T075555
CREATED:20210205T004255Z
LAST-MODIFIED:20210205T004255Z
UID:10000051-1614189600-1614193200@www.tandembayarea.org
SUMMARY:Live Author Panel: Celebrating Black Voices in Children's Literature
DESCRIPTION:Hear four favorite Tandem authors talking about why they write\, what their books are about\, and what they want children and grownups to take away from reading them! \n  \nFREE EVENT: Register now to save your spot!
URL:https://www.tandembayarea.org/calendar/live-author-panel-celebrating-black-voices-in-childrens-literature/
LOCATION:Zoom
ORGANIZER;CN="Tandem%2C Partners in Early Learning":MAILTO:info@tandembayarea.org
END:VEVENT
BEGIN:VEVENT
DTSTART;TZID=America/Los_Angeles:20210223T150000
DTEND;TZID=America/Los_Angeles:20210223T153000
DTSTAMP:20260425T075555
CREATED:20210129T180643Z
LAST-MODIFIED:20210129T180643Z
UID:10000049-1614092400-1614094200@www.tandembayarea.org
SUMMARY:0至5歲兒童粵語Zoom朗讀: "我喜歡我自己"
DESCRIPTION:星期二  2月23日\n3:00 下午\nTandem早期學習導師，Susan邀請您和您的孩子參加她直播的有趣和互動粵語朗讀。 此朗讀最適合0至5歲的兒童。 \n  \n請在此網站註冊 Register here: tinyurl.com/tandem2020\n已經登記了？ 您只需要登記一次就可以參加我們的全部公開活動。\n請查看您的電子郵件獲取Zoom的鏈接。\n主題 “成功註冊Tandem的活動”
URL:https://www.tandembayarea.org/calendar/0%e8%87%b35%e6%ad%b2%e5%85%92%e7%ab%a5%e7%b2%b5%e8%aa%9ezoom%e6%9c%97%e8%ae%80-%e6%88%91%e5%96%9c%e6%ad%a1%e6%88%91%e8%87%aa%e5%b7%b1/
LOCATION:Zoom
ORGANIZER;CN="Tandem%2C Partners in Early Learning":MAILTO:info@tandembayarea.org
END:VEVENT
BEGIN:VEVENT
DTSTART;TZID=America/Los_Angeles:20210218T153000
DTEND;TZID=America/Los_Angeles:20210218T160000
DTSTAMP:20260425T075555
CREATED:20210114T201233Z
LAST-MODIFIED:20210114T201233Z
UID:10000176-1613662200-1613664000@www.tandembayarea.org
SUMMARY:Hora de cuentos en vivo: Me llamo Celia
DESCRIPTION:Para niños de 0 a 5 años\n¡Acompáñenos para una lectura divertida e interactiva de Me llamo Celia por Monica Brown! \n  \nInscríbase aquí: tinyurl.com/tandem2020\nYa se inscribió usted? Sólo tiene que hacerlo una vez.\nBusque en su correo el link para nuestro salón de Zoom.\nEl mensaje tendrá el título “Tandem Event Registration Successful”
URL:https://www.tandembayarea.org/calendar/hora-de-cuentos-en-vivo-me-llamo-celia/
LOCATION:Zoom
ORGANIZER;CN="Tandem%2C Partners in Early Learning":MAILTO:info@tandembayarea.org
END:VEVENT
BEGIN:VEVENT
DTSTART;TZID=America/Los_Angeles:20210218T150000
DTEND;TZID=America/Los_Angeles:20210218T153000
DTSTAMP:20260425T075555
CREATED:20210114T201003Z
LAST-MODIFIED:20210114T201003Z
UID:10000174-1613660400-1613662200@www.tandembayarea.org
SUMMARY:Live Read Aloud: My Name is Celia
DESCRIPTION:For children ages 0-5!\nJoin us for an engaging\, interactive\, LIVE Read Aloud of My Name is Celia by Monica Brown!  \n  \nRegister here: tinyurl.com/tandem2020\nAlready Registered? You only need to do it once for all our public events.\nCheck your email for the link to our Zoom Room.\nSubject “Tandem Event Registration Successful”
URL:https://www.tandembayarea.org/calendar/live-read-aloud-my-name-is-celia/
LOCATION:Zoom
ORGANIZER;CN="Tandem%2C Partners in Early Learning":MAILTO:info@tandembayarea.org
END:VEVENT
BEGIN:VEVENT
DTSTART;TZID=America/Los_Angeles:20210216T150000
DTEND;TZID=America/Los_Angeles:20210216T153000
DTSTAMP:20260425T075555
CREATED:20210129T180454Z
LAST-MODIFIED:20210129T180454Z
UID:10000047-1613487600-1613489400@www.tandembayarea.org
SUMMARY:0至5歲兒童粵語Zoom朗讀: "新年快樂"
DESCRIPTION:星期二  2月16日\n3:00 下午\nTandem早期學習導師，Susan邀請您和您的孩子參加她直播的有趣和互動粵語朗讀。 此朗讀最適合0至5歲的兒童。 \n  \n請在此網站註冊 Register here: tinyurl.com/tandem2020\n已經登記了？ 您只需要登記一次就可以參加我們的全部公開活動。\n請查看您的電子郵件獲取Zoom的鏈接。\n主題 “成功註冊Tandem的活動”
URL:https://www.tandembayarea.org/calendar/0%e8%87%b35%e6%ad%b2%e5%85%92%e7%ab%a5%e7%b2%b5%e8%aa%9ezoom%e6%9c%97%e8%ae%80-%e6%96%b0%e5%b9%b4%e5%bf%ab%e6%a8%82/
LOCATION:Zoom
ORGANIZER;CN="Tandem%2C Partners in Early Learning":MAILTO:info@tandembayarea.org
END:VEVENT
BEGIN:VEVENT
DTSTART;TZID=America/Los_Angeles:20210211T153000
DTEND;TZID=America/Los_Angeles:20210211T160000
DTSTAMP:20260425T075555
CREATED:20210114T200658Z
LAST-MODIFIED:20210114T200658Z
UID:10000173-1613057400-1613059200@www.tandembayarea.org
SUMMARY:Hora de cuentos en vivo: Evelyn Del Rey se muda
DESCRIPTION:Para niños de 0 a 5 años\n¡Acompáñenos para una lectura divertida e interactiva de Evelyn Del Rey se muda por Meg Medina! \n  \nInscríbase aquí: tinyurl.com/tandem2020\nYa se inscribió usted? Sólo tiene que hacerlo una vez.\nBusque en su correo el link para nuestro salón de Zoom.\nEl mensaje tendrá el título “Tandem Event Registration Successful”
URL:https://www.tandembayarea.org/calendar/hora-de-cuentos-en-vivo-evelyn-del-rey-se-muda/
LOCATION:Zoom
ORGANIZER;CN="Tandem%2C Partners in Early Learning":MAILTO:info@tandembayarea.org
END:VEVENT
BEGIN:VEVENT
DTSTART;TZID=America/Los_Angeles:20210211T150000
DTEND;TZID=America/Los_Angeles:20210211T153000
DTSTAMP:20260425T075555
CREATED:20210114T200212Z
LAST-MODIFIED:20210114T200324Z
UID:10000172-1613055600-1613057400@www.tandembayarea.org
SUMMARY:Live Read Aloud: Saturday by Oge Mora
DESCRIPTION:For children ages 0-5!\nJoin us for an engaging\, interactive\, LIVE Read Aloud of Saturday by Oge Mora!  \n  \nRegister here: tinyurl.com/tandem2020\nAlready Registered? You only need to do it once for all our public events.\nCheck your email for the link to our Zoom Room.\nSubject “Tandem Event Registration Successful”
URL:https://www.tandembayarea.org/calendar/live-read-aloud-saturday-by-oge-mora/
LOCATION:Zoom
ORGANIZER;CN="Tandem%2C Partners in Early Learning":MAILTO:info@tandembayarea.org
END:VEVENT
BEGIN:VEVENT
DTSTART;TZID=America/Los_Angeles:20210209T150000
DTEND;TZID=America/Los_Angeles:20210209T153000
DTSTAMP:20260425T075555
CREATED:20210129T180204Z
LAST-MODIFIED:20210129T180204Z
UID:10000045-1612882800-1612884600@www.tandembayarea.org
SUMMARY:0至5歲兒童粵語Zoom朗讀: "我的第一個農曆新年"
DESCRIPTION:星期二  2月9日\n3:00 下午\nTandem早期學習導師，Susan邀請您和您的孩子參加她直播的有趣和互動粵語朗讀。 此朗讀最適合0至5歲的兒童。 \n  \n請在此網站註冊 Register here: tinyurl.com/tandem2020\n已經登記了？ 您只需要登記一次就可以參加我們的全部公開活動。\n請查看您的電子郵件獲取Zoom的鏈接。\n主題 “成功註冊Tandem的活動”
URL:https://www.tandembayarea.org/calendar/0%e8%87%b35%e6%ad%b2%e5%85%92%e7%ab%a5%e7%b2%b5%e8%aa%9ezoom%e6%9c%97%e8%ae%80-%e6%88%91%e7%9a%84%e7%ac%ac%e4%b8%80%e5%80%8b%e8%be%b2%e6%9b%86%e6%96%b0%e5%b9%b4/
LOCATION:Zoom
ORGANIZER;CN="Tandem%2C Partners in Early Learning":MAILTO:info@tandembayarea.org
END:VEVENT
BEGIN:VEVENT
DTSTART;TZID=America/Los_Angeles:20210204T153000
DTEND;TZID=America/Los_Angeles:20210204T160000
DTSTAMP:20260425T075555
CREATED:20210114T195759Z
LAST-MODIFIED:20210114T195759Z
UID:10000160-1612452600-1612454400@www.tandembayarea.org
SUMMARY:Hora de cuentos en vivo: Ultima parada de la calle Market
DESCRIPTION:Para niños de 0 a 5 años\n¡Acompáñenos para una lectura divertida e interactiva de Ultima parada de la calle Market por Matt de la Pena y Christian Robinson! \n  \nInscríbase aquí: tinyurl.com/tandem2020\nYa se inscribió usted? Sólo tiene que hacerlo una vez.\nBusque en su correo el link para nuestro salón de Zoom.\nEl mensaje tendrá el título “Tandem Event Registration Successful”
URL:https://www.tandembayarea.org/calendar/hora-de-cuentos-en-vivo-ultima-parada-de-la-calle-market/
LOCATION:Zoom
ORGANIZER;CN="Tandem%2C Partners in Early Learning":MAILTO:info@tandembayarea.org
END:VEVENT
BEGIN:VEVENT
DTSTART;TZID=America/Los_Angeles:20210204T150000
DTEND;TZID=America/Los_Angeles:20210204T153000
DTSTAMP:20260425T075555
CREATED:20210114T194117Z
LAST-MODIFIED:20210114T194117Z
UID:10000158-1612450800-1612452600@www.tandembayarea.org
SUMMARY:Live Read Aloud: I Am Every Good Thing
DESCRIPTION:For children ages 0-5!\nJoin us for an engaging\, interactive\, LIVE Read Aloud of I Am Every Good Thing by Derrick Barnes and Gordon C. James!  \n  \nRegister here: tinyurl.com/tandem2020\nAlready Registered? You only need to do it once for all our public events.\nCheck your email for the link to our Zoom Room.\nSubject “Tandem Event Registration Successful”
URL:https://www.tandembayarea.org/calendar/live-read-aloud-i-am-every-good-thing/
LOCATION:Zoom
ORGANIZER;CN="Tandem%2C Partners in Early Learning":MAILTO:info@tandembayarea.org
END:VEVENT
BEGIN:VEVENT
DTSTART;TZID=America/Los_Angeles:20210202T150000
DTEND;TZID=America/Los_Angeles:20210202T153000
DTSTAMP:20260425T075555
CREATED:20210129T175903Z
LAST-MODIFIED:20210129T175903Z
UID:10000042-1612278000-1612279800@www.tandembayarea.org
SUMMARY:0至5歲兒童粵語Zoom朗讀: 發芽，種子，發芽！
DESCRIPTION:星期二  2月2日\n3:00 下午\nTandem早期學習導師，Susan邀請您和您的孩子參加她直播的有趣和互動粵語朗讀。 此朗讀最適合0至5歲的兒童。 \n  \n請在此網站註冊 Register here: tinyurl.com/tandem2020\n已經登記了？ 您只需要登記一次就可以參加我們的全部公開活動。\n請查看您的電子郵件獲取Zoom的鏈接。\n主題 “成功註冊Tandem的活動”
URL:https://www.tandembayarea.org/calendar/0%e8%87%b35%e6%ad%b2%e5%85%92%e7%ab%a5%e7%b2%b5%e8%aa%9ezoom%e6%9c%97%e8%ae%80-%e7%99%bc%e8%8a%bd%ef%bc%8c%e7%a8%ae%e5%ad%90%ef%bc%8c%e7%99%bc%e8%8a%bd%ef%bc%81/
LOCATION:Zoom
ORGANIZER;CN="Tandem%2C Partners in Early Learning":MAILTO:info@tandembayarea.org
END:VEVENT
BEGIN:VEVENT
DTSTART;TZID=America/Los_Angeles:20210126T150000
DTEND;TZID=America/Los_Angeles:20210126T160000
DTSTAMP:20260425T075555
CREATED:20210111T175629Z
LAST-MODIFIED:20210111T175629Z
UID:10000156-1611673200-1611676800@www.tandembayarea.org
SUMMARY:0至5歲兒童粵語Zoom朗讀: "大家都會畫畫"
DESCRIPTION:星期二  1月26日\n3:00 下午\nTandem早期學習導師，Susan邀請您和您的孩子參加她直播的有趣和互動粵語朗讀。 此朗讀最適合0至5歲的兒童。 \n  \n請在此網站註冊 Register here: tinyurl.com/tandem2020\n已經登記了？ 您只需要登記一次就可以參加我們的全部公開活動。\n請查看您的電子郵件獲取Zoom的鏈接。\n主題 “成功註冊Tandem的活動”
URL:https://www.tandembayarea.org/calendar/0%e8%87%b35%e6%ad%b2%e5%85%92%e7%ab%a5%e7%b2%b5%e8%aa%9ezoom%e6%9c%97%e8%ae%80-%e5%a4%a7%e5%ae%b6%e9%83%bd%e6%9c%83%e7%95%ab%e7%95%ab/
LOCATION:Zoom
ORGANIZER;CN="Tandem%2C Partners in Early Learning":MAILTO:info@tandembayarea.org
END:VEVENT
END:VCALENDAR