BEGIN:VCALENDAR
VERSION:2.0
PRODID:-//Tandem - ECPv6.15.12//NONSGML v1.0//EN
CALSCALE:GREGORIAN
METHOD:PUBLISH
X-WR-CALNAME:Tandem
X-ORIGINAL-URL:https://www.tandembayarea.org
X-WR-CALDESC:Events for Tandem
REFRESH-INTERVAL;VALUE=DURATION:PT1H
X-Robots-Tag:noindex
X-PUBLISHED-TTL:PT1H
BEGIN:VTIMEZONE
TZID:America/Los_Angeles
BEGIN:DAYLIGHT
TZOFFSETFROM:-0800
TZOFFSETTO:-0700
TZNAME:PDT
DTSTART:20210314T100000
END:DAYLIGHT
BEGIN:STANDARD
TZOFFSETFROM:-0700
TZOFFSETTO:-0800
TZNAME:PST
DTSTART:20211107T090000
END:STANDARD
BEGIN:DAYLIGHT
TZOFFSETFROM:-0800
TZOFFSETTO:-0700
TZNAME:PDT
DTSTART:20220313T100000
END:DAYLIGHT
BEGIN:STANDARD
TZOFFSETFROM:-0700
TZOFFSETTO:-0800
TZNAME:PST
DTSTART:20221106T090000
END:STANDARD
BEGIN:DAYLIGHT
TZOFFSETFROM:-0800
TZOFFSETTO:-0700
TZNAME:PDT
DTSTART:20230312T100000
END:DAYLIGHT
BEGIN:STANDARD
TZOFFSETFROM:-0700
TZOFFSETTO:-0800
TZNAME:PST
DTSTART:20231105T090000
END:STANDARD
BEGIN:DAYLIGHT
TZOFFSETFROM:-0800
TZOFFSETTO:-0700
TZNAME:PDT
DTSTART:20240310T100000
END:DAYLIGHT
BEGIN:STANDARD
TZOFFSETFROM:-0700
TZOFFSETTO:-0800
TZNAME:PST
DTSTART:20241103T090000
END:STANDARD
END:VTIMEZONE
BEGIN:VEVENT
DTSTART;TZID=America/Los_Angeles:20230309T190000
DTEND;TZID=America/Los_Angeles:20230309T203000
DTSTAMP:20260424T141919
CREATED:20221007T223947Z
LAST-MODIFIED:20221007T223947Z
UID:10000146-1678388400-1678393800@www.tandembayarea.org
SUMMARY:Workshop: Trauma 101: Brain and Behavior (創傷101: 大腦與行為) English with Cantonese Translation
DESCRIPTION:Join us for a free online educator workshop\, hosted by CocoKids! \nJoin us to learn about the basics of emotional trauma. What is it? How does it affect a child’s brain and behavior? And what can we do about it? \nClick here to register.\nTo receive more event reminders directly to your inbox\, please register here: tandem.ngo/signup
URL:https://www.tandembayarea.org/calendar/workshop-trauma-101-brain-and-behavior-%e5%89%b5%e5%82%b7101-%e5%a4%a7%e8%85%a6%e8%88%87%e8%a1%8c%e7%82%ba-english-with-cantonese-translation/
LOCATION:Zoom
ATTACH;FMTTYPE=image/png:https://www.tandembayarea.org/wp-content/uploads/2022/10/trauma-101.png
END:VEVENT
BEGIN:VEVENT
DTSTART;TZID=America/Los_Angeles:20230308T100000
DTEND;TZID=America/Los_Angeles:20230308T103000
DTSTAMP:20260424T141919
CREATED:20220830T211759Z
LAST-MODIFIED:20230225T002416Z
UID:10000282-1678269600-1678271400@www.tandembayarea.org
SUMMARY:Hora de cuentos en vivo
DESCRIPTION:Para niños de 0 a 5 años \n¡Acompáñenos para una lectura divertida e interactiva! \nInscríbase aquí: www.tandem.ngo/signup \n¿Ya se inscribió usted? Sólo tiene que hacerlo una vez. Busque en su correo el enlace para nuestro salón de Zoom. El mensaje tendrá el título “Tandem Event Registration Successful!”
URL:https://www.tandembayarea.org/calendar/hora-de-cuentos-en-vivo/2023-03-08/
LOCATION:Zoom
ORGANIZER;CN="Tandem%2C Partners in Early Learning":MAILTO:info@tandembayarea.org
END:VEVENT
BEGIN:VEVENT
DTSTART;TZID=America/Los_Angeles:20230301T100000
DTEND;TZID=America/Los_Angeles:20230301T103000
DTSTAMP:20260424T141919
CREATED:20220830T210926Z
LAST-MODIFIED:20230225T002708Z
UID:10000292-1677664800-1677666600@www.tandembayarea.org
SUMMARY:Live Zoom Read Aloud
DESCRIPTION:For children ages 0-5! Join us for an engaging\, interactive\, LIVE Read Aloud! \nRegister here: www.tandem.ngo/signup \nAlready Registered? You only need to do it once for all our public events. Check your email for the link to our Zoom Room. Subject “Tandem Event Registration Successful”
URL:https://www.tandembayarea.org/calendar/live-zoom-read-aloud/2023-03-01/
LOCATION:Zoom
ORGANIZER;CN="Tandem%2C Partners in Early Learning":MAILTO:info@tandembayarea.org
END:VEVENT
BEGIN:VEVENT
DTSTART;TZID=America/Los_Angeles:20230228T190000
DTEND;TZID=America/Los_Angeles:20230228T203000
DTSTAMP:20260424T141919
CREATED:20221005T224823Z
LAST-MODIFIED:20221007T220328Z
UID:10000318-1677610800-1677616200@www.tandembayarea.org
SUMMARY:Taller: Compartiendo Cuentos y Sentimientos
DESCRIPTION:En linea via CocoKids. \nEl uso de libros para apoyar el desarrollo social y emocional de los niños no solo es beneficioso sino también es divertido. Acompañenos para una demostración interactiva de como usar libros de cuentos ilustrados para fomentar un desarrollo social y emocional saludable. \nHaga clic para registrarse\nPara recibir recordatorios de nuestros eventos directamente en su correo\, por favor regístrese aquí: tandem.ngo/signup
URL:https://www.tandembayarea.org/calendar/taller-cuentos-y-sentimientos/
LOCATION:Zoom
ATTACH;FMTTYPE=image/jpeg:https://www.tandembayarea.org/wp-content/uploads/2022/10/CydWBjGC6Wd0kLwaXsyl-vltiUBQbLPQ9kPH4SehuJs.jpg
END:VEVENT
BEGIN:VEVENT
DTSTART;TZID=America/Los_Angeles:20230216T190000
DTEND;TZID=America/Los_Angeles:20230216T203000
DTSTAMP:20260424T141919
CREATED:20221005T223505Z
LAST-MODIFIED:20221005T235215Z
UID:10000317-1676574000-1676579400@www.tandembayarea.org
SUMMARY:Workshop: 分享故事，分享感情 (Sharing Stories\, Sharing Feelings) Presented in Cantonese
DESCRIPTION:Join us for a free online educator workshop\, hosted by CocoKids! \n用書籍來支持孩子的社交和情緒技能不僅是有益的，而且很有趣。請加入我們的互動示範，如何使用繪本來鼓勵健康的社交和情緒發展。 \n請在此網站註冊 \nUsing books to support children’s social and emotional skills is not only beneficial\, but fun. Join us for an interactive demonstration of how to use picture books to encourage healthy social and emotional development. \nClick here to register. \nTo receive more event reminders directly to your inbox\, please register here: tandem.ngo/signup
URL:https://www.tandembayarea.org/calendar/workshop-%e5%88%86%e4%ba%ab%e6%95%85%e4%ba%8b%ef%bc%8c%e5%88%86%e4%ba%ab%e6%84%9f%e6%83%85-sharing-stories-sharing-feelings-presented-in-cantonese/
LOCATION:Zoom
ATTACH;FMTTYPE=image/jpeg:https://www.tandembayarea.org/wp-content/uploads/2022/10/CydWBjGC6Wd0kLwaXsyl-vltiUBQbLPQ9kPH4SehuJs.jpg
END:VEVENT
BEGIN:VEVENT
DTSTART;TZID=America/Los_Angeles:20230215T100000
DTEND;TZID=America/Los_Angeles:20230215T103000
DTSTAMP:20260424T141919
CREATED:20220830T212247Z
LAST-MODIFIED:20230225T002539Z
UID:10000301-1676455200-1676457000@www.tandembayarea.org
SUMMARY:0至5歲兒童粵語Zoom朗讀
DESCRIPTION:Tandem早期學習導師，Tandem邀請您和您的孩子參加她直播的有趣和互動粵語朗讀。 此朗讀最適合0至5歲的兒童。 \n請在此網站註冊 Register here: www.tandem.ngo/signup \n已經登記了？ 您只需要登記一次就可以參加我們的全部公開活動。 請查看您的電子郵件獲取Zoom的鏈接。 主題 “成功註冊Tandem的活動”
URL:https://www.tandembayarea.org/calendar/0%e8%87%b35%e6%ad%b2%e5%85%92%e7%ab%a5%e7%b2%b5%e8%aa%9ezoom%e6%9c%97%e8%ae%80-2/2023-02-15/
LOCATION:Zoom
ORGANIZER;CN="Tandem%2C Partners in Early Learning":MAILTO:info@tandembayarea.org
END:VEVENT
BEGIN:VEVENT
DTSTART;TZID=America/Los_Angeles:20230209T190000
DTEND;TZID=America/Los_Angeles:20230209T203000
DTSTAMP:20260424T141919
CREATED:20221005T222018Z
LAST-MODIFIED:20221005T235254Z
UID:10000316-1675969200-1675974600@www.tandembayarea.org
SUMMARY:Workshop: Sharing Stories\, Sharing Feelings
DESCRIPTION:Join us for a free online educator workshop\, hosted by CocoKids! \nUsing books to support children’s social and emotional skills is not only beneficial\, but fun. Join us for an interactive demonstration of how to use picture books to encourage healthy social and emotional development. \nClick here to register.\nTo receive more event reminders directly to your inbox\, please register here: tandem.ngo/signup
URL:https://www.tandembayarea.org/calendar/workshop-sharing-stories-sharing-feelings-2/
LOCATION:Zoom
ATTACH;FMTTYPE=image/jpeg:https://www.tandembayarea.org/wp-content/uploads/2022/10/CydWBjGC6Wd0kLwaXsyl-vltiUBQbLPQ9kPH4SehuJs.jpg
END:VEVENT
BEGIN:VEVENT
DTSTART;TZID=America/Los_Angeles:20230208T100000
DTEND;TZID=America/Los_Angeles:20230208T103000
DTSTAMP:20260424T141919
CREATED:20220830T211759Z
LAST-MODIFIED:20230225T002416Z
UID:10000281-1675850400-1675852200@www.tandembayarea.org
SUMMARY:Hora de cuentos en vivo
DESCRIPTION:Para niños de 0 a 5 años \n¡Acompáñenos para una lectura divertida e interactiva! \nInscríbase aquí: www.tandem.ngo/signup \n¿Ya se inscribió usted? Sólo tiene que hacerlo una vez. Busque en su correo el enlace para nuestro salón de Zoom. El mensaje tendrá el título “Tandem Event Registration Successful!”
URL:https://www.tandembayarea.org/calendar/hora-de-cuentos-en-vivo/2023-02-08/
LOCATION:Zoom
ORGANIZER;CN="Tandem%2C Partners in Early Learning":MAILTO:info@tandembayarea.org
END:VEVENT
BEGIN:VEVENT
DTSTART;TZID=America/Los_Angeles:20230201T100000
DTEND;TZID=America/Los_Angeles:20230201T103000
DTSTAMP:20260424T141919
CREATED:20220830T210926Z
LAST-MODIFIED:20230225T002708Z
UID:10000291-1675245600-1675247400@www.tandembayarea.org
SUMMARY:Live Zoom Read Aloud
DESCRIPTION:For children ages 0-5! Join us for an engaging\, interactive\, LIVE Read Aloud! \nRegister here: www.tandem.ngo/signup \nAlready Registered? You only need to do it once for all our public events. Check your email for the link to our Zoom Room. Subject “Tandem Event Registration Successful”
URL:https://www.tandembayarea.org/calendar/live-zoom-read-aloud/2023-02-01/
LOCATION:Zoom
ORGANIZER;CN="Tandem%2C Partners in Early Learning":MAILTO:info@tandembayarea.org
END:VEVENT
BEGIN:VEVENT
DTSTART;TZID=America/Los_Angeles:20230124T190000
DTEND;TZID=America/Los_Angeles:20230124T203000
DTSTAMP:20260424T141919
CREATED:20221007T222922Z
LAST-MODIFIED:20221007T222922Z
UID:10000323-1674586800-1674592200@www.tandembayarea.org
SUMMARY:Taller: El juego y la niñez: apoyando el desarrollo infantil
DESCRIPTION:En linea via CocoKids. \nEn este taller interactivo\, los participantes aprenderán sobre el desarrollo del juego; a enumerar los beneficios sociales\, cognitivos y de desarrollo que produce el juego; y explorar formas de apoyar el tiempo de juego para los niños bajo su cuidado. \nHaga clic para registrarse\nPara recibir recordatorios de nuestros eventos directamente en su correo\, por favor regístrese aquí: tandem.ngo/signup
URL:https://www.tandembayarea.org/calendar/taller-el-juego-y-la-ninez-apoyando-el-desarrollo-infantil/
LOCATION:Zoom
ATTACH;FMTTYPE=image/jpeg:https://www.tandembayarea.org/wp-content/uploads/2022/10/children-and-play.jpeg
END:VEVENT
BEGIN:VEVENT
DTSTART;TZID=America/Los_Angeles:20230118T100000
DTEND;TZID=America/Los_Angeles:20230118T103000
DTSTAMP:20260424T141919
CREATED:20220830T212247Z
LAST-MODIFIED:20230225T002539Z
UID:10000300-1674036000-1674037800@www.tandembayarea.org
SUMMARY:0至5歲兒童粵語Zoom朗讀
DESCRIPTION:Tandem早期學習導師，Tandem邀請您和您的孩子參加她直播的有趣和互動粵語朗讀。 此朗讀最適合0至5歲的兒童。 \n請在此網站註冊 Register here: www.tandem.ngo/signup \n已經登記了？ 您只需要登記一次就可以參加我們的全部公開活動。 請查看您的電子郵件獲取Zoom的鏈接。 主題 “成功註冊Tandem的活動”
URL:https://www.tandembayarea.org/calendar/0%e8%87%b35%e6%ad%b2%e5%85%92%e7%ab%a5%e7%b2%b5%e8%aa%9ezoom%e6%9c%97%e8%ae%80-2/2023-01-18/
LOCATION:Zoom
ORGANIZER;CN="Tandem%2C Partners in Early Learning":MAILTO:info@tandembayarea.org
END:VEVENT
BEGIN:VEVENT
DTSTART;TZID=America/Los_Angeles:20230112T190000
DTEND;TZID=America/Los_Angeles:20230112T203000
DTSTAMP:20260424T141919
CREATED:20221007T222152Z
LAST-MODIFIED:20221007T222152Z
UID:10000322-1673550000-1673555400@www.tandembayarea.org
SUMMARY:Workshop: Children and Play: Supporting the Developing Child (English with Cantonese translation)
DESCRIPTION:Join us for a free online educator workshop\, hosted by CocoKids! \nJoin us to learn more about the power and benefits of play! We’ll look at how different types of play develop through the early years\, and think about ways to support play in the classroom. \nClick here to register.\nTo receive more event reminders directly to your inbox\, please register here: tandem.ngo/signup
URL:https://www.tandembayarea.org/calendar/workshop-children-and-play-supporting-the-developing-child-english-with-cantonese-translation/
LOCATION:Zoom
ATTACH;FMTTYPE=image/jpeg:https://www.tandembayarea.org/wp-content/uploads/2022/10/children-and-play.jpeg
END:VEVENT
BEGIN:VEVENT
DTSTART;TZID=America/Los_Angeles:20230111T100000
DTEND;TZID=America/Los_Angeles:20230111T103000
DTSTAMP:20260424T141919
CREATED:20220830T211759Z
LAST-MODIFIED:20230225T002416Z
UID:10000280-1673431200-1673433000@www.tandembayarea.org
SUMMARY:Hora de cuentos en vivo
DESCRIPTION:Para niños de 0 a 5 años \n¡Acompáñenos para una lectura divertida e interactiva! \nInscríbase aquí: www.tandem.ngo/signup \n¿Ya se inscribió usted? Sólo tiene que hacerlo una vez. Busque en su correo el enlace para nuestro salón de Zoom. El mensaje tendrá el título “Tandem Event Registration Successful!”
URL:https://www.tandembayarea.org/calendar/hora-de-cuentos-en-vivo/2023-01-11/
LOCATION:Zoom
ORGANIZER;CN="Tandem%2C Partners in Early Learning":MAILTO:info@tandembayarea.org
END:VEVENT
BEGIN:VEVENT
DTSTART;TZID=America/Los_Angeles:20230104T100000
DTEND;TZID=America/Los_Angeles:20230104T103000
DTSTAMP:20260424T141919
CREATED:20220830T210926Z
LAST-MODIFIED:20230225T002708Z
UID:10000290-1672826400-1672828200@www.tandembayarea.org
SUMMARY:Live Zoom Read Aloud
DESCRIPTION:For children ages 0-5! Join us for an engaging\, interactive\, LIVE Read Aloud! \nRegister here: www.tandem.ngo/signup \nAlready Registered? You only need to do it once for all our public events. Check your email for the link to our Zoom Room. Subject “Tandem Event Registration Successful”
URL:https://www.tandembayarea.org/calendar/live-zoom-read-aloud/2023-01-04/
LOCATION:Zoom
ORGANIZER;CN="Tandem%2C Partners in Early Learning":MAILTO:info@tandembayarea.org
END:VEVENT
BEGIN:VEVENT
DTSTART;TZID=America/Los_Angeles:20221214T100000
DTEND;TZID=America/Los_Angeles:20221214T103000
DTSTAMP:20260424T141919
CREATED:20220830T211759Z
LAST-MODIFIED:20230225T002416Z
UID:10000279-1671012000-1671013800@www.tandembayarea.org
SUMMARY:Hora de cuentos en vivo
DESCRIPTION:Para niños de 0 a 5 años \n¡Acompáñenos para una lectura divertida e interactiva! \nInscríbase aquí: www.tandem.ngo/signup \n¿Ya se inscribió usted? Sólo tiene que hacerlo una vez. Busque en su correo el enlace para nuestro salón de Zoom. El mensaje tendrá el título “Tandem Event Registration Successful!”
URL:https://www.tandembayarea.org/calendar/hora-de-cuentos-en-vivo/2022-12-14/
LOCATION:Zoom
ORGANIZER;CN="Tandem%2C Partners in Early Learning":MAILTO:info@tandembayarea.org
END:VEVENT
BEGIN:VEVENT
DTSTART;TZID=America/Los_Angeles:20221212T100000
DTEND;TZID=America/Los_Angeles:20221212T103000
DTSTAMP:20260424T141919
CREATED:20220830T212247Z
LAST-MODIFIED:20230225T002539Z
UID:10000299-1670839200-1670841000@www.tandembayarea.org
SUMMARY:0至5歲兒童粵語Zoom朗讀
DESCRIPTION:Tandem早期學習導師，Tandem邀請您和您的孩子參加她直播的有趣和互動粵語朗讀。 此朗讀最適合0至5歲的兒童。 \n請在此網站註冊 Register here: www.tandem.ngo/signup \n已經登記了？ 您只需要登記一次就可以參加我們的全部公開活動。 請查看您的電子郵件獲取Zoom的鏈接。 主題 “成功註冊Tandem的活動”
URL:https://www.tandembayarea.org/calendar/0%e8%87%b35%e6%ad%b2%e5%85%92%e7%ab%a5%e7%b2%b5%e8%aa%9ezoom%e6%9c%97%e8%ae%80-2/2022-12-12/
LOCATION:Zoom
ORGANIZER;CN="Tandem%2C Partners in Early Learning":MAILTO:info@tandembayarea.org
END:VEVENT
BEGIN:VEVENT
DTSTART;TZID=America/Los_Angeles:20221207T100000
DTEND;TZID=America/Los_Angeles:20221207T103000
DTSTAMP:20260424T141919
CREATED:20220830T210926Z
LAST-MODIFIED:20230225T002708Z
UID:10000289-1670407200-1670409000@www.tandembayarea.org
SUMMARY:Live Zoom Read Aloud
DESCRIPTION:For children ages 0-5! Join us for an engaging\, interactive\, LIVE Read Aloud! \nRegister here: www.tandem.ngo/signup \nAlready Registered? You only need to do it once for all our public events. Check your email for the link to our Zoom Room. Subject “Tandem Event Registration Successful”
URL:https://www.tandembayarea.org/calendar/live-zoom-read-aloud/2022-12-07/
LOCATION:Zoom
ORGANIZER;CN="Tandem%2C Partners in Early Learning":MAILTO:info@tandembayarea.org
END:VEVENT
BEGIN:VEVENT
DTSTART;TZID=America/Los_Angeles:20221122T190000
DTEND;TZID=America/Los_Angeles:20221122T203000
DTSTAMP:20260424T141919
CREATED:20221005T213743Z
LAST-MODIFIED:20221007T220439Z
UID:10000315-1669143600-1669149000@www.tandembayarea.org
SUMMARY:Taller: Las matemáticas en la hora de cuentos
DESCRIPTION:En linea via CocoKids. \nLas matemáticas se encuentran a nuestro alrededor\, incluso en algunos de nuestros libros de cuentos favoritos. Acompañenos a descubrir maneras divertidas y fáciles de incorporar conversaciones matemáticas durante la hora de cuentos usando cualquier libro ilustrado para niños. \nHaga clic para registrarse\nPara recibir recordatorios de nuestros eventos directamente en su correo\, por favor regístrese aquí: tandem.ngo/signup
URL:https://www.tandembayarea.org/calendar/taller-las-matematicas-en-la-hora-de-cuentos/
LOCATION:Zoom
ATTACH;FMTTYPE=image/jpeg:https://www.tandembayarea.org/wp-content/uploads/2022/10/2022-10-05-12.24.42.jpg
END:VEVENT
BEGIN:VEVENT
DTSTART;TZID=America/Los_Angeles:20221117T190000
DTEND;TZID=America/Los_Angeles:20221117T203000
DTSTAMP:20260424T141919
CREATED:20221005T212212Z
LAST-MODIFIED:20221005T235344Z
UID:10000314-1668711600-1668717000@www.tandembayarea.org
SUMMARY:Workshop: 數學在故事書本 (Math in Storybooks) Presented in Cantonese
DESCRIPTION:Join us for a free online educator workshop\, hosted by CocoKids! \n數學就在我們周圍，包括一些我們最喜歡的故事書。請加入我們，通過使用任何插圖兒童書籍來發現有趣、簡單的方法，將數學對話編織到故事時間中。 \n請在此網站註冊\nMath is all around us\, including in some our favorite storybooks. Join us to uncover fun\, easy ways to weave math-talk into storytime by using any illustrated children’s book. \nClick here to register.\nTo receive more event reminders directly to your inbox\, please register here: tandem.ngo/signup
URL:https://www.tandembayarea.org/calendar/workshop-%e6%95%b8%e5%ad%b8%e5%9c%a8%e6%95%85%e4%ba%8b%e6%9b%b8%e6%9c%ac-math-in-storybooks-presented-in-cantonese/
LOCATION:Zoom
ATTACH;FMTTYPE=image/jpeg:https://www.tandembayarea.org/wp-content/uploads/2022/10/2022-10-05-12.24.42.jpg
END:VEVENT
BEGIN:VEVENT
DTSTART;TZID=America/Los_Angeles:20221116T100000
DTEND;TZID=America/Los_Angeles:20221116T103000
DTSTAMP:20260424T141919
CREATED:20220830T212247Z
LAST-MODIFIED:20230225T002539Z
UID:10000298-1668592800-1668594600@www.tandembayarea.org
SUMMARY:0至5歲兒童粵語Zoom朗讀
DESCRIPTION:Tandem早期學習導師，Tandem邀請您和您的孩子參加她直播的有趣和互動粵語朗讀。 此朗讀最適合0至5歲的兒童。 \n請在此網站註冊 Register here: www.tandem.ngo/signup \n已經登記了？ 您只需要登記一次就可以參加我們的全部公開活動。 請查看您的電子郵件獲取Zoom的鏈接。 主題 “成功註冊Tandem的活動”
URL:https://www.tandembayarea.org/calendar/0%e8%87%b35%e6%ad%b2%e5%85%92%e7%ab%a5%e7%b2%b5%e8%aa%9ezoom%e6%9c%97%e8%ae%80-2/2022-11-16/
LOCATION:Zoom
ORGANIZER;CN="Tandem%2C Partners in Early Learning":MAILTO:info@tandembayarea.org
END:VEVENT
BEGIN:VEVENT
DTSTART;TZID=America/Los_Angeles:20221110T190000
DTEND;TZID=America/Los_Angeles:20221110T203000
DTSTAMP:20260424T141919
CREATED:20221005T210529Z
LAST-MODIFIED:20221005T235509Z
UID:10000313-1668106800-1668112200@www.tandembayarea.org
SUMMARY:Workshop: Math in Storybooks
DESCRIPTION:Join us for a free online educator workshop\, hosted by CocoKids! \nMath is all around us\, including in some our favorite storybooks. Join us to uncover fun\, easy ways to weave math-talk into storytime by using any illustrated children’s book. \nClick here to register.\nTo receive more event reminders directly to your inbox\, please register here: tandem.ngo/signup
URL:https://www.tandembayarea.org/calendar/workshop-math-in-storybooks/
LOCATION:Zoom
ATTACH;FMTTYPE=image/jpeg:https://www.tandembayarea.org/wp-content/uploads/2022/10/2022-10-05-12.24.42.jpg
END:VEVENT
BEGIN:VEVENT
DTSTART;TZID=America/Los_Angeles:20221109T183000
DTEND;TZID=America/Los_Angeles:20221109T200000
DTSTAMP:20260424T141919
CREATED:20221102T225739Z
LAST-MODIFIED:20221102T225739Z
UID:10000150-1668018600-1668024000@www.tandembayarea.org
SUMMARY:Oakland Early Learning Symposium
DESCRIPTION:
URL:https://www.tandembayarea.org/calendar/oakland-early-learning-symposium/
LOCATION:Zoom
END:VEVENT
BEGIN:VEVENT
DTSTART;TZID=America/Los_Angeles:20221109T100000
DTEND;TZID=America/Los_Angeles:20221109T103000
DTSTAMP:20260424T141919
CREATED:20220830T211759Z
LAST-MODIFIED:20230225T002416Z
UID:10000278-1667988000-1667989800@www.tandembayarea.org
SUMMARY:Hora de cuentos en vivo
DESCRIPTION:Para niños de 0 a 5 años \n¡Acompáñenos para una lectura divertida e interactiva! \nInscríbase aquí: www.tandem.ngo/signup \n¿Ya se inscribió usted? Sólo tiene que hacerlo una vez. Busque en su correo el enlace para nuestro salón de Zoom. El mensaje tendrá el título “Tandem Event Registration Successful!”
URL:https://www.tandembayarea.org/calendar/hora-de-cuentos-en-vivo/2022-11-09/
LOCATION:Zoom
ORGANIZER;CN="Tandem%2C Partners in Early Learning":MAILTO:info@tandembayarea.org
END:VEVENT
BEGIN:VEVENT
DTSTART;TZID=America/Los_Angeles:20221102T100000
DTEND;TZID=America/Los_Angeles:20221102T103000
DTSTAMP:20260424T141919
CREATED:20220830T210926Z
LAST-MODIFIED:20230225T002708Z
UID:10000288-1667383200-1667385000@www.tandembayarea.org
SUMMARY:Live Zoom Read Aloud
DESCRIPTION:For children ages 0-5! Join us for an engaging\, interactive\, LIVE Read Aloud! \nRegister here: www.tandem.ngo/signup \nAlready Registered? You only need to do it once for all our public events. Check your email for the link to our Zoom Room. Subject “Tandem Event Registration Successful”
URL:https://www.tandembayarea.org/calendar/live-zoom-read-aloud/2022-11-02/
LOCATION:Zoom
ORGANIZER;CN="Tandem%2C Partners in Early Learning":MAILTO:info@tandembayarea.org
END:VEVENT
BEGIN:VEVENT
DTSTART;TZID=America/Los_Angeles:20221025T190000
DTEND;TZID=America/Los_Angeles:20221025T203000
DTSTAMP:20260424T141919
CREATED:20221005T205305Z
LAST-MODIFIED:20221007T220539Z
UID:10000312-1666724400-1666729800@www.tandembayarea.org
SUMMARY:Taller: Jugando con palabras todo el día
DESCRIPTION:En linea via CocoKids. \nLos niñes aprenden lenguaje de todo lo que les rodea y ¡nunca es demasiado temprano para empezar! Hablemos de las 6 destrezas de la alfabetización temprana y practiquemos cómo encontrar oportunidades para desarrollar estas destrezas en cualquier momento y en cualquier lugar. \nHaga clic para registrarse\nPara recibir recordatorios de nuestros eventos directamente en su correo\, por favor regístrese aquí: tandem.ngo/signup
URL:https://www.tandembayarea.org/calendar/taller-jugando-con-palabras-todo-el-dia/
LOCATION:Zoom
ATTACH;FMTTYPE=image/jpeg:https://www.tandembayarea.org/wp-content/uploads/2022/10/QkSU4vyF04bMxnS4A2gNDZIBO4rCXic_Ui5hlTKwhx0.jpg
END:VEVENT
BEGIN:VEVENT
DTSTART;TZID=America/Los_Angeles:20221019T100000
DTEND;TZID=America/Los_Angeles:20221019T103000
DTSTAMP:20260424T141919
CREATED:20220830T212247Z
LAST-MODIFIED:20230225T002539Z
UID:10000297-1666173600-1666175400@www.tandembayarea.org
SUMMARY:0至5歲兒童粵語Zoom朗讀
DESCRIPTION:Tandem早期學習導師，Tandem邀請您和您的孩子參加她直播的有趣和互動粵語朗讀。 此朗讀最適合0至5歲的兒童。 \n請在此網站註冊 Register here: www.tandem.ngo/signup \n已經登記了？ 您只需要登記一次就可以參加我們的全部公開活動。 請查看您的電子郵件獲取Zoom的鏈接。 主題 “成功註冊Tandem的活動”
URL:https://www.tandembayarea.org/calendar/0%e8%87%b35%e6%ad%b2%e5%85%92%e7%ab%a5%e7%b2%b5%e8%aa%9ezoom%e6%9c%97%e8%ae%80-2/2022-10-19/
LOCATION:Zoom
ORGANIZER;CN="Tandem%2C Partners in Early Learning":MAILTO:info@tandembayarea.org
END:VEVENT
BEGIN:VEVENT
DTSTART;TZID=America/Los_Angeles:20221013T190000
DTEND;TZID=America/Los_Angeles:20221013T203000
DTSTAMP:20260424T141919
CREATED:20221005T203707Z
LAST-MODIFIED:20221005T235607Z
UID:10000311-1665687600-1665693000@www.tandembayarea.org
SUMMARY:Workshop: Word Play All Day: The 6 Skills of Early Literacy (文字玩樂一整天: 早期讀寫的六項技能) English with Cantonese translation
DESCRIPTION:Join us for a free online educator workshop\, hosted by CocoKids! \nChildren learn language from everything around them and it’s never too early to start! Let’s talk about the Six Skills of Early Literacy and practice finding opportunities to build these skills anytime\, anywhere. \nClick here to register.\nTo receive more event reminders directly to your inbox\, please register here: tandem.ngo/signup
URL:https://www.tandembayarea.org/calendar/workshop-word-play-all-day-the-6-skills-of-early-literacy-%e6%96%87%e5%ad%97%e7%8e%a9%e6%a8%82%e4%b8%80%e6%95%b4%e5%a4%a9-%e6%97%a9%e6%9c%9f%e8%ae%80%e5%af%ab%e7%9a%84%e5%85%ad%e9%a0%85%e6%8a%80/
LOCATION:Zoom
ATTACH;FMTTYPE=image/jpeg:https://www.tandembayarea.org/wp-content/uploads/2022/10/QkSU4vyF04bMxnS4A2gNDZIBO4rCXic_Ui5hlTKwhx0.jpg
END:VEVENT
BEGIN:VEVENT
DTSTART;TZID=America/Los_Angeles:20221012T100000
DTEND;TZID=America/Los_Angeles:20221012T103000
DTSTAMP:20260424T141919
CREATED:20220830T211759Z
LAST-MODIFIED:20230225T002416Z
UID:10000277-1665568800-1665570600@www.tandembayarea.org
SUMMARY:Hora de cuentos en vivo
DESCRIPTION:Para niños de 0 a 5 años \n¡Acompáñenos para una lectura divertida e interactiva! \nInscríbase aquí: www.tandem.ngo/signup \n¿Ya se inscribió usted? Sólo tiene que hacerlo una vez. Busque en su correo el enlace para nuestro salón de Zoom. El mensaje tendrá el título “Tandem Event Registration Successful!”
URL:https://www.tandembayarea.org/calendar/hora-de-cuentos-en-vivo/2022-10-12/
LOCATION:Zoom
ORGANIZER;CN="Tandem%2C Partners in Early Learning":MAILTO:info@tandembayarea.org
END:VEVENT
BEGIN:VEVENT
DTSTART;TZID=America/Los_Angeles:20221005T100000
DTEND;TZID=America/Los_Angeles:20221005T103000
DTSTAMP:20260424T141919
CREATED:20220830T210926Z
LAST-MODIFIED:20230225T002708Z
UID:10000287-1664964000-1664965800@www.tandembayarea.org
SUMMARY:Live Zoom Read Aloud
DESCRIPTION:For children ages 0-5! Join us for an engaging\, interactive\, LIVE Read Aloud! \nRegister here: www.tandem.ngo/signup \nAlready Registered? You only need to do it once for all our public events. Check your email for the link to our Zoom Room. Subject “Tandem Event Registration Successful”
URL:https://www.tandembayarea.org/calendar/live-zoom-read-aloud/2022-10-05/
LOCATION:Zoom
ORGANIZER;CN="Tandem%2C Partners in Early Learning":MAILTO:info@tandembayarea.org
END:VEVENT
BEGIN:VEVENT
DTSTART;TZID=America/Los_Angeles:20220927T190000
DTEND;TZID=America/Los_Angeles:20220927T203000
DTSTAMP:20260424T141919
CREATED:20220830T213550Z
LAST-MODIFIED:20220830T213550Z
UID:10000306-1664305200-1664310600@www.tandembayarea.org
SUMMARY:Taller: La Magia de la hora de cuentos
DESCRIPTION:En linea via CocoKids. \nLa hora del cuento puede ser el momento más preciado del día para usted y sus alumnos. Puede ser un momento de investigación y risas\, movimiento y diversión. ¡Únase a nosotros para practicar tres estrategias probadas para hacer que sus cuentos sean mágicos! \nHaga clic para registrarse
URL:https://www.tandembayarea.org/calendar/taller-la-magia-de-la-hora-de-cuentos/
LOCATION:Zoom
END:VEVENT
END:VCALENDAR