BEGIN:VCALENDAR
VERSION:2.0
PRODID:-//Tandem - ECPv6.15.12//NONSGML v1.0//EN
CALSCALE:GREGORIAN
METHOD:PUBLISH
X-ORIGINAL-URL:https://www.tandembayarea.org
X-WR-CALDESC:Events for Tandem
REFRESH-INTERVAL;VALUE=DURATION:PT1H
X-Robots-Tag:noindex
X-PUBLISHED-TTL:PT1H
BEGIN:VTIMEZONE
TZID:America/Los_Angeles
BEGIN:DAYLIGHT
TZOFFSETFROM:-0800
TZOFFSETTO:-0700
TZNAME:PDT
DTSTART:20240310T100000
END:DAYLIGHT
BEGIN:STANDARD
TZOFFSETFROM:-0700
TZOFFSETTO:-0800
TZNAME:PST
DTSTART:20241103T090000
END:STANDARD
BEGIN:DAYLIGHT
TZOFFSETFROM:-0800
TZOFFSETTO:-0700
TZNAME:PDT
DTSTART:20250309T100000
END:DAYLIGHT
BEGIN:STANDARD
TZOFFSETFROM:-0700
TZOFFSETTO:-0800
TZNAME:PST
DTSTART:20251102T090000
END:STANDARD
BEGIN:DAYLIGHT
TZOFFSETFROM:-0800
TZOFFSETTO:-0700
TZNAME:PDT
DTSTART:20260308T100000
END:DAYLIGHT
BEGIN:STANDARD
TZOFFSETFROM:-0700
TZOFFSETTO:-0800
TZNAME:PST
DTSTART:20261101T090000
END:STANDARD
BEGIN:DAYLIGHT
TZOFFSETFROM:-0800
TZOFFSETTO:-0700
TZNAME:PDT
DTSTART:20270314T100000
END:DAYLIGHT
BEGIN:STANDARD
TZOFFSETFROM:-0700
TZOFFSETTO:-0800
TZNAME:PST
DTSTART:20271107T090000
END:STANDARD
END:VTIMEZONE
BEGIN:VEVENT
DTSTART;TZID=America/Los_Angeles:20260416T190000
DTEND;TZID=America/Los_Angeles:20260416T203000
DTSTAMP:20260423T132629
CREATED:20251216T181857Z
LAST-MODIFIED:20251216T181857Z
UID:10000845-1776366000-1776371400@www.tandembayarea.org
SUMMARY:Taller: Trauma 101: Cerebro y comportamiento
DESCRIPTION:En este taller introductorio\, los participantes aprenderan sobre lo básico del trauma y sus efectos en el cerebro. Discutirán estrategias para responder a emociones extremas y comportamientos del niñe. Al finalizar el taller\, cada participante creará un plan de apoyo para responder a un niñe que se encuentre a su cuidado. Ésta serie de entrenamientos fue diseñada en conjunto con First 5 Contra Costa. \nHaga clic para registrarse\nPara recibir recordatorios de nuestros eventos directamente en su correo\, por favor regístrese aquí: tandem.ngo/signup
URL:https://www.tandembayarea.org/calendar/taller-trauma-101-cerebro-y-comportamiento-2/
LOCATION:Zoom
END:VEVENT
BEGIN:VEVENT
DTSTART;TZID=America/Los_Angeles:20260409T190000
DTEND;TZID=America/Los_Angeles:20260409T203000
DTSTAMP:20260423T132629
CREATED:20251215T235035Z
LAST-MODIFIED:20251215T235035Z
UID:10000844-1775761200-1775766600@www.tandembayarea.org
SUMMARY:Workshop: Trauma 101 (創傷101)
DESCRIPTION:Join us for a free online educator workshop! \nIn this introductory workshop\, participants will learn about the basics of trauma and its effects on the brain. They’ll discuss strategies for responding to children’s extreme emotions and behaviors. At the end of this workshop\, each participant will create a support plan for responding to an individual child in their care. This training series was co-designed with First 5 Contra Costa. \n在這個介紹性的講座中，參與者將了解創傷的基礎知識及其對大腦的影響。他們將討論應對兒童極端情緒和行為的策略。在講座結束時，每個參與者將創建一個支持計劃，以應對他們照顧的每個兒童。這個訓練系列是與First 5 Contra Costa聯合設計的. \nEnglish with Cantonese Translation \nClick here to register. \nTo receive more event reminders directly to your inbox\, please register here: tandem.ngo/signup
URL:https://www.tandembayarea.org/calendar/workshop-trauma-101-%e5%89%b5%e5%82%b7101/
LOCATION:Zoom
END:VEVENT
BEGIN:VEVENT
DTSTART;TZID=America/Los_Angeles:20260319T190000
DTEND;TZID=America/Los_Angeles:20260319T203000
DTSTAMP:20260423T132629
CREATED:20251215T234201Z
LAST-MODIFIED:20251215T234201Z
UID:10000843-1773946800-1773952200@www.tandembayarea.org
SUMMARY:Taller: Conciencia Fonológica: De Ritmo a Rimas
DESCRIPTION:En este taller\, examinamos los diferentes tipos de conciencia fonológica y conversamos de las destrezas que desarrollan la lectura. Por medio de juegos y actividades divertidos\, los educadores aprenderán métodos para fomentar la conciencia fonológica de manera apropiada al nivel de desarrollo de les niñes. \nHaga clic para registrarse\nPara recibir recordatorios de nuestros eventos directamente en su correo\, por favor regístrese aquí: tandem.ngo/signup
URL:https://www.tandembayarea.org/calendar/taller-conciencia-fonologica-de-ritmo-a-rimas/
LOCATION:Zoom
END:VEVENT
BEGIN:VEVENT
DTSTART;TZID=America/Los_Angeles:20260312T190000
DTEND;TZID=America/Los_Angeles:20260312T203000
DTSTAMP:20260423T132629
CREATED:20251215T232551Z
LAST-MODIFIED:20251215T232948Z
UID:10000842-1773342000-1773347400@www.tandembayarea.org
SUMMARY:Workshop: From Rhythms to Rhymes: Phonological Awareness (從節奏到押韻：語音意識啟蒙)
DESCRIPTION:Join us for a free online educator workshop! \nIn this workshop we examine the different types of phonological awareness and discuss why developing these skills leads to later reading achievement. Through fun games and activities\, educators learn new methods to support young children’s phonological awareness in developmentally appropriate ways. \n從節奏到押韻：語音意識啟蒙\n在這個講座中，我們將探討語音意識的不同類型，並討論為何培養這些技能有助於日後的閱讀能力發展。透過有趣的遊戲和活動，教育工作者將學習新的方法，以符合發展階段的方式，支持幼兒語音意識的培養。 \nEnglish with Cantonese Translation \nClick here to register. \nTo receive more event reminders directly to your inbox\, please register here: tandem.ngo/signup
URL:https://www.tandembayarea.org/calendar/workshop-from-rhythms-to-rhymes-phonological-awareness-%e5%be%9e%e7%af%80%e5%a5%8f%e5%88%b0%e6%8a%bc%e9%9f%bb%ef%bc%9a%e8%aa%9e%e9%9f%b3%e6%84%8f%e8%ad%98%e5%95%9f%e8%92%99/
LOCATION:Zoom
END:VEVENT
BEGIN:VEVENT
DTSTART;TZID=America/Los_Angeles:20260219T190000
DTEND;TZID=America/Los_Angeles:20260219T203000
DTSTAMP:20260423T132629
CREATED:20251215T232028Z
LAST-MODIFIED:20251215T233713Z
UID:10000841-1771527600-1771533000@www.tandembayarea.org
SUMMARY:Taller: Discusiones Raciales en la Primera Infancia
DESCRIPTION:En este taller interactivo\, discutiremos las formas en que un enfoque que no hable de distinciones raciales falla en promover la equidad\, y exploramos dos alternativas que pueden ayudarnos a guiar discusiones apropiadas sobre las diferencias raciales y la justicia racial con niñes pequeñes. \nHaga clic para registrarse\nPara recibir recordatorios de nuestros eventos directamente en su correo\, por favor regístrese aquí: tandem.ngo/signup
URL:https://www.tandembayarea.org/calendar/taller-discusiones-raciales-en-la-primera-infancia-talking-about-race-in-early-childhood/
LOCATION:Zoom
END:VEVENT
BEGIN:VEVENT
DTSTART;TZID=America/Los_Angeles:20260212T190000
DTEND;TZID=America/Los_Angeles:20260212T203000
DTSTAMP:20260423T132629
CREATED:20251215T231742Z
LAST-MODIFIED:20251215T233003Z
UID:10000840-1770922800-1770928200@www.tandembayarea.org
SUMMARY:Workshop: Talking About Race in Early Childhood (幼兒教育中的種族話題探討)
DESCRIPTION:Join us for a free online educator workshop! \nIn this interactive workshop\, we will discuss the ways that a colorblind approach fails to advance racial equity\, and explore two alternative methods that support early childhood educators in leading age-appropriate discussions about race with young children. \n幼兒教育中的種族話題探討\n在這個互動式講座中，我們將討論為何「色盲式」的做法無法推進種族平等，並探索兩種替代方法，幫助幼兒教育工作者以適齡的方式，與年幼的孩子開展有關種族的對話。 \nEnglish with Cantonese Translation \nClick here to register. \nTo receive more event reminders directly to your inbox\, please register here: tandem.ngo/signup
URL:https://www.tandembayarea.org/calendar/workshop-talking-about-race-in-early-childhood-2/
LOCATION:Zoom
END:VEVENT
BEGIN:VEVENT
DTSTART;TZID=America/Los_Angeles:20260115T190000
DTEND;TZID=America/Los_Angeles:20260115T203000
DTSTAMP:20260423T132629
CREATED:20251215T231411Z
LAST-MODIFIED:20251215T233735Z
UID:10000839-1768503600-1768509000@www.tandembayarea.org
SUMMARY:Taller: Matemáticas con propósito
DESCRIPTION:Les niñes pequeñes son matemátiques naturales\, siempre buscando patrones en el mundo que les rodea. Únase a nosotros para aprender actividades atractivas para el aula que inspirarán la curiosidad natural de les niñes\, haciendo que las matemáticas sean significativas y divertidas. \nHaga clic para registrarse\nPara recibir recordatorios de nuestros eventos directamente en su correo\, por favor regístrese aquí: tandem.ngo/signup
URL:https://www.tandembayarea.org/calendar/taller-matematicas-con-proposito-making-math-meaningful/
LOCATION:Zoom
END:VEVENT
BEGIN:VEVENT
DTSTART;TZID=America/Los_Angeles:20260108T190000
DTEND;TZID=America/Los_Angeles:20260108T203000
DTSTAMP:20260423T132629
CREATED:20251215T230549Z
LAST-MODIFIED:20251215T233108Z
UID:10000838-1767898800-1767904200@www.tandembayarea.org
SUMMARY:Workshop: Making Math Meaningful (讓數學變得有意義)
DESCRIPTION:Join us for a free online educator workshop! \nYoung children are natural mathematicians\, constantly seeking patterns in the world around them. Join us to learn engaging classroom activities that will inspire children’s natural curiosity\, making math meaningful and fun! \n讓數學變得有意義\n年幼的孩子天生就是數學家，他們不斷在周圍世界中尋找規律。參加這個講座，一起學習有趣的課堂活動，激發孩子的好奇心，讓數學既有意義又充滿樂趣！ \nEnglish with Cantonese Translation \nClick here to register. \nTo receive more event reminders directly to your inbox\, please register here: tandem.ngo/signup
URL:https://www.tandembayarea.org/calendar/workshop-making-math-meaningful/
LOCATION:Zoom
END:VEVENT
BEGIN:VEVENT
DTSTART;TZID=America/Los_Angeles:20251218T190000
DTEND;TZID=America/Los_Angeles:20251218T203000
DTSTAMP:20260423T132629
CREATED:20251208T170631Z
LAST-MODIFIED:20251208T170631Z
UID:10000837-1766084400-1766089800@www.tandembayarea.org
SUMMARY:Taller: Juego de palabras todo el día: Creando entornos ricos en alfabetización
DESCRIPTION:Les niñes aprenden lenguaje de todo lo que les rodea y ¡nunca es demasiado temprano para empezar! Hablemos de las 6 destrezas de la alfabetización temprana y practiquemos cómo encontrar oportunidades para desarrollar estas destrezas en cualquier momento y en cualquier lugar. \nHaga clic para registrarse\nPara recibir recordatorios de nuestros eventos directamente en su correo\, por favor regístrese aquí: tandem.ngo/signup
URL:https://www.tandembayarea.org/calendar/taller-juego-de-palabras-todo-el-dia-creando-entornos-ricos-en-alfabetizacion/
LOCATION:Zoom
END:VEVENT
BEGIN:VEVENT
DTSTART;TZID=America/Los_Angeles:20251211T190000
DTEND;TZID=America/Los_Angeles:20251211T203000
DTSTAMP:20260423T132629
CREATED:20251204T213729Z
LAST-MODIFIED:20251208T170806Z
UID:10000836-1765479600-1765485000@www.tandembayarea.org
SUMMARY:Workshop: Word Play All Day: Building Literacy Rich Environments
DESCRIPTION:Join us for a free online educator workshop! \nChildren learn language from everything around them and it’s never too early to start! Let’s talk about the Six Skills of Early Literacy and practice finding opportunities to build these skills anytime\, anywhere. \nEnglish with Cantonese Translation \nClick here to register. \nTo receive more event reminders directly to your inbox\, please register here: tandem.ngo/signup
URL:https://www.tandembayarea.org/calendar/workshop-word-play-all-day-building-literacy-rich-environments/
LOCATION:Zoom
END:VEVENT
BEGIN:VEVENT
DTSTART;TZID=America/Los_Angeles:20250522T190000
DTEND;TZID=America/Los_Angeles:20250522T203000
DTSTAMP:20260423T132629
CREATED:20240911T231300Z
LAST-MODIFIED:20250422T175327Z
UID:10000553-1747940400-1747945800@www.tandembayarea.org
SUMMARY:Hablando de raza en la primera infancia
DESCRIPTION:En este taller interactivo\, discutiremos las formas en que un enfoque que no hable de distinciones raciales falla en promover la equidad\, y exploramos dos alternativas que pueden ayudarnos a guiar discusiones apropiadas sobre las diferencias raciales y la justicia racial con niñes pequeñes. \nSi tiene un número con CA Workforce Registry\, por favor regístrese aqui: careregistry \nSi no está registrado con CA Workforce Registry\, por favor regístrese directamente aqui: Zoom
URL:https://www.tandembayarea.org/calendar/hablando-de-raza-en-la-primera-infancia/
LOCATION:Zoom
END:VEVENT
BEGIN:VEVENT
DTSTART;TZID=America/Los_Angeles:20250521T100000
DTEND;TZID=America/Los_Angeles:20250521T103000
DTSTAMP:20260423T132629
CREATED:20240916T220041Z
LAST-MODIFIED:20241113T192416Z
UID:10000580-1747821600-1747823400@www.tandembayarea.org
SUMMARY:Mandarin Zoom Read Aloud
DESCRIPTION:
URL:https://www.tandembayarea.org/calendar/cantonese-zoom-read-aloud-9/
LOCATION:Zoom
ORGANIZER;CN="Tandem%2C Partners in Early Learning":MAILTO:info@tandembayarea.org
END:VEVENT
BEGIN:VEVENT
DTSTART;TZID=America/Los_Angeles:20250514T100000
DTEND;TZID=America/Los_Angeles:20250514T103000
DTSTAMP:20260423T132629
CREATED:20240916T215909Z
LAST-MODIFIED:20240916T215909Z
UID:10000579-1747216800-1747218600@www.tandembayarea.org
SUMMARY:Spanish Zoom Read Aloud
DESCRIPTION:
URL:https://www.tandembayarea.org/calendar/spanish-zoom-read-aloud-9/
LOCATION:Zoom
ORGANIZER;CN="Tandem%2C Partners in Early Learning":MAILTO:info@tandembayarea.org
END:VEVENT
BEGIN:VEVENT
DTSTART;TZID=America/Los_Angeles:20250508T190000
DTEND;TZID=America/Los_Angeles:20250508T203000
DTSTAMP:20260423T132629
CREATED:20240911T231022Z
LAST-MODIFIED:20250213T000805Z
UID:10000552-1746730800-1746736200@www.tandembayarea.org
SUMMARY:Talking About Race in Early Childhood
DESCRIPTION:In this interactive workshop\, we will discuss the ways that a colorblind approach fails to advance racial equity\, and explore two alternative methods that support early childhood educators in leading age-appropriate discussions about race with young children. \nIf you have a workforce registry number\, please register at: careregistry \nIf you do not have a CA Workforce registry number\, register at: Zoom
URL:https://www.tandembayarea.org/calendar/talking-about-race-in-early-childhood/
LOCATION:Zoom
END:VEVENT
BEGIN:VEVENT
DTSTART;TZID=America/Los_Angeles:20250507T100000
DTEND;TZID=America/Los_Angeles:20250507T103000
DTSTAMP:20260423T132629
CREATED:20240916T215756Z
LAST-MODIFIED:20240916T215756Z
UID:10000578-1746612000-1746613800@www.tandembayarea.org
SUMMARY:English Zoom Read Aloud
DESCRIPTION:
URL:https://www.tandembayarea.org/calendar/english-zoom-read-aloud-8/
LOCATION:Zoom
ORGANIZER;CN="Tandem%2C Partners in Early Learning":MAILTO:info@tandembayarea.org
END:VEVENT
BEGIN:VEVENT
DTSTART;TZID=America/Los_Angeles:20250417T190000
DTEND;TZID=America/Los_Angeles:20250417T203000
DTSTAMP:20260423T132629
CREATED:20240911T230830Z
LAST-MODIFIED:20250213T000524Z
UID:10000551-1744916400-1744921800@www.tandembayarea.org
SUMMARY:Trauma 102 (Español)
DESCRIPTION:Sobre la base de lo que aprendimos en Trauma 101\, profundizaremos en estrategias accionables que apoyan la capacidad de un niñe para regular sus emociones\, desarrollar resiliencia con el tiempo y hablar sobre experiencias pasadas difíciles de manera segura. Esta serie de capacitación fue codiseñada con los Primeros 5 de Contra Costa. \nSi tiene un número con CA Workforce Registry\, por favor regístrese aqui: careregistry \nSi no está registrado con CA Workforce Registry\, por favor regístrese directamente aqui: Zoom 
URL:https://www.tandembayarea.org/calendar/trauma-102-espanol/
LOCATION:Zoom
END:VEVENT
BEGIN:VEVENT
DTSTART;TZID=America/Los_Angeles:20250416T100000
DTEND;TZID=America/Los_Angeles:20250416T103000
DTSTAMP:20260423T132629
CREATED:20240916T215650Z
LAST-MODIFIED:20240916T215650Z
UID:10000577-1744797600-1744799400@www.tandembayarea.org
SUMMARY:Cantonese Zoom Read Aloud
DESCRIPTION:
URL:https://www.tandembayarea.org/calendar/cantonese-zoom-read-aloud-8/
LOCATION:Zoom
ORGANIZER;CN="Tandem%2C Partners in Early Learning":MAILTO:info@tandembayarea.org
END:VEVENT
BEGIN:VEVENT
DTSTART;TZID=America/Los_Angeles:20250410T190000
DTEND;TZID=America/Los_Angeles:20250410T203000
DTSTAMP:20260423T132629
CREATED:20240911T230612Z
LAST-MODIFIED:20250212T235827Z
UID:10000550-1744311600-1744317000@www.tandembayarea.org
SUMMARY:Trauma 102 (with Cantonese interpretation)
DESCRIPTION:Building on what we learned in trauma 101\, we’ll dive deeper into actionable strategies that support a child’s ability to regulate their emotions\, build resilience over time\, and talk about difficult past experiences in safe ways. This training series was co-designed with First 5 Contra Costa. \nIf you have a workforce registry number\, please register at: careregistry \nIf you do not have a CA Workforce registry number\, register at: Zoom \n  \n基於我們在創傷101中學到的知識，我們將深入研究可操作的策略，以支持孩子調節情緒的能力，隨著時間的推移建立復原能力，並以安全的方式談論艱難的過去經歷。這個訓練系列是與First 5 Contra Costa聯合設計的。 \n如果您已有加州勞動登記处號碼，請在 Careregistry 註冊。 \n如果您尚無加州勞動登記处號碼，請在 Zoom 註冊。
URL:https://www.tandembayarea.org/calendar/trauma-102-with-cantonese-interpretation/
LOCATION:Zoom
END:VEVENT
BEGIN:VEVENT
DTSTART;TZID=America/Los_Angeles:20250409T100000
DTEND;TZID=America/Los_Angeles:20250409T103000
DTSTAMP:20260423T132629
CREATED:20240916T215548Z
LAST-MODIFIED:20240916T215548Z
UID:10000576-1744192800-1744194600@www.tandembayarea.org
SUMMARY:Spanish Zoom Read Aloud
DESCRIPTION:
URL:https://www.tandembayarea.org/calendar/spanish-zoom-read-aloud-8/
LOCATION:Zoom
ORGANIZER;CN="Tandem%2C Partners in Early Learning":MAILTO:info@tandembayarea.org
END:VEVENT
BEGIN:VEVENT
DTSTART;TZID=America/Los_Angeles:20250402T100000
DTEND;TZID=America/Los_Angeles:20250402T103000
DTSTAMP:20260423T132629
CREATED:20240916T215450Z
LAST-MODIFIED:20240916T215450Z
UID:10000575-1743588000-1743589800@www.tandembayarea.org
SUMMARY:English Zoom Read Aloud
DESCRIPTION:
URL:https://www.tandembayarea.org/calendar/english-zoom-read-aloud-7/
LOCATION:Zoom
ORGANIZER;CN="Tandem%2C Partners in Early Learning":MAILTO:info@tandembayarea.org
END:VEVENT
BEGIN:VEVENT
DTSTART;TZID=America/Los_Angeles:20250320T190000
DTEND;TZID=America/Los_Angeles:20250320T203000
DTSTAMP:20260423T132629
CREATED:20240911T230428Z
LAST-MODIFIED:20250228T234235Z
UID:10000549-1742497200-1742502600@www.tandembayarea.org
SUMMARY:Trauma 101: Identificar y Entender (Español)
DESCRIPTION:En este taller introductorio\, los participantes aprenderan sobre lo básico del trauma y sus efectos en el cerebro. Discutirán estrategias para responder a emociones extremas y comportamientos del niñe. Al finalizar el taller\, cada participante creará un plan de apoyo para responder a un niñe que se encuentre a su cuidado. Ésta serie de entrenamientos fue diseñada en conjunto con First 5 Contra Costa. \nSi tiene un número con CA Workforce Registry\, por favor regístrese aqui: careregistry \nSi no está registrado con CA Workforce Registry\, por favor regístrese directamente aqui: Zoom
URL:https://www.tandembayarea.org/calendar/trauma-101-espanol/
LOCATION:Zoom
END:VEVENT
BEGIN:VEVENT
DTSTART;TZID=America/Los_Angeles:20250319T100000
DTEND;TZID=America/Los_Angeles:20250319T103000
DTSTAMP:20260423T132629
CREATED:20240916T215357Z
LAST-MODIFIED:20240916T215357Z
UID:10000574-1742378400-1742380200@www.tandembayarea.org
SUMMARY:Cantonese Zoom Read Aloud
DESCRIPTION:
URL:https://www.tandembayarea.org/calendar/cantonese-zoom-read-aloud-7/
LOCATION:Zoom
ORGANIZER;CN="Tandem%2C Partners in Early Learning":MAILTO:info@tandembayarea.org
END:VEVENT
BEGIN:VEVENT
DTSTART;TZID=America/Los_Angeles:20250313T190000
DTEND;TZID=America/Los_Angeles:20250313T203000
DTSTAMP:20260423T132629
CREATED:20240911T230127Z
LAST-MODIFIED:20250228T234137Z
UID:10000548-1741892400-1741897800@www.tandembayarea.org
SUMMARY:Trauma 101: The Brain and Behavior (With Cantonese interpretation)
DESCRIPTION:In this introductory workshop\, participants will learn about the basics of trauma and its effects on the brain. They’ll discuss strategies for responding to children’s extreme emotions and behaviors. At the end of this workshop\, each participant will create a support plan for responding to an individual child in their care. This training series was co-designed with First 5 Contra Costa. \nIf you have a workforce registry number\, please register at: careregistry \nIf you do not have a CA Workforce registry number\, register at: Zoom \n  \n在這個介紹性的講座中，參與者將了解創傷的基礎知識及其對大腦的影響。他們將討論應對兒童極端情緒和行為的策略。在講座結束時，每個參與者將創建一個支持計劃，以應對他們照顧的每個兒童。這個訓練系列是與First 5 Contra Costa聯合設計的. \n如果您已有加州勞動登記处號碼，請在 Careregistry 註冊。 \n如果您尚無加州勞動登記处號碼，請在 Zoom 註冊。
URL:https://www.tandembayarea.org/calendar/trauma-101-with-cantonese-interpretation/
LOCATION:Zoom
END:VEVENT
BEGIN:VEVENT
DTSTART;TZID=America/Los_Angeles:20250312T100000
DTEND;TZID=America/Los_Angeles:20250312T103000
DTSTAMP:20260423T132629
CREATED:20240916T215237Z
LAST-MODIFIED:20240916T215237Z
UID:10000573-1741773600-1741775400@www.tandembayarea.org
SUMMARY:Spanish Zoom Read Aloud
DESCRIPTION:
URL:https://www.tandembayarea.org/calendar/spanish-zoom-read-aloud-7/
LOCATION:Zoom
ORGANIZER;CN="Tandem%2C Partners in Early Learning":MAILTO:info@tandembayarea.org
END:VEVENT
BEGIN:VEVENT
DTSTART;TZID=America/Los_Angeles:20250305T100000
DTEND;TZID=America/Los_Angeles:20250305T103000
DTSTAMP:20260423T132629
CREATED:20240916T215126Z
LAST-MODIFIED:20240916T215126Z
UID:10000572-1741168800-1741170600@www.tandembayarea.org
SUMMARY:English Zoom Read Aloud
DESCRIPTION:
URL:https://www.tandembayarea.org/calendar/english-zoom-read-aloud-6/
LOCATION:Zoom
ORGANIZER;CN="Tandem%2C Partners in Early Learning":MAILTO:info@tandembayarea.org
END:VEVENT
BEGIN:VEVENT
DTSTART;TZID=America/Los_Angeles:20250225T190000
DTEND;TZID=America/Los_Angeles:20250225T203000
DTSTAMP:20260423T132629
CREATED:20240911T225727Z
LAST-MODIFIED:20250201T021212Z
UID:10000547-1740510000-1740515400@www.tandembayarea.org
SUMMARY:數學在故事書本 (Math In Storybooks)
DESCRIPTION:數學就在我們周圍! 參與者在“非數學”故事書中發現數學，並練習策略，以幫助幼兒探索各種數學概念，包括:數數、理解數量、參與簡單的加減法、識別形狀和模式，以及使用測量和比較。 \nIf you have a workforce registry number\, please register at: Careregistry  \nIf you do not have a CA Workforce registry number\, register at: Zoom
URL:https://www.tandembayarea.org/calendar/%e6%95%b8%e5%ad%b8%e5%9c%a8%e6%95%85%e4%ba%8b%e6%9b%b8%e6%9c%ac-math-in-storybooks/
LOCATION:Zoom
END:VEVENT
BEGIN:VEVENT
DTSTART;TZID=America/Los_Angeles:20250220T190000
DTEND;TZID=America/Los_Angeles:20250220T203000
DTSTAMP:20260423T132629
CREATED:20240911T225412Z
LAST-MODIFIED:20250201T020327Z
UID:10000546-1740078000-1740083400@www.tandembayarea.org
SUMMARY:Matemáticas en los libros de cuentos
DESCRIPTION:Las matemáticas se encuentran a nuestro alrededor\, incluso en algunos de nuestros libros de cuentos favoritos. Acompañenos a descubrir maneras divertidas y fáciles de incorporar conversaciones matemáticas durante la hora de cuentos usando cualquier libro ilustrado para niños. \nIf you have a workforce registry number\, please register at: Careregistry  \nIf you do not have a CA Workforce registry number\, register at: Zoom
URL:https://www.tandembayarea.org/calendar/matematicas-en-los-libros-de-cuentos/
LOCATION:Zoom
END:VEVENT
BEGIN:VEVENT
DTSTART;TZID=America/Los_Angeles:20250219T100000
DTEND;TZID=America/Los_Angeles:20250219T103000
DTSTAMP:20260423T132629
CREATED:20240916T215021Z
LAST-MODIFIED:20240916T215021Z
UID:10000571-1739959200-1739961000@www.tandembayarea.org
SUMMARY:Cantonese Zoom Read Aloud
DESCRIPTION:
URL:https://www.tandembayarea.org/calendar/cantonese-zoom-read-aloud-6/
LOCATION:Zoom
ORGANIZER;CN="Tandem%2C Partners in Early Learning":MAILTO:info@tandembayarea.org
END:VEVENT
BEGIN:VEVENT
DTSTART;TZID=America/Los_Angeles:20250213T190000
DTEND;TZID=America/Los_Angeles:20250213T203000
DTSTAMP:20260423T132629
CREATED:20240911T225135Z
LAST-MODIFIED:20250201T015842Z
UID:10000545-1739473200-1739478600@www.tandembayarea.org
SUMMARY:Math in Storybooks
DESCRIPTION:Math is all around us! Participants uncover the math in “non-math” storybooks and practice strategies to help young children explore various math concepts including: counting\, understanding quantities\, engaging in simple addition and subtraction\, identifying shapes and patterns\, and using measurement and comparison. \nIf you have a workforce registry number\, please register at: Careregistry \nIf you do not have a CA Workforce registry number\, register at: Zoom
URL:https://www.tandembayarea.org/calendar/math-in-storybooks/
LOCATION:Zoom
END:VEVENT
BEGIN:VEVENT
DTSTART;TZID=America/Los_Angeles:20250212T100000
DTEND;TZID=America/Los_Angeles:20250212T103000
DTSTAMP:20260423T132629
CREATED:20240916T214908Z
LAST-MODIFIED:20240916T214908Z
UID:10000570-1739354400-1739356200@www.tandembayarea.org
SUMMARY:Spanish Zoom Read Aloud
DESCRIPTION:
URL:https://www.tandembayarea.org/calendar/spanish-zoom-read-aloud-6/
LOCATION:Zoom
ORGANIZER;CN="Tandem%2C Partners in Early Learning":MAILTO:info@tandembayarea.org
END:VEVENT
END:VCALENDAR