BEGIN:VCALENDAR
VERSION:2.0
PRODID:-//Tandem - ECPv6.15.12//NONSGML v1.0//EN
CALSCALE:GREGORIAN
METHOD:PUBLISH
X-ORIGINAL-URL:https://www.tandembayarea.org
X-WR-CALDESC:Events for Tandem
REFRESH-INTERVAL;VALUE=DURATION:PT1H
X-Robots-Tag:noindex
X-PUBLISHED-TTL:PT1H
BEGIN:VTIMEZONE
TZID:America/Los_Angeles
BEGIN:DAYLIGHT
TZOFFSETFROM:-0800
TZOFFSETTO:-0700
TZNAME:PDT
DTSTART:20190310T100000
END:DAYLIGHT
BEGIN:STANDARD
TZOFFSETFROM:-0700
TZOFFSETTO:-0800
TZNAME:PST
DTSTART:20191103T090000
END:STANDARD
BEGIN:DAYLIGHT
TZOFFSETFROM:-0800
TZOFFSETTO:-0700
TZNAME:PDT
DTSTART:20200308T100000
END:DAYLIGHT
BEGIN:STANDARD
TZOFFSETFROM:-0700
TZOFFSETTO:-0800
TZNAME:PST
DTSTART:20201101T090000
END:STANDARD
BEGIN:DAYLIGHT
TZOFFSETFROM:-0800
TZOFFSETTO:-0700
TZNAME:PDT
DTSTART:20210314T100000
END:DAYLIGHT
BEGIN:STANDARD
TZOFFSETFROM:-0700
TZOFFSETTO:-0800
TZNAME:PST
DTSTART:20211107T090000
END:STANDARD
BEGIN:DAYLIGHT
TZOFFSETFROM:-0800
TZOFFSETTO:-0700
TZNAME:PDT
DTSTART:20220313T100000
END:DAYLIGHT
BEGIN:STANDARD
TZOFFSETFROM:-0700
TZOFFSETTO:-0800
TZNAME:PST
DTSTART:20221106T090000
END:STANDARD
BEGIN:DAYLIGHT
TZOFFSETFROM:-0800
TZOFFSETTO:-0700
TZNAME:PDT
DTSTART:20230312T100000
END:DAYLIGHT
BEGIN:STANDARD
TZOFFSETFROM:-0700
TZOFFSETTO:-0800
TZNAME:PST
DTSTART:20231105T090000
END:STANDARD
END:VTIMEZONE
BEGIN:VEVENT
DTSTART;TZID=America/Los_Angeles:20221027T173000
DTEND;TZID=America/Los_Angeles:20221027T183000
DTSTAMP:20260424T030222
CREATED:20220722T230826Z
LAST-MODIFIED:20220722T230829Z
UID:10000270-1666891800-1666895400@www.tandembayarea.org
SUMMARY:D.O.S. Fathers Group - RSVP Required
DESCRIPTION:
URL:https://www.tandembayarea.org/calendar/d-o-s-fathers-group/2022-10-27/
LOCATION:South of Market Family Resource Center\, 790 Folsom Street\, San Francisco\, CA\, 94107\, United States
ATTACH;FMTTYPE=application/pdf:https://www.tandembayarea.org/wp-content/uploads/2022/07/DOS-Flyer-2022.pdf
END:VEVENT
BEGIN:VEVENT
DTSTART;TZID=America/Los_Angeles:20221020T173000
DTEND;TZID=America/Los_Angeles:20221020T183000
DTSTAMP:20260424T030222
CREATED:20220722T230826Z
LAST-MODIFIED:20220722T230829Z
UID:10000269-1666287000-1666290600@www.tandembayarea.org
SUMMARY:D.O.S. Fathers Group - RSVP Required
DESCRIPTION:
URL:https://www.tandembayarea.org/calendar/d-o-s-fathers-group/2022-10-20/
LOCATION:South of Market Family Resource Center\, 790 Folsom Street\, San Francisco\, CA\, 94107\, United States
ATTACH;FMTTYPE=application/pdf:https://www.tandembayarea.org/wp-content/uploads/2022/07/DOS-Flyer-2022.pdf
END:VEVENT
BEGIN:VEVENT
DTSTART;TZID=America/Los_Angeles:20221013T173000
DTEND;TZID=America/Los_Angeles:20221013T183000
DTSTAMP:20260424T030222
CREATED:20220722T230826Z
LAST-MODIFIED:20220722T230829Z
UID:10000268-1665682200-1665685800@www.tandembayarea.org
SUMMARY:D.O.S. Fathers Group - RSVP Required
DESCRIPTION:
URL:https://www.tandembayarea.org/calendar/d-o-s-fathers-group/2022-10-13/
LOCATION:South of Market Family Resource Center\, 790 Folsom Street\, San Francisco\, CA\, 94107\, United States
ATTACH;FMTTYPE=application/pdf:https://www.tandembayarea.org/wp-content/uploads/2022/07/DOS-Flyer-2022.pdf
END:VEVENT
BEGIN:VEVENT
DTSTART;TZID=America/Los_Angeles:20221006T173000
DTEND;TZID=America/Los_Angeles:20221006T183000
DTSTAMP:20260424T030222
CREATED:20220722T230826Z
LAST-MODIFIED:20220722T230829Z
UID:10000267-1665077400-1665081000@www.tandembayarea.org
SUMMARY:D.O.S. Fathers Group - RSVP Required
DESCRIPTION:
URL:https://www.tandembayarea.org/calendar/d-o-s-fathers-group/2022-10-06/
LOCATION:South of Market Family Resource Center\, 790 Folsom Street\, San Francisco\, CA\, 94107\, United States
ATTACH;FMTTYPE=application/pdf:https://www.tandembayarea.org/wp-content/uploads/2022/07/DOS-Flyer-2022.pdf
END:VEVENT
BEGIN:VEVENT
DTSTART;TZID=America/Los_Angeles:20220929T173000
DTEND;TZID=America/Los_Angeles:20220929T183000
DTSTAMP:20260424T030222
CREATED:20220722T230826Z
LAST-MODIFIED:20220722T230829Z
UID:10000266-1664472600-1664476200@www.tandembayarea.org
SUMMARY:D.O.S. Fathers Group - RSVP Required
DESCRIPTION:
URL:https://www.tandembayarea.org/calendar/d-o-s-fathers-group/2022-09-29/
LOCATION:South of Market Family Resource Center\, 790 Folsom Street\, San Francisco\, CA\, 94107\, United States
ATTACH;FMTTYPE=application/pdf:https://www.tandembayarea.org/wp-content/uploads/2022/07/DOS-Flyer-2022.pdf
END:VEVENT
BEGIN:VEVENT
DTSTART;TZID=America/Los_Angeles:20220922T173000
DTEND;TZID=America/Los_Angeles:20220922T183000
DTSTAMP:20260424T030222
CREATED:20220722T230826Z
LAST-MODIFIED:20220722T230829Z
UID:10000265-1663867800-1663871400@www.tandembayarea.org
SUMMARY:D.O.S. Fathers Group - RSVP Required
DESCRIPTION:
URL:https://www.tandembayarea.org/calendar/d-o-s-fathers-group/2022-09-22/
LOCATION:South of Market Family Resource Center\, 790 Folsom Street\, San Francisco\, CA\, 94107\, United States
ATTACH;FMTTYPE=application/pdf:https://www.tandembayarea.org/wp-content/uploads/2022/07/DOS-Flyer-2022.pdf
END:VEVENT
BEGIN:VEVENT
DTSTART;TZID=America/Los_Angeles:20220915T173000
DTEND;TZID=America/Los_Angeles:20220915T183000
DTSTAMP:20260424T030222
CREATED:20220722T230826Z
LAST-MODIFIED:20220722T230829Z
UID:10000264-1663263000-1663266600@www.tandembayarea.org
SUMMARY:D.O.S. Fathers Group - RSVP Required
DESCRIPTION:
URL:https://www.tandembayarea.org/calendar/d-o-s-fathers-group/2022-09-15/
LOCATION:South of Market Family Resource Center\, 790 Folsom Street\, San Francisco\, CA\, 94107\, United States
ATTACH;FMTTYPE=application/pdf:https://www.tandembayarea.org/wp-content/uploads/2022/07/DOS-Flyer-2022.pdf
END:VEVENT
BEGIN:VEVENT
DTSTART;TZID=America/Los_Angeles:20220908T173000
DTEND;TZID=America/Los_Angeles:20220908T183000
DTSTAMP:20260424T030222
CREATED:20220722T230826Z
LAST-MODIFIED:20220722T230829Z
UID:10000263-1662658200-1662661800@www.tandembayarea.org
SUMMARY:D.O.S. Fathers Group - RSVP Required
DESCRIPTION:
URL:https://www.tandembayarea.org/calendar/d-o-s-fathers-group/2022-09-08/
LOCATION:South of Market Family Resource Center\, 790 Folsom Street\, San Francisco\, CA\, 94107\, United States
ATTACH;FMTTYPE=application/pdf:https://www.tandembayarea.org/wp-content/uploads/2022/07/DOS-Flyer-2022.pdf
END:VEVENT
BEGIN:VEVENT
DTSTART;TZID=America/Los_Angeles:20201117T160000
DTEND;TZID=America/Los_Angeles:20201117T173000
DTSTAMP:20260424T030222
CREATED:20200915T155811Z
LAST-MODIFIED:20200915T155811Z
UID:10000124-1605628800-1605634200@www.tandembayarea.org
SUMMARY:Dads of San Francisco Weekly Meeting
DESCRIPTION:Tuesdays\, 4:00pm – 5:30pm  through November 17 \nWeekly group for fathers to connect and share resources \n\nPositive-based fellowship\nSupport through brotherhood\nTherapeutic safe space\n\nDinner will be provided. The group will meet outdoors in the Yerba Buena Gardens while maintaining social distancing. Please note that child watch will not be provided at this time. \nFacilitated by Rod Picou of the SOMA Family Resource Center. \n\nTo RSVP: call Rod at (415) 820-3508 or email at rod@somacc.org.\nFunding provided by South of Market Child Care and First 5 San Francisco. Download a flyer to spread the word!
URL:https://www.tandembayarea.org/calendar/dads-of-san-francisco-weekly-meeting-7/
LOCATION:South of Market Family Resource Center\, 790 Folsom Street\, San Francisco\, CA\, 94107\, United States
ATTACH;FMTTYPE=image/jpeg:https://www.tandembayarea.org/wp-content/uploads/2020/09/DOS-Fall-2020-1.jpg
END:VEVENT
BEGIN:VEVENT
DTSTART;TZID=America/Los_Angeles:20201110T160000
DTEND;TZID=America/Los_Angeles:20201110T173000
DTSTAMP:20260424T030222
CREATED:20200915T155549Z
LAST-MODIFIED:20200915T155549Z
UID:10000122-1605024000-1605029400@www.tandembayarea.org
SUMMARY:Dads of San Francisco Weekly Meeting
DESCRIPTION:Tuesdays\, 4:00pm – 5:30pm  through November 17 \nWeekly group for fathers to connect and share resources \n\nPositive-based fellowship\nSupport through brotherhood\nTherapeutic safe space\n\nDinner will be provided. The group will meet outdoors in the Yerba Buena Gardens while maintaining social distancing. Please note that child watch will not be provided at this time. \nFacilitated by Rod Picou of the SOMA Family Resource Center. \n\nTo RSVP: call Rod at (415) 820-3508 or email at rod@somacc.org.\nFunding provided by South of Market Child Care and First 5 San Francisco. Download a flyer to spread the word!
URL:https://www.tandembayarea.org/calendar/dads-of-san-francisco-weekly-meeting-6/
LOCATION:South of Market Family Resource Center\, 790 Folsom Street\, San Francisco\, CA\, 94107\, United States
ATTACH;FMTTYPE=image/jpeg:https://www.tandembayarea.org/wp-content/uploads/2020/09/DOS-Fall-2020-1.jpg
END:VEVENT
BEGIN:VEVENT
DTSTART;TZID=America/Los_Angeles:20201103T160000
DTEND;TZID=America/Los_Angeles:20201103T173000
DTSTAMP:20260424T030222
CREATED:20200915T155402Z
LAST-MODIFIED:20200915T155402Z
UID:10000015-1604419200-1604424600@www.tandembayarea.org
SUMMARY:Dads of San Francisco Weekly Meeting
DESCRIPTION:Tuesdays\, 4:00pm – 5:30pm  through November 17 \nWeekly group for fathers to connect and share resources \n\nPositive-based fellowship\nSupport through brotherhood\nTherapeutic safe space\n\nDinner will be provided. The group will meet outdoors in the Yerba Buena Gardens while maintaining social distancing. Please note that child watch will not be provided at this time. \nFacilitated by Rod Picou of the SOMA Family Resource Center. \n\nTo RSVP: call Rod at (415) 820-3508 or email at rod@somacc.org.\nFunding provided by South of Market Child Care and First 5 San Francisco. Download a flyer to spread the word!
URL:https://www.tandembayarea.org/calendar/dads-of-san-francisco-weekly-meeting-5/
LOCATION:South of Market Family Resource Center\, 790 Folsom Street\, San Francisco\, CA\, 94107\, United States
ATTACH;FMTTYPE=image/jpeg:https://www.tandembayarea.org/wp-content/uploads/2020/09/DOS-Fall-2020-1.jpg
END:VEVENT
BEGIN:VEVENT
DTSTART;TZID=America/Los_Angeles:20201027T160000
DTEND;TZID=America/Los_Angeles:20201027T173000
DTSTAMP:20260424T030222
CREATED:20200915T155203Z
LAST-MODIFIED:20200915T155203Z
UID:10000016-1603814400-1603819800@www.tandembayarea.org
SUMMARY:Dads of San Francisco Weekly Meeting
DESCRIPTION:Tuesdays\, 4:00pm – 5:30pm  through November 17 \nWeekly group for fathers to connect and share resources \n\nPositive-based fellowship\nSupport through brotherhood\nTherapeutic safe space\n\nDinner will be provided. The group will meet outdoors in the Yerba Buena Gardens while maintaining social distancing. Please note that child watch will not be provided at this time. \nFacilitated by Rod Picou of the SOMA Family Resource Center. \n\nTo RSVP: call Rod at (415) 820-3508 or email at rod@somacc.org.\nFunding provided by South of Market Child Care and First 5 San Francisco. Download a flyer to spread the word!
URL:https://www.tandembayarea.org/calendar/dads-of-san-francisco-weekly-meeting-4/
LOCATION:South of Market Family Resource Center\, 790 Folsom Street\, San Francisco\, CA\, 94107\, United States
ATTACH;FMTTYPE=image/jpeg:https://www.tandembayarea.org/wp-content/uploads/2020/09/DOS-Fall-2020-1.jpg
END:VEVENT
BEGIN:VEVENT
DTSTART;TZID=America/Los_Angeles:20201020T160000
DTEND;TZID=America/Los_Angeles:20201020T173000
DTSTAMP:20260424T030222
CREATED:20200915T155019Z
LAST-MODIFIED:20200915T155019Z
UID:10000017-1603209600-1603215000@www.tandembayarea.org
SUMMARY:Dads of San Francisco Weekly Meeting
DESCRIPTION:  \nTuesdays\, 4:00pm – 5:30pm  through November 17 \nWeekly group for fathers to connect and share resources \n\nPositive-based fellowship\nSupport through brotherhood\nTherapeutic safe space\n\nDinner will be provided. The group will meet outdoors in the Yerba Buena Gardens while maintaining social distancing. Please note that child watch will not be provided at this time. \nFacilitated by Rod Picou of the SOMA Family Resource Center. \n\nTo RSVP: call Rod at (415) 820-3508 or email at rod@somacc.org.\nFunding provided by South of Market Child Care and First 5 San Francisco. Download a flyer to spread the word!
URL:https://www.tandembayarea.org/calendar/dads-of-san-francisco-weekly-meeting-3/
LOCATION:South of Market Family Resource Center\, 790 Folsom Street\, San Francisco\, CA\, 94107\, United States
ATTACH;FMTTYPE=image/jpeg:https://www.tandembayarea.org/wp-content/uploads/2020/09/DOS-Fall-2020-1.jpg
END:VEVENT
BEGIN:VEVENT
DTSTART;TZID=America/Los_Angeles:20201013T160000
DTEND;TZID=America/Los_Angeles:20201013T173000
DTSTAMP:20260424T030222
CREATED:20200915T154730Z
LAST-MODIFIED:20200915T154730Z
UID:10000018-1602604800-1602610200@www.tandembayarea.org
SUMMARY:Dads of San Francisco Weekly Meeting
DESCRIPTION:Tuesdays\, 4:00pm – 5:30pm  through November 17 \nWeekly group for fathers to connect and share resources \n\nPositive-based fellowship\nSupport through brotherhood\nTherapeutic safe space\n\nDinner will be provided. The group will meet outdoors in the Yerba Buena Gardens while maintaining social distancing. Please note that child watch will not be provided at this time. \nFacilitated by Rod Picou of the SOMA Family Resource Center. \n\nTo RSVP: call Rod at (415) 820-3508 or email at rod@somacc.org.\nFunding provided by South of Market Child Care and First 5 San Francisco. Download a flyer to spread the word! \n  \n 
URL:https://www.tandembayarea.org/calendar/dads-of-san-francisco-weekly-meeting-2/
LOCATION:South of Market Family Resource Center\, 790 Folsom Street\, San Francisco\, CA\, 94107\, United States
ATTACH;FMTTYPE=image/jpeg:https://www.tandembayarea.org/wp-content/uploads/2020/09/DOS-Fall-2020-1.jpg
END:VEVENT
BEGIN:VEVENT
DTSTART;TZID=America/Los_Angeles:20201006T160000
DTEND;TZID=America/Los_Angeles:20201006T173000
DTSTAMP:20260424T030223
CREATED:20200915T154436Z
LAST-MODIFIED:20200915T154436Z
UID:10000019-1602000000-1602005400@www.tandembayarea.org
SUMMARY:Dads of San Francisco Weekly Meeting
DESCRIPTION:Tuesdays\, 4:00pm – 5:30pm  through November 17 \nWeekly group for fathers to connect and share resources \n\nPositive-based fellowship\nSupport through brotherhood\nTherapeutic safe space\n\nDinner will be provided. The group will meet outdoors in the Yerba Buena Gardens while maintaining social distancing. Please note that child watch will not be provided at this time. \nFacilitated by Rod Picou of the SOMA Family Resource Center. \n\nTo RSVP: call Rod at (415) 820-3508 or email at rod@somacc.org.\nFunding provided by South of Market Child Care and First 5 San Francisco. Download a flyer to spread the word! \n  \n 
URL:https://www.tandembayarea.org/calendar/dads-of-san-francisco-weekly-meeting/
LOCATION:South of Market Family Resource Center\, 790 Folsom Street\, San Francisco\, CA\, 94107\, United States
ATTACH;FMTTYPE=image/jpeg:https://www.tandembayarea.org/wp-content/uploads/2020/09/DOS-Fall-2020-1.jpg
END:VEVENT
END:VCALENDAR