BEGIN:VCALENDAR
VERSION:2.0
PRODID:-//Tandem - ECPv6.15.12//NONSGML v1.0//EN
CALSCALE:GREGORIAN
METHOD:PUBLISH
X-WR-CALNAME:Tandem
X-ORIGINAL-URL:https://www.tandembayarea.org
X-WR-CALDESC:Events for Tandem
REFRESH-INTERVAL;VALUE=DURATION:PT1H
X-Robots-Tag:noindex
X-PUBLISHED-TTL:PT1H
BEGIN:VTIMEZONE
TZID:America/Los_Angeles
BEGIN:DAYLIGHT
TZOFFSETFROM:-0800
TZOFFSETTO:-0700
TZNAME:PDT
DTSTART:20240310T100000
END:DAYLIGHT
BEGIN:STANDARD
TZOFFSETFROM:-0700
TZOFFSETTO:-0800
TZNAME:PST
DTSTART:20241103T090000
END:STANDARD
BEGIN:DAYLIGHT
TZOFFSETFROM:-0800
TZOFFSETTO:-0700
TZNAME:PDT
DTSTART:20250309T100000
END:DAYLIGHT
BEGIN:STANDARD
TZOFFSETFROM:-0700
TZOFFSETTO:-0800
TZNAME:PST
DTSTART:20251102T090000
END:STANDARD
BEGIN:DAYLIGHT
TZOFFSETFROM:-0800
TZOFFSETTO:-0700
TZNAME:PDT
DTSTART:20260308T100000
END:DAYLIGHT
BEGIN:STANDARD
TZOFFSETFROM:-0700
TZOFFSETTO:-0800
TZNAME:PST
DTSTART:20261101T090000
END:STANDARD
BEGIN:DAYLIGHT
TZOFFSETFROM:-0800
TZOFFSETTO:-0700
TZNAME:PDT
DTSTART:20270314T100000
END:DAYLIGHT
BEGIN:STANDARD
TZOFFSETFROM:-0700
TZOFFSETTO:-0800
TZNAME:PST
DTSTART:20271107T090000
END:STANDARD
END:VTIMEZONE
BEGIN:VEVENT
DTSTART;TZID=America/Los_Angeles:20260408T130000
DTEND;TZID=America/Los_Angeles:20260408T140000
DTSTAMP:20260423T165354
CREATED:20260327T220137Z
LAST-MODIFIED:20260327T220137Z
UID:10000879-1775653200-1775656800@www.tandembayarea.org
SUMMARY:Playgroup at Rodeo Library
DESCRIPTION:
URL:https://www.tandembayarea.org/calendar/playgroup-at-rodeo-library-5/
LOCATION:Rodeo Library – Contra Costa County Library\, 220 Pacific Ave\, Rodeo\, CA\, 94572\, United States
END:VEVENT
BEGIN:VEVENT
DTSTART;TZID=America/Los_Angeles:20260304T113000
DTEND;TZID=America/Los_Angeles:20260304T123000
DTSTAMP:20260423T165354
CREATED:20260227T060557Z
LAST-MODIFIED:20260227T060740Z
UID:10000862-1772623800-1772627400@www.tandembayarea.org
SUMMARY:Playgroup at Rodeo Library
DESCRIPTION:
URL:https://www.tandembayarea.org/calendar/playgroup-at-rodeo-library-4/
LOCATION:Rodeo Library – Contra Costa County Library\, 220 Pacific Ave\, Rodeo\, CA\, 94572\, United States
END:VEVENT
BEGIN:VEVENT
DTSTART;TZID=America/Los_Angeles:20260211T113000
DTEND;TZID=America/Los_Angeles:20260211T123000
DTSTAMP:20260423T165354
CREATED:20260130T222812Z
LAST-MODIFIED:20260130T222812Z
UID:10000858-1770809400-1770813000@www.tandembayarea.org
SUMMARY:Playgroup at Rodeo Library
DESCRIPTION:
URL:https://www.tandembayarea.org/calendar/playgroup-at-rodeo-library-3/
LOCATION:Rodeo Library – Contra Costa County Library\, 220 Pacific Ave\, Rodeo\, CA\, 94572\, United States
END:VEVENT
BEGIN:VEVENT
DTSTART;TZID=America/Los_Angeles:20260114T113000
DTEND;TZID=America/Los_Angeles:20260114T123000
DTSTAMP:20260423T165354
CREATED:20251224T014352Z
LAST-MODIFIED:20251224T014521Z
UID:10000852-1768390200-1768393800@www.tandembayarea.org
SUMMARY:Playgroup at Rodeo Library
DESCRIPTION:
URL:https://www.tandembayarea.org/calendar/playgroup-at-rodeo-library-2/
LOCATION:Rodeo Library – Contra Costa County Library\, 220 Pacific Ave\, Rodeo\, CA\, 94572\, United States
END:VEVENT
BEGIN:VEVENT
DTSTART;TZID=America/Los_Angeles:20251210T113000
DTEND;TZID=America/Los_Angeles:20251210T123000
DTSTAMP:20260423T165354
CREATED:20251126T013531Z
LAST-MODIFIED:20251126T013531Z
UID:10000834-1765366200-1765369800@www.tandembayarea.org
SUMMARY:Rodeo Library GM5 Math with Pete the Cat
DESCRIPTION:
URL:https://www.tandembayarea.org/calendar/rodeo-library-gm5-math-with-pete-the-cat-2/
LOCATION:Rodeo Library – Contra Costa County Library\, 220 Pacific Ave\, Rodeo\, CA\, 94572\, United States
END:VEVENT
BEGIN:VEVENT
DTSTART;TZID=America/Los_Angeles:20251112T113000
DTEND;TZID=America/Los_Angeles:20251112T123000
DTSTAMP:20260423T165354
CREATED:20251028T233819Z
LAST-MODIFIED:20251028T233848Z
UID:10000828-1762947000-1762950600@www.tandembayarea.org
SUMMARY:Rodeo Library GM5 Math with Pete the Cat
DESCRIPTION:
URL:https://www.tandembayarea.org/calendar/gm5-math-at-rodeo-library-with-pete-the-cat/
LOCATION:Rodeo Library – Contra Costa County Library\, 220 Pacific Ave\, Rodeo\, CA\, 94572\, United States
END:VEVENT
BEGIN:VEVENT
DTSTART;TZID=America/Los_Angeles:20251008T113000
DTEND;TZID=America/Los_Angeles:20251008T123000
DTSTAMP:20260423T165354
CREATED:20251001T153524Z
LAST-MODIFIED:20251001T153524Z
UID:10000819-1759923000-1759926600@www.tandembayarea.org
SUMMARY:Rodeo Library GM5 Math with Pete the Cat
DESCRIPTION:
URL:https://www.tandembayarea.org/calendar/rodeo-library-gm5-math-with-pete-the-cat/
LOCATION:Rodeo Library – Contra Costa County Library\, 220 Pacific Ave\, Rodeo\, CA\, 94572\, United States
END:VEVENT
BEGIN:VEVENT
DTSTART;TZID=America/Los_Angeles:20250910T113000
DTEND;TZID=America/Los_Angeles:20250910T123000
DTSTAMP:20260423T165354
CREATED:20250902T163555Z
LAST-MODIFIED:20250902T163555Z
UID:10000806-1757503800-1757507400@www.tandembayarea.org
SUMMARY:Playgroup at Rodeo Library
DESCRIPTION:
URL:https://www.tandembayarea.org/calendar/playgroup-at-rodeo-library/
LOCATION:Rodeo Library – Contra Costa County Library\, 220 Pacific Ave\, Rodeo\, CA\, 94572\, United States
END:VEVENT
BEGIN:VEVENT
DTSTART;TZID=America/Los_Angeles:20250813T110000
DTEND;TZID=America/Los_Angeles:20250813T120000
DTSTAMP:20260423T165354
CREATED:20250731T234047Z
LAST-MODIFIED:20250731T234453Z
UID:10000799-1755082800-1755086400@www.tandembayarea.org
SUMMARY:Rodeo Library Playgroup
DESCRIPTION:
URL:https://www.tandembayarea.org/calendar/rodeo-library-playgroup/
LOCATION:Rodeo Library – Contra Costa County Library\, 220 Pacific Ave\, Rodeo\, CA\, 94572\, United States
END:VEVENT
END:VCALENDAR