BEGIN:VCALENDAR
VERSION:2.0
PRODID:-//Tandem - ECPv6.15.12//NONSGML v1.0//EN
CALSCALE:GREGORIAN
METHOD:PUBLISH
X-ORIGINAL-URL:https://www.tandembayarea.org
X-WR-CALDESC:Events for Tandem
REFRESH-INTERVAL;VALUE=DURATION:PT1H
X-Robots-Tag:noindex
X-PUBLISHED-TTL:PT1H
BEGIN:VTIMEZONE
TZID:America/Los_Angeles
BEGIN:DAYLIGHT
TZOFFSETFROM:-0800
TZOFFSETTO:-0700
TZNAME:PDT
DTSTART:20230312T100000
END:DAYLIGHT
BEGIN:STANDARD
TZOFFSETFROM:-0700
TZOFFSETTO:-0800
TZNAME:PST
DTSTART:20231105T090000
END:STANDARD
BEGIN:DAYLIGHT
TZOFFSETFROM:-0800
TZOFFSETTO:-0700
TZNAME:PDT
DTSTART:20240310T100000
END:DAYLIGHT
BEGIN:STANDARD
TZOFFSETFROM:-0700
TZOFFSETTO:-0800
TZNAME:PST
DTSTART:20241103T090000
END:STANDARD
BEGIN:DAYLIGHT
TZOFFSETFROM:-0800
TZOFFSETTO:-0700
TZNAME:PDT
DTSTART:20250309T100000
END:DAYLIGHT
BEGIN:STANDARD
TZOFFSETFROM:-0700
TZOFFSETTO:-0800
TZNAME:PST
DTSTART:20251102T090000
END:STANDARD
END:VTIMEZONE
BEGIN:VEVENT
DTSTART;TZID=America/Los_Angeles:20241126T111500
DTEND;TZID=America/Los_Angeles:20241126T114500
DTSTAMP:20260423T144934
CREATED:20241101T234351Z
LAST-MODIFIED:20241101T234351Z
UID:10000596-1732619700-1732621500@www.tandembayarea.org
SUMMARY:Community Read Aloud at Pittsburg Library
DESCRIPTION:
URL:https://www.tandembayarea.org/calendar/community-read-aloud-at-pittsburg-library-3/
LOCATION:Pittsburg Library – Contra Costa County Library\, 80 Power Ave\, Pittsburg\, CA\, 94565\, United States
ORGANIZER;CN="Tandem%2C Partners in Early Learning":MAILTO:info@tandembayarea.org
END:VEVENT
BEGIN:VEVENT
DTSTART;TZID=America/Los_Angeles:20241125T103000
DTEND;TZID=America/Los_Angeles:20241125T113000
DTSTAMP:20260423T144934
CREATED:20241101T235216Z
LAST-MODIFIED:20241101T235216Z
UID:10000599-1732530600-1732534200@www.tandembayarea.org
SUMMARY:Give Me 5 Math at Pittsburg Library
DESCRIPTION:
URL:https://www.tandembayarea.org/calendar/give-me-5-math-at-pittsburg-library-3/
LOCATION:Pittsburg Library – Contra Costa County Library\, 80 Power Ave\, Pittsburg\, CA\, 94565\, United States
ORGANIZER;CN="Tandem%2C Partners in Early Learning":MAILTO:info@tandembayarea.org
END:VEVENT
BEGIN:VEVENT
DTSTART;TZID=America/Los_Angeles:20241118T103000
DTEND;TZID=America/Los_Angeles:20241118T113000
DTSTAMP:20260423T144934
CREATED:20241101T235126Z
LAST-MODIFIED:20241101T235126Z
UID:10000598-1731925800-1731929400@www.tandembayarea.org
SUMMARY:Give Me 5 Math at Pittsburg Library
DESCRIPTION:
URL:https://www.tandembayarea.org/calendar/give-me-5-math-at-pittsburg-library-2/
LOCATION:Pittsburg Library – Contra Costa County Library\, 80 Power Ave\, Pittsburg\, CA\, 94565\, United States
ORGANIZER;CN="Tandem%2C Partners in Early Learning":MAILTO:info@tandembayarea.org
END:VEVENT
BEGIN:VEVENT
DTSTART;TZID=America/Los_Angeles:20241104T103000
DTEND;TZID=America/Los_Angeles:20241104T113000
DTSTAMP:20260423T144934
CREATED:20241101T235007Z
LAST-MODIFIED:20241101T235007Z
UID:10000597-1730716200-1730719800@www.tandembayarea.org
SUMMARY:Give Me 5 Math at Pittsburg Library
DESCRIPTION:
URL:https://www.tandembayarea.org/calendar/give-me-5-math-at-pittsburg-library/
LOCATION:Pittsburg Library – Contra Costa County Library\, 80 Power Ave\, Pittsburg\, CA\, 94565\, United States
ORGANIZER;CN="Tandem%2C Partners in Early Learning":MAILTO:info@tandembayarea.org
END:VEVENT
BEGIN:VEVENT
DTSTART;TZID=America/Los_Angeles:20241022T112500
DTEND;TZID=America/Los_Angeles:20241022T120000
DTSTAMP:20260423T144934
CREATED:20241002T014409Z
LAST-MODIFIED:20241002T014409Z
UID:10000586-1729596300-1729598400@www.tandembayarea.org
SUMMARY:Community Read Aloud at Pittsburg Library
DESCRIPTION:
URL:https://www.tandembayarea.org/calendar/community-read-aloud-at-pittsburg-library-2/
LOCATION:Pittsburg Library – Contra Costa County Library\, 80 Power Ave\, Pittsburg\, CA\, 94565\, United States
ORGANIZER;CN="Tandem%2C Partners in Early Learning":MAILTO:info@tandembayarea.org
END:VEVENT
BEGIN:VEVENT
DTSTART;TZID=America/Los_Angeles:20240928T103000
DTEND;TZID=America/Los_Angeles:20240928T113000
DTSTAMP:20260423T144935
CREATED:20240830T183709Z
LAST-MODIFIED:20240830T183758Z
UID:10000530-1727519400-1727523000@www.tandembayarea.org
SUMMARY:Give Me 5 Kinder Readiness
DESCRIPTION:
URL:https://www.tandembayarea.org/calendar/give-me-5-kinder-readiness/2024-09-28/
LOCATION:Pittsburg Library – Contra Costa County Library\, 80 Power Ave\, Pittsburg\, CA\, 94565\, United States
ORGANIZER;CN="Tandem%2C Partners in Early Learning":MAILTO:info@tandembayarea.org
END:VEVENT
BEGIN:VEVENT
DTSTART;TZID=America/Los_Angeles:20240924T112000
DTEND;TZID=America/Los_Angeles:20240924T115000
DTSTAMP:20260423T144935
CREATED:20240830T202357Z
LAST-MODIFIED:20240830T202357Z
UID:10000532-1727176800-1727178600@www.tandembayarea.org
SUMMARY:Community Read Aloud at Pittsburg Library
DESCRIPTION:
URL:https://www.tandembayarea.org/calendar/community-read-aloud-at-pittsburg-library/
LOCATION:Pittsburg Library – Contra Costa County Library\, 80 Power Ave\, Pittsburg\, CA\, 94565\, United States
ORGANIZER;CN="Tandem%2C Partners in Early Learning":MAILTO:info@tandembayarea.org
END:VEVENT
BEGIN:VEVENT
DTSTART;TZID=America/Los_Angeles:20240921T103000
DTEND;TZID=America/Los_Angeles:20240921T113000
DTSTAMP:20260423T144935
CREATED:20240830T183709Z
LAST-MODIFIED:20240830T183758Z
UID:10000529-1726914600-1726918200@www.tandembayarea.org
SUMMARY:Give Me 5 Kinder Readiness
DESCRIPTION:
URL:https://www.tandembayarea.org/calendar/give-me-5-kinder-readiness/2024-09-21/
LOCATION:Pittsburg Library – Contra Costa County Library\, 80 Power Ave\, Pittsburg\, CA\, 94565\, United States
ORGANIZER;CN="Tandem%2C Partners in Early Learning":MAILTO:info@tandembayarea.org
END:VEVENT
BEGIN:VEVENT
DTSTART;TZID=America/Los_Angeles:20240914T103000
DTEND;TZID=America/Los_Angeles:20240914T113000
DTSTAMP:20260423T144935
CREATED:20240830T183709Z
LAST-MODIFIED:20240830T183758Z
UID:10000528-1726309800-1726313400@www.tandembayarea.org
SUMMARY:Give Me 5 Kinder Readiness
DESCRIPTION:
URL:https://www.tandembayarea.org/calendar/give-me-5-kinder-readiness/2024-09-14/
LOCATION:Pittsburg Library – Contra Costa County Library\, 80 Power Ave\, Pittsburg\, CA\, 94565\, United States
ORGANIZER;CN="Tandem%2C Partners in Early Learning":MAILTO:info@tandembayarea.org
END:VEVENT
BEGIN:VEVENT
DTSTART;TZID=America/Los_Angeles:20240827T111500
DTEND;TZID=America/Los_Angeles:20240827T114500
DTSTAMP:20260423T144935
CREATED:20240801T221537Z
LAST-MODIFIED:20240801T222044Z
UID:10000522-1724757300-1724759100@www.tandembayarea.org
SUMMARY:Community Read Aloud at Pittsburg Public Library
DESCRIPTION:
URL:https://www.tandembayarea.org/calendar/community-read-aloud-at-pittsburg-public-library-2/
LOCATION:Pittsburg Library – Contra Costa County Library\, 80 Power Ave\, Pittsburg\, CA\, 94565\, United States
ORGANIZER;CN="Tandem%2C Partners in Early Learning":MAILTO:info@tandembayarea.org
END:VEVENT
BEGIN:VEVENT
DTSTART;TZID=America/Los_Angeles:20240528T110000
DTEND;TZID=America/Los_Angeles:20240528T120000
DTSTAMP:20260423T144935
CREATED:20240501T151842Z
LAST-MODIFIED:20240501T152304Z
UID:10000442-1716894000-1716897600@www.tandembayarea.org
SUMMARY:Tandem Tuesday
DESCRIPTION:Community Read Aloud and craft activity\, bring your little ones for a literacy social event.
URL:https://www.tandembayarea.org/calendar/tandem-tuesday/
LOCATION:Pittsburg Library – Contra Costa County Library\, 80 Power Ave\, Pittsburg\, CA\, 94565\, United States
END:VEVENT
BEGIN:VEVENT
DTSTART;TZID=America/Los_Angeles:20240326T110000
DTEND;TZID=America/Los_Angeles:20240326T120000
DTSTAMP:20260423T144935
CREATED:20240301T002841Z
LAST-MODIFIED:20240301T002841Z
UID:10000433-1711450800-1711454400@www.tandembayarea.org
SUMMARY:Pittsburg Library Read Aloud with Tandem
DESCRIPTION: Families in attendance will receive a free book for their home library!
URL:https://www.tandembayarea.org/calendar/pittsburg-library-read-aloud-with-tandem/
LOCATION:Pittsburg Library – Contra Costa County Library\, 80 Power Ave\, Pittsburg\, CA\, 94565\, United States
END:VEVENT
END:VCALENDAR