BEGIN:VCALENDAR
VERSION:2.0
PRODID:-//Tandem - ECPv6.15.12//NONSGML v1.0//EN
CALSCALE:GREGORIAN
METHOD:PUBLISH
X-ORIGINAL-URL:https://www.tandembayarea.org
X-WR-CALDESC:Events for Tandem
REFRESH-INTERVAL;VALUE=DURATION:PT1H
X-Robots-Tag:noindex
X-PUBLISHED-TTL:PT1H
BEGIN:VTIMEZONE
TZID:America/Los_Angeles
BEGIN:DAYLIGHT
TZOFFSETFROM:-0800
TZOFFSETTO:-0700
TZNAME:PDT
DTSTART:20210314T100000
END:DAYLIGHT
BEGIN:STANDARD
TZOFFSETFROM:-0700
TZOFFSETTO:-0800
TZNAME:PST
DTSTART:20211107T090000
END:STANDARD
BEGIN:DAYLIGHT
TZOFFSETFROM:-0800
TZOFFSETTO:-0700
TZNAME:PDT
DTSTART:20220313T100000
END:DAYLIGHT
BEGIN:STANDARD
TZOFFSETFROM:-0700
TZOFFSETTO:-0800
TZNAME:PST
DTSTART:20221106T090000
END:STANDARD
BEGIN:DAYLIGHT
TZOFFSETFROM:-0800
TZOFFSETTO:-0700
TZNAME:PDT
DTSTART:20230312T100000
END:DAYLIGHT
BEGIN:STANDARD
TZOFFSETFROM:-0700
TZOFFSETTO:-0800
TZNAME:PST
DTSTART:20231105T090000
END:STANDARD
BEGIN:DAYLIGHT
TZOFFSETFROM:-0800
TZOFFSETTO:-0700
TZNAME:PDT
DTSTART:20240310T100000
END:DAYLIGHT
BEGIN:STANDARD
TZOFFSETFROM:-0700
TZOFFSETTO:-0800
TZNAME:PST
DTSTART:20241103T090000
END:STANDARD
END:VTIMEZONE
BEGIN:VEVENT
DTSTART;TZID=America/Los_Angeles:20230430T120000
DTEND;TZID=America/Los_Angeles:20230430T160000
DTSTAMP:20260424T051907
CREATED:20230327T203110Z
LAST-MODIFIED:20230403T180346Z
UID:10000350-1682856000-1682870400@www.tandembayarea.org
SUMMARY:Dia de Los Ninos - Dia de los Libros
DESCRIPTION:Join us at Dia de Los Ninos | Dia de los Libros! Tandem will be offering an activity and giving away books and resources.
URL:https://www.tandembayarea.org/calendar/dia-de-los-ninos-dia-de-los-libros/
LOCATION:Parque Ninos Unidos\, 3090 23rd St\, San Francisco
ATTACH;FMTTYPE=image/png:https://www.tandembayarea.org/wp-content/uploads/2023/03/DiadelosNinos_poster2023-png.png
END:VEVENT
BEGIN:VEVENT
DTSTART;TZID=America/Los_Angeles:20220424T120000
DTEND;TZID=America/Los_Angeles:20220424T160000
DTSTAMP:20260424T051907
CREATED:20220412T172616Z
LAST-MODIFIED:20220412T172618Z
UID:10000258-1650801600-1650816000@www.tandembayarea.org
SUMMARY:El Día de los Niños / Día de los Libros San Francisco
DESCRIPTION:Don’t miss this special celebration at Parque Niños Unidos at 23rd Street and Folsom in San Francisco!
URL:https://www.tandembayarea.org/calendar/el-dia-de-los-ninos-dia-de-los-libros-san-francisco/
LOCATION:Parque Ninos Unidos\, 3090 23rd St\, San Francisco
ATTACH;FMTTYPE=image/png:https://www.tandembayarea.org/wp-content/uploads/2022/04/diadelosninos2022_IG_Post-01.png
END:VEVENT
END:VCALENDAR