BEGIN:VCALENDAR
VERSION:2.0
PRODID:-//Tandem - ECPv6.15.12//NONSGML v1.0//EN
CALSCALE:GREGORIAN
METHOD:PUBLISH
X-WR-CALNAME:Tandem
X-ORIGINAL-URL:https://www.tandembayarea.org
X-WR-CALDESC:Events for Tandem
REFRESH-INTERVAL;VALUE=DURATION:PT1H
X-Robots-Tag:noindex
X-PUBLISHED-TTL:PT1H
BEGIN:VTIMEZONE
TZID:America/Los_Angeles
BEGIN:DAYLIGHT
TZOFFSETFROM:-0800
TZOFFSETTO:-0700
TZNAME:PDT
DTSTART:20210314T100000
END:DAYLIGHT
BEGIN:STANDARD
TZOFFSETFROM:-0700
TZOFFSETTO:-0800
TZNAME:PST
DTSTART:20211107T090000
END:STANDARD
BEGIN:DAYLIGHT
TZOFFSETFROM:-0800
TZOFFSETTO:-0700
TZNAME:PDT
DTSTART:20220313T100000
END:DAYLIGHT
BEGIN:STANDARD
TZOFFSETFROM:-0700
TZOFFSETTO:-0800
TZNAME:PST
DTSTART:20221106T090000
END:STANDARD
BEGIN:DAYLIGHT
TZOFFSETFROM:-0800
TZOFFSETTO:-0700
TZNAME:PDT
DTSTART:20230312T100000
END:DAYLIGHT
BEGIN:STANDARD
TZOFFSETFROM:-0700
TZOFFSETTO:-0800
TZNAME:PST
DTSTART:20231105T090000
END:STANDARD
BEGIN:DAYLIGHT
TZOFFSETFROM:-0800
TZOFFSETTO:-0700
TZNAME:PDT
DTSTART:20240310T100000
END:DAYLIGHT
BEGIN:STANDARD
TZOFFSETFROM:-0700
TZOFFSETTO:-0800
TZNAME:PST
DTSTART:20241103T090000
END:STANDARD
BEGIN:DAYLIGHT
TZOFFSETFROM:-0800
TZOFFSETTO:-0700
TZNAME:PDT
DTSTART:20250309T100000
END:DAYLIGHT
BEGIN:STANDARD
TZOFFSETFROM:-0700
TZOFFSETTO:-0800
TZNAME:PST
DTSTART:20251102T090000
END:STANDARD
BEGIN:DAYLIGHT
TZOFFSETFROM:-0800
TZOFFSETTO:-0700
TZNAME:PDT
DTSTART:20260308T100000
END:DAYLIGHT
BEGIN:STANDARD
TZOFFSETFROM:-0700
TZOFFSETTO:-0800
TZNAME:PST
DTSTART:20261101T090000
END:STANDARD
BEGIN:DAYLIGHT
TZOFFSETFROM:-0800
TZOFFSETTO:-0700
TZNAME:PDT
DTSTART:20270314T100000
END:DAYLIGHT
BEGIN:STANDARD
TZOFFSETFROM:-0700
TZOFFSETTO:-0800
TZNAME:PST
DTSTART:20271107T090000
END:STANDARD
END:VTIMEZONE
BEGIN:VEVENT
DTSTART;TZID=America/Los_Angeles:20260421T103000
DTEND;TZID=America/Los_Angeles:20260421T110000
DTSTAMP:20260423T152041
CREATED:20260327T233116Z
LAST-MODIFIED:20260327T233116Z
UID:10000891-1776767400-1776769200@www.tandembayarea.org
SUMMARY:Community Read Aloud at Ortega Library
DESCRIPTION:Presented in Cantonese.
URL:https://www.tandembayarea.org/calendar/community-read-aloud-at-ortega-library-11/
LOCATION:Ortega Branch Library\, 3223 Ortega St\, San Francisco\, CA\, 94122
END:VEVENT
BEGIN:VEVENT
DTSTART;TZID=America/Los_Angeles:20260317T103000
DTEND;TZID=America/Los_Angeles:20260317T110000
DTSTAMP:20260423T152041
CREATED:20260227T061906Z
LAST-MODIFIED:20260227T061906Z
UID:10000869-1773743400-1773745200@www.tandembayarea.org
SUMMARY:Community Read Aloud at Ortega Library
DESCRIPTION:Presented in Cantonese.
URL:https://www.tandembayarea.org/calendar/community-read-aloud-at-ortega-library-10/
LOCATION:Ortega Branch Library\, 3223 Ortega St\, San Francisco\, CA\, 94122
END:VEVENT
BEGIN:VEVENT
DTSTART;TZID=America/Los_Angeles:20260217T103000
DTEND;TZID=America/Los_Angeles:20260217T110000
DTSTAMP:20260423T152041
CREATED:20260130T223247Z
LAST-MODIFIED:20260130T223247Z
UID:10000859-1771324200-1771326000@www.tandembayarea.org
SUMMARY:Community Read Aloud at Ortega Library
DESCRIPTION:Presented in Cantonese.
URL:https://www.tandembayarea.org/calendar/community-read-aloud-at-ortega-library-9/
LOCATION:Ortega Branch Library\, 3223 Ortega St\, San Francisco\, CA\, 94122
END:VEVENT
BEGIN:VEVENT
DTSTART;TZID=America/Los_Angeles:20260120T103000
DTEND;TZID=America/Los_Angeles:20260120T110000
DTSTAMP:20260423T152041
CREATED:20251224T015019Z
LAST-MODIFIED:20251224T015019Z
UID:10000854-1768905000-1768906800@www.tandembayarea.org
SUMMARY:Community Read Aloud at Ortega Library
DESCRIPTION:Presented in Cantonese.
URL:https://www.tandembayarea.org/calendar/community-read-aloud-at-ortega-library-8/
LOCATION:Ortega Branch Library\, 3223 Ortega St\, San Francisco\, CA\, 94122
END:VEVENT
BEGIN:VEVENT
DTSTART;TZID=America/Los_Angeles:20251216T103000
DTEND;TZID=America/Los_Angeles:20251216T110000
DTSTAMP:20260423T152041
CREATED:20251126T013803Z
LAST-MODIFIED:20251126T013803Z
UID:10000835-1765881000-1765882800@www.tandembayarea.org
SUMMARY:Community Read Aloud at Ortega Library
DESCRIPTION:Presented in Cantonese.
URL:https://www.tandembayarea.org/calendar/community-read-aloud-at-ortega-library-7/
LOCATION:Ortega Branch Library\, 3223 Ortega St\, San Francisco\, CA\, 94122
END:VEVENT
BEGIN:VEVENT
DTSTART;TZID=America/Los_Angeles:20251021T103000
DTEND;TZID=America/Los_Angeles:20251021T110000
DTSTAMP:20260423T152041
CREATED:20251001T153941Z
LAST-MODIFIED:20251001T153941Z
UID:10000821-1761042600-1761044400@www.tandembayarea.org
SUMMARY:Community Read Aloud at Ortega Library
DESCRIPTION:Presented in Cantonese.
URL:https://www.tandembayarea.org/calendar/community-read-aloud-at-ortega-library-6/
LOCATION:Ortega Branch Library\, 3223 Ortega St\, San Francisco\, CA\, 94122
END:VEVENT
BEGIN:VEVENT
DTSTART;TZID=America/Los_Angeles:20250819T103000
DTEND;TZID=America/Los_Angeles:20250819T110000
DTSTAMP:20260423T152041
CREATED:20250731T235214Z
LAST-MODIFIED:20250731T235214Z
UID:10000801-1755599400-1755601200@www.tandembayarea.org
SUMMARY:Community Read Aloud at Ortega Library
DESCRIPTION:
URL:https://www.tandembayarea.org/calendar/community-read-aloud-at-ortega-library-4/
LOCATION:Ortega Branch Library\, 3223 Ortega St\, San Francisco\, CA\, 94122
END:VEVENT
BEGIN:VEVENT
DTSTART;TZID=America/Los_Angeles:20250715T103000
DTEND;TZID=America/Los_Angeles:20250715T110000
DTSTAMP:20260423T152041
CREATED:20250701T163634Z
LAST-MODIFIED:20250701T163759Z
UID:10000714-1752575400-1752577200@www.tandembayarea.org
SUMMARY:Community Read Aloud at Ortega Library
DESCRIPTION:Come join our interactive storytime for children ages 0-5 in the Ortega Meeting Room! Presented in Cantonese. No registration needed. 
URL:https://www.tandembayarea.org/calendar/community-read-aloud-at-ortega-library-3/
LOCATION:Ortega Branch Library\, 3223 Ortega St\, San Francisco\, CA\, 94122
END:VEVENT
BEGIN:VEVENT
DTSTART;TZID=America/Los_Angeles:20250617T103000
DTEND;TZID=America/Los_Angeles:20250617T110000
DTSTAMP:20260423T152041
CREATED:20250528T202259Z
LAST-MODIFIED:20250602T165541Z
UID:10000702-1750156200-1750158000@www.tandembayarea.org
SUMMARY:Community Read Aloud at Ortega Library
DESCRIPTION:Presented in Cantonese
URL:https://www.tandembayarea.org/calendar/community-read-aloud-at-ortega-library-2/
LOCATION:Ortega Branch Library\, 3223 Ortega St\, San Francisco\, CA\, 94122
END:VEVENT
BEGIN:VEVENT
DTSTART;TZID=America/Los_Angeles:20250520T103000
DTEND;TZID=America/Los_Angeles:20250520T110000
DTSTAMP:20260423T152041
CREATED:20250501T230213Z
LAST-MODIFIED:20250501T230213Z
UID:10000699-1747737000-1747738800@www.tandembayarea.org
SUMMARY:Community Read Aloud at Ortega Library
DESCRIPTION:
URL:https://www.tandembayarea.org/calendar/community-read-aloud-at-ortega-library/
LOCATION:Ortega Branch Library\, 3223 Ortega St\, San Francisco\, CA\, 94122
END:VEVENT
BEGIN:VEVENT
DTSTART;TZID=America/Los_Angeles:20231017T103000
DTEND;TZID=America/Los_Angeles:20231017T110000
DTSTAMP:20260423T152041
CREATED:20221130T192657Z
LAST-MODIFIED:20221201T195533Z
UID:10000171-1697538600-1697540400@www.tandembayarea.org
SUMMARY:Cantonese Public Read Aloud at the Ortega Library
DESCRIPTION:
URL:https://www.tandembayarea.org/calendar/cantonese-public-read-aloud-at-the-ortega-library/2023-10-17/
LOCATION:Ortega Branch Library\, 3223 Ortega St\, San Francisco\, CA\, 94122
ATTACH;FMTTYPE=image/jpeg:https://www.tandembayarea.org/wp-content/uploads/2022/10/WhereIsTheGreenSheep-e1667932748513.jpg
ORGANIZER;CN="Tandem%2C Partners in Early Learning":MAILTO:info@tandembayarea.org
END:VEVENT
BEGIN:VEVENT
DTSTART;TZID=America/Los_Angeles:20230919T103000
DTEND;TZID=America/Los_Angeles:20230919T110000
DTSTAMP:20260423T152041
CREATED:20221130T192657Z
LAST-MODIFIED:20221201T195533Z
UID:10000170-1695119400-1695121200@www.tandembayarea.org
SUMMARY:Cantonese Public Read Aloud at the Ortega Library
DESCRIPTION:
URL:https://www.tandembayarea.org/calendar/cantonese-public-read-aloud-at-the-ortega-library/2023-09-19/
LOCATION:Ortega Branch Library\, 3223 Ortega St\, San Francisco\, CA\, 94122
ATTACH;FMTTYPE=image/jpeg:https://www.tandembayarea.org/wp-content/uploads/2022/10/WhereIsTheGreenSheep-e1667932748513.jpg
ORGANIZER;CN="Tandem%2C Partners in Early Learning":MAILTO:info@tandembayarea.org
END:VEVENT
BEGIN:VEVENT
DTSTART;TZID=America/Los_Angeles:20230815T103000
DTEND;TZID=America/Los_Angeles:20230815T110000
DTSTAMP:20260423T152041
CREATED:20221130T192657Z
LAST-MODIFIED:20221201T195533Z
UID:10000169-1692095400-1692097200@www.tandembayarea.org
SUMMARY:Cantonese Public Read Aloud at the Ortega Library
DESCRIPTION:
URL:https://www.tandembayarea.org/calendar/cantonese-public-read-aloud-at-the-ortega-library/2023-08-15/
LOCATION:Ortega Branch Library\, 3223 Ortega St\, San Francisco\, CA\, 94122
ATTACH;FMTTYPE=image/jpeg:https://www.tandembayarea.org/wp-content/uploads/2022/10/WhereIsTheGreenSheep-e1667932748513.jpg
ORGANIZER;CN="Tandem%2C Partners in Early Learning":MAILTO:info@tandembayarea.org
END:VEVENT
BEGIN:VEVENT
DTSTART;TZID=America/Los_Angeles:20230718T103000
DTEND;TZID=America/Los_Angeles:20230718T110000
DTSTAMP:20260423T152041
CREATED:20221130T192657Z
LAST-MODIFIED:20221201T195533Z
UID:10000168-1689676200-1689678000@www.tandembayarea.org
SUMMARY:Cantonese Public Read Aloud at the Ortega Library
DESCRIPTION:
URL:https://www.tandembayarea.org/calendar/cantonese-public-read-aloud-at-the-ortega-library/2023-07-18/
LOCATION:Ortega Branch Library\, 3223 Ortega St\, San Francisco\, CA\, 94122
ATTACH;FMTTYPE=image/jpeg:https://www.tandembayarea.org/wp-content/uploads/2022/10/WhereIsTheGreenSheep-e1667932748513.jpg
ORGANIZER;CN="Tandem%2C Partners in Early Learning":MAILTO:info@tandembayarea.org
END:VEVENT
BEGIN:VEVENT
DTSTART;TZID=America/Los_Angeles:20230620T103000
DTEND;TZID=America/Los_Angeles:20230620T110000
DTSTAMP:20260423T152041
CREATED:20221130T192657Z
LAST-MODIFIED:20221201T195533Z
UID:10000167-1687257000-1687258800@www.tandembayarea.org
SUMMARY:Cantonese Public Read Aloud at the Ortega Library
DESCRIPTION:
URL:https://www.tandembayarea.org/calendar/cantonese-public-read-aloud-at-the-ortega-library/2023-06-20/
LOCATION:Ortega Branch Library\, 3223 Ortega St\, San Francisco\, CA\, 94122
ATTACH;FMTTYPE=image/jpeg:https://www.tandembayarea.org/wp-content/uploads/2022/10/WhereIsTheGreenSheep-e1667932748513.jpg
ORGANIZER;CN="Tandem%2C Partners in Early Learning":MAILTO:info@tandembayarea.org
END:VEVENT
BEGIN:VEVENT
DTSTART;TZID=America/Los_Angeles:20230516T103000
DTEND;TZID=America/Los_Angeles:20230516T110000
DTSTAMP:20260423T152041
CREATED:20221130T192657Z
LAST-MODIFIED:20221201T195533Z
UID:10000166-1684233000-1684234800@www.tandembayarea.org
SUMMARY:Cantonese Public Read Aloud at the Ortega Library
DESCRIPTION:
URL:https://www.tandembayarea.org/calendar/cantonese-public-read-aloud-at-the-ortega-library/2023-05-16/
LOCATION:Ortega Branch Library\, 3223 Ortega St\, San Francisco\, CA\, 94122
ATTACH;FMTTYPE=image/jpeg:https://www.tandembayarea.org/wp-content/uploads/2022/10/WhereIsTheGreenSheep-e1667932748513.jpg
ORGANIZER;CN="Tandem%2C Partners in Early Learning":MAILTO:info@tandembayarea.org
END:VEVENT
BEGIN:VEVENT
DTSTART;TZID=America/Los_Angeles:20230418T103000
DTEND;TZID=America/Los_Angeles:20230418T110000
DTSTAMP:20260423T152041
CREATED:20221130T192657Z
LAST-MODIFIED:20221201T195533Z
UID:10000165-1681813800-1681815600@www.tandembayarea.org
SUMMARY:Cantonese Public Read Aloud at the Ortega Library
DESCRIPTION:
URL:https://www.tandembayarea.org/calendar/cantonese-public-read-aloud-at-the-ortega-library/2023-04-18/
LOCATION:Ortega Branch Library\, 3223 Ortega St\, San Francisco\, CA\, 94122
ATTACH;FMTTYPE=image/jpeg:https://www.tandembayarea.org/wp-content/uploads/2022/10/WhereIsTheGreenSheep-e1667932748513.jpg
ORGANIZER;CN="Tandem%2C Partners in Early Learning":MAILTO:info@tandembayarea.org
END:VEVENT
BEGIN:VEVENT
DTSTART;TZID=America/Los_Angeles:20230321T103000
DTEND;TZID=America/Los_Angeles:20230321T110000
DTSTAMP:20260423T152041
CREATED:20221130T192657Z
LAST-MODIFIED:20221201T195533Z
UID:10000164-1679394600-1679396400@www.tandembayarea.org
SUMMARY:Cantonese Public Read Aloud at the Ortega Library
DESCRIPTION:
URL:https://www.tandembayarea.org/calendar/cantonese-public-read-aloud-at-the-ortega-library/2023-03-21/
LOCATION:Ortega Branch Library\, 3223 Ortega St\, San Francisco\, CA\, 94122
ATTACH;FMTTYPE=image/jpeg:https://www.tandembayarea.org/wp-content/uploads/2022/10/WhereIsTheGreenSheep-e1667932748513.jpg
ORGANIZER;CN="Tandem%2C Partners in Early Learning":MAILTO:info@tandembayarea.org
END:VEVENT
BEGIN:VEVENT
DTSTART;TZID=America/Los_Angeles:20230221T103000
DTEND;TZID=America/Los_Angeles:20230221T110000
DTSTAMP:20260423T152041
CREATED:20221130T192657Z
LAST-MODIFIED:20221201T195533Z
UID:10000163-1676975400-1676977200@www.tandembayarea.org
SUMMARY:Cantonese Public Read Aloud at the Ortega Library
DESCRIPTION:
URL:https://www.tandembayarea.org/calendar/cantonese-public-read-aloud-at-the-ortega-library/2023-02-21/
LOCATION:Ortega Branch Library\, 3223 Ortega St\, San Francisco\, CA\, 94122
ATTACH;FMTTYPE=image/jpeg:https://www.tandembayarea.org/wp-content/uploads/2022/10/WhereIsTheGreenSheep-e1667932748513.jpg
ORGANIZER;CN="Tandem%2C Partners in Early Learning":MAILTO:info@tandembayarea.org
END:VEVENT
BEGIN:VEVENT
DTSTART;TZID=America/Los_Angeles:20230117T103000
DTEND;TZID=America/Los_Angeles:20230117T110000
DTSTAMP:20260423T152041
CREATED:20221130T192657Z
LAST-MODIFIED:20221201T195533Z
UID:10000162-1673951400-1673953200@www.tandembayarea.org
SUMMARY:Cantonese Public Read Aloud at the Ortega Library
DESCRIPTION:
URL:https://www.tandembayarea.org/calendar/cantonese-public-read-aloud-at-the-ortega-library/2023-01-17/
LOCATION:Ortega Branch Library\, 3223 Ortega St\, San Francisco\, CA\, 94122
ATTACH;FMTTYPE=image/jpeg:https://www.tandembayarea.org/wp-content/uploads/2022/10/WhereIsTheGreenSheep-e1667932748513.jpg
ORGANIZER;CN="Tandem%2C Partners in Early Learning":MAILTO:info@tandembayarea.org
END:VEVENT
BEGIN:VEVENT
DTSTART;TZID=America/Los_Angeles:20221220T103000
DTEND;TZID=America/Los_Angeles:20221220T110000
DTSTAMP:20260423T152041
CREATED:20221130T192657Z
LAST-MODIFIED:20221201T195533Z
UID:10000161-1671532200-1671534000@www.tandembayarea.org
SUMMARY:Cantonese Public Read Aloud at the Ortega Library
DESCRIPTION:
URL:https://www.tandembayarea.org/calendar/cantonese-public-read-aloud-at-the-ortega-library/2022-12-20/
LOCATION:Ortega Branch Library\, 3223 Ortega St\, San Francisco\, CA\, 94122
ATTACH;FMTTYPE=image/jpeg:https://www.tandembayarea.org/wp-content/uploads/2022/10/WhereIsTheGreenSheep-e1667932748513.jpg
ORGANIZER;CN="Tandem%2C Partners in Early Learning":MAILTO:info@tandembayarea.org
END:VEVENT
END:VCALENDAR