BEGIN:VCALENDAR
VERSION:2.0
PRODID:-//Tandem - ECPv6.15.12//NONSGML v1.0//EN
CALSCALE:GREGORIAN
METHOD:PUBLISH
X-ORIGINAL-URL:https://www.tandembayarea.org
X-WR-CALDESC:Events for Tandem
REFRESH-INTERVAL;VALUE=DURATION:PT1H
X-Robots-Tag:noindex
X-PUBLISHED-TTL:PT1H
BEGIN:VTIMEZONE
TZID:America/Los_Angeles
BEGIN:DAYLIGHT
TZOFFSETFROM:-0800
TZOFFSETTO:-0700
TZNAME:PDT
DTSTART:20230312T100000
END:DAYLIGHT
BEGIN:STANDARD
TZOFFSETFROM:-0700
TZOFFSETTO:-0800
TZNAME:PST
DTSTART:20231105T090000
END:STANDARD
BEGIN:DAYLIGHT
TZOFFSETFROM:-0800
TZOFFSETTO:-0700
TZNAME:PDT
DTSTART:20240310T100000
END:DAYLIGHT
BEGIN:STANDARD
TZOFFSETFROM:-0700
TZOFFSETTO:-0800
TZNAME:PST
DTSTART:20241103T090000
END:STANDARD
BEGIN:DAYLIGHT
TZOFFSETFROM:-0800
TZOFFSETTO:-0700
TZNAME:PDT
DTSTART:20250309T100000
END:DAYLIGHT
BEGIN:STANDARD
TZOFFSETFROM:-0700
TZOFFSETTO:-0800
TZNAME:PST
DTSTART:20251102T090000
END:STANDARD
BEGIN:DAYLIGHT
TZOFFSETFROM:-0800
TZOFFSETTO:-0700
TZNAME:PDT
DTSTART:20260308T100000
END:DAYLIGHT
BEGIN:STANDARD
TZOFFSETFROM:-0700
TZOFFSETTO:-0800
TZNAME:PST
DTSTART:20261101T090000
END:STANDARD
END:VTIMEZONE
BEGIN:VEVENT
DTSTART;TZID=America/Los_Angeles:20250625T103000
DTEND;TZID=America/Los_Angeles:20250625T120000
DTSTAMP:20260423T213227
CREATED:20250602T163742Z
LAST-MODIFIED:20250602T163742Z
UID:10000708-1750847400-1750852800@www.tandembayarea.org
SUMMARY:OPL Tandem Playgroup
DESCRIPTION:Join Tandem\, Partners in Early Learning at these interactive learning sessions that are designed for both caregivers and children (ages 0-5). Discover new books and literacy/math activities at each session. Free book giveaways\, snacks\, and refreshments for participants. This programming is being funded and made possible by Oakland Fund for Children and Youth.
URL:https://www.tandembayarea.org/calendar/opl-tandem-playgroup/2025-06-25/
LOCATION:Oakland Public Library\, 6833 International Blvd\, Oakland\, CA\, 94621\, United States
END:VEVENT
BEGIN:VEVENT
DTSTART;TZID=America/Los_Angeles:20250618T103000
DTEND;TZID=America/Los_Angeles:20250618T120000
DTSTAMP:20260423T213227
CREATED:20250602T163742Z
LAST-MODIFIED:20250602T163742Z
UID:10000707-1750242600-1750248000@www.tandembayarea.org
SUMMARY:OPL Tandem Playgroup
DESCRIPTION:Join Tandem\, Partners in Early Learning at these interactive learning sessions that are designed for both caregivers and children (ages 0-5). Discover new books and literacy/math activities at each session. Free book giveaways\, snacks\, and refreshments for participants. This programming is being funded and made possible by Oakland Fund for Children and Youth.
URL:https://www.tandembayarea.org/calendar/opl-tandem-playgroup/2025-06-18/
LOCATION:Oakland Public Library\, 6833 International Blvd\, Oakland\, CA\, 94621\, United States
END:VEVENT
BEGIN:VEVENT
DTSTART;TZID=America/Los_Angeles:20250604T103000
DTEND;TZID=America/Los_Angeles:20250604T120000
DTSTAMP:20260423T213227
CREATED:20250602T163742Z
LAST-MODIFIED:20250602T163742Z
UID:10000706-1749033000-1749038400@www.tandembayarea.org
SUMMARY:OPL Tandem Playgroup
DESCRIPTION:Join Tandem\, Partners in Early Learning at these interactive learning sessions that are designed for both caregivers and children (ages 0-5). Discover new books and literacy/math activities at each session. Free book giveaways\, snacks\, and refreshments for participants. This programming is being funded and made possible by Oakland Fund for Children and Youth.
URL:https://www.tandembayarea.org/calendar/opl-tandem-playgroup/2025-06-04/
LOCATION:Oakland Public Library\, 6833 International Blvd\, Oakland\, CA\, 94621\, United States
END:VEVENT
BEGIN:VEVENT
DTSTART;TZID=America/Los_Angeles:20250402T103000
DTEND;TZID=America/Los_Angeles:20250402T120000
DTSTAMP:20260423T213227
CREATED:20250402T001829Z
LAST-MODIFIED:20250402T001954Z
UID:10000692-1743589800-1743595200@www.tandembayarea.org
SUMMARY:Oakland Public Library MLK Branch Play-and-Learn Group
DESCRIPTION:
URL:https://www.tandembayarea.org/calendar/oakland-public-library-mlk-branch-play-and-learn-group-2/
LOCATION:Oakland Public Library\, 6833 International Blvd\, Oakland\, CA\, 94621\, United States
ATTACH;FMTTYPE=image/jpeg:https://www.tandembayarea.org/wp-content/uploads/2025/04/1743552475019-e3084d8e-8302-4bfb-b81f-6db91909c7f2_1.jpg
END:VEVENT
BEGIN:VEVENT
DTSTART;TZID=America/Los_Angeles:20250326T103000
DTEND;TZID=America/Los_Angeles:20250326T120000
DTSTAMP:20260423T213227
CREATED:20250228T233535Z
LAST-MODIFIED:20250228T233535Z
UID:10000687-1742985000-1742990400@www.tandembayarea.org
SUMMARY:Oakland Public Library MLK Branch Play-and-Learn Group
DESCRIPTION:Tandem OPL Flyer English/Spanish
URL:https://www.tandembayarea.org/calendar/oakland-public-library-mlk-branch-play-and-learn-group/2025-03-26/
LOCATION:Oakland Public Library\, 6833 International Blvd\, Oakland\, CA\, 94621\, United States
ATTACH;FMTTYPE=application/pdf:https://www.tandembayarea.org/wp-content/uploads/2025/02/Tandem-OPL-Flyer-2024-2-1.pdf
ORGANIZER;CN="Tandem%2C Partners in Early Learning":MAILTO:info@tandembayarea.org
END:VEVENT
BEGIN:VEVENT
DTSTART;TZID=America/Los_Angeles:20250319T103000
DTEND;TZID=America/Los_Angeles:20250319T120000
DTSTAMP:20260423T213227
CREATED:20250228T233535Z
LAST-MODIFIED:20250228T233535Z
UID:10000686-1742380200-1742385600@www.tandembayarea.org
SUMMARY:Oakland Public Library MLK Branch Play-and-Learn Group
DESCRIPTION:Tandem OPL Flyer English/Spanish
URL:https://www.tandembayarea.org/calendar/oakland-public-library-mlk-branch-play-and-learn-group/2025-03-19/
LOCATION:Oakland Public Library\, 6833 International Blvd\, Oakland\, CA\, 94621\, United States
ATTACH;FMTTYPE=application/pdf:https://www.tandembayarea.org/wp-content/uploads/2025/02/Tandem-OPL-Flyer-2024-2-1.pdf
ORGANIZER;CN="Tandem%2C Partners in Early Learning":MAILTO:info@tandembayarea.org
END:VEVENT
BEGIN:VEVENT
DTSTART;TZID=America/Los_Angeles:20250312T103000
DTEND;TZID=America/Los_Angeles:20250312T120000
DTSTAMP:20260423T213227
CREATED:20250228T233535Z
LAST-MODIFIED:20250228T233535Z
UID:10000685-1741775400-1741780800@www.tandembayarea.org
SUMMARY:Oakland Public Library MLK Branch Play-and-Learn Group
DESCRIPTION:Tandem OPL Flyer English/Spanish
URL:https://www.tandembayarea.org/calendar/oakland-public-library-mlk-branch-play-and-learn-group/2025-03-12/
LOCATION:Oakland Public Library\, 6833 International Blvd\, Oakland\, CA\, 94621\, United States
ATTACH;FMTTYPE=application/pdf:https://www.tandembayarea.org/wp-content/uploads/2025/02/Tandem-OPL-Flyer-2024-2-1.pdf
ORGANIZER;CN="Tandem%2C Partners in Early Learning":MAILTO:info@tandembayarea.org
END:VEVENT
BEGIN:VEVENT
DTSTART;TZID=America/Los_Angeles:20250305T103000
DTEND;TZID=America/Los_Angeles:20250305T120000
DTSTAMP:20260423T213227
CREATED:20250228T233535Z
LAST-MODIFIED:20250228T233535Z
UID:10000684-1741170600-1741176000@www.tandembayarea.org
SUMMARY:Oakland Public Library MLK Branch Play-and-Learn Group
DESCRIPTION:Tandem OPL Flyer English/Spanish
URL:https://www.tandembayarea.org/calendar/oakland-public-library-mlk-branch-play-and-learn-group/2025-03-05/
LOCATION:Oakland Public Library\, 6833 International Blvd\, Oakland\, CA\, 94621\, United States
ATTACH;FMTTYPE=application/pdf:https://www.tandembayarea.org/wp-content/uploads/2025/02/Tandem-OPL-Flyer-2024-2-1.pdf
ORGANIZER;CN="Tandem%2C Partners in Early Learning":MAILTO:info@tandembayarea.org
END:VEVENT
BEGIN:VEVENT
DTSTART;TZID=America/Los_Angeles:20241120T103000
DTEND;TZID=America/Los_Angeles:20241120T120000
DTSTAMP:20260423T213227
CREATED:20241101T233720Z
LAST-MODIFIED:20241101T233720Z
UID:10000594-1732098600-1732104000@www.tandembayarea.org
SUMMARY:Tandem Play and Learn Group at Oakland Public Library
DESCRIPTION:Tandem OPL Flyer
URL:https://www.tandembayarea.org/calendar/tandem-play-and-learn-group-at-oakland-public-library-3/
LOCATION:Oakland Public Library\, 6833 International Blvd\, Oakland\, CA\, 94621\, United States
ATTACH;FMTTYPE=application/pdf:https://www.tandembayarea.org/wp-content/uploads/2024/11/Tandem-OPL-Flyer-2-1-1.pdf
ORGANIZER;CN="Tandem%2C Partners in Early Learning":MAILTO:info@tandembayarea.org
END:VEVENT
BEGIN:VEVENT
DTSTART;TZID=America/Los_Angeles:20241113T110000
DTEND;TZID=America/Los_Angeles:20241113T113000
DTSTAMP:20260423T213227
CREATED:20241101T232902Z
LAST-MODIFIED:20241101T233242Z
UID:10000593-1731495600-1731497400@www.tandembayarea.org
SUMMARY:Tandem Play and Learn Group at Oakland Public Library
DESCRIPTION:Tandem OPL Flyer
URL:https://www.tandembayarea.org/calendar/tandem-play-and-learn-group-at-oakland-public-library-2/
LOCATION:Oakland Public Library\, 6833 International Blvd\, Oakland\, CA\, 94621\, United States
ATTACH;FMTTYPE=application/pdf:https://www.tandembayarea.org/wp-content/uploads/2024/11/Tandem-OPL-Flyer-2-1.pdf
ORGANIZER;CN="Tandem%2C Partners in Early Learning":MAILTO:info@tandembayarea.org
END:VEVENT
BEGIN:VEVENT
DTSTART;TZID=America/Los_Angeles:20241030T103000
DTEND;TZID=America/Los_Angeles:20241030T120000
DTSTAMP:20260423T213227
CREATED:20241002T020545Z
LAST-MODIFIED:20241002T020545Z
UID:10000590-1730284200-1730289600@www.tandembayarea.org
SUMMARY:Tandem Play and Learn Group at Oakland Public Library 
DESCRIPTION:
URL:https://www.tandembayarea.org/calendar/tandem-play-and-learn-group-at-oakland-public-library/
LOCATION:Oakland Public Library\, 6833 International Blvd\, Oakland\, CA\, 94621\, United States
ORGANIZER;CN="Tandem%2C Partners in Early Learning":MAILTO:info@tandembayarea.org
END:VEVENT
BEGIN:VEVENT
DTSTART;TZID=America/Los_Angeles:20240626T103000
DTEND;TZID=America/Los_Angeles:20240626T120000
DTSTAMP:20260423T213227
CREATED:20240606T214011Z
LAST-MODIFIED:20240606T214545Z
UID:10000507-1719397800-1719403200@www.tandembayarea.org
SUMMARY:Give me 5 session at Oakland Public Library
DESCRIPTION:Tandem OPL Flyer Español
URL:https://www.tandembayarea.org/calendar/give-me-5-session-at-oakland-public-library/2024-06-26/
LOCATION:Oakland Public Library\, 6833 International Blvd\, Oakland\, CA\, 94621\, United States
ATTACH;FMTTYPE=application/pdf:https://www.tandembayarea.org/wp-content/uploads/2024/06/Tandem-OPL-Flyer.pdf
END:VEVENT
BEGIN:VEVENT
DTSTART;TZID=America/Los_Angeles:20240612T103000
DTEND;TZID=America/Los_Angeles:20240612T120000
DTSTAMP:20260423T213227
CREATED:20240606T214011Z
LAST-MODIFIED:20240606T214545Z
UID:10000506-1718188200-1718193600@www.tandembayarea.org
SUMMARY:Give me 5 session at Oakland Public Library
DESCRIPTION:Tandem OPL Flyer Español
URL:https://www.tandembayarea.org/calendar/give-me-5-session-at-oakland-public-library/2024-06-12/
LOCATION:Oakland Public Library\, 6833 International Blvd\, Oakland\, CA\, 94621\, United States
ATTACH;FMTTYPE=application/pdf:https://www.tandembayarea.org/wp-content/uploads/2024/06/Tandem-OPL-Flyer.pdf
END:VEVENT
BEGIN:VEVENT
DTSTART;TZID=America/Los_Angeles:20240320T103000
DTEND;TZID=America/Los_Angeles:20240320T120000
DTSTAMP:20260423T213227
CREATED:20240229T232050Z
LAST-MODIFIED:20240229T232050Z
UID:10000425-1710930600-1710936000@www.tandembayarea.org
SUMMARY:Give Me 5 at Oakland Public Library
DESCRIPTION:
URL:https://www.tandembayarea.org/calendar/give-me-5-at-oakland-public-library-3/
LOCATION:Oakland Public Library\, 6833 International Blvd\, Oakland\, CA\, 94621\, United States
ORGANIZER;CN="Tandem%2C Partners in Early Learning":MAILTO:info@tandembayarea.org
END:VEVENT
BEGIN:VEVENT
DTSTART;TZID=America/Los_Angeles:20240306T103000
DTEND;TZID=America/Los_Angeles:20240306T120000
DTSTAMP:20260423T213227
CREATED:20240229T231740Z
LAST-MODIFIED:20240229T231740Z
UID:10000424-1709721000-1709726400@www.tandembayarea.org
SUMMARY:Give Me 5 at Oakland Public Library
DESCRIPTION:
URL:https://www.tandembayarea.org/calendar/give-me-5-at-oakland-public-library-2/
LOCATION:Oakland Public Library\, 6833 International Blvd\, Oakland\, CA\, 94621\, United States
ORGANIZER;CN="Tandem%2C Partners in Early Learning":MAILTO:info@tandembayarea.org
END:VEVENT
END:VCALENDAR