BEGIN:VCALENDAR
VERSION:2.0
PRODID:-//Tandem - ECPv6.15.12//NONSGML v1.0//EN
CALSCALE:GREGORIAN
METHOD:PUBLISH
X-WR-CALNAME:Tandem
X-ORIGINAL-URL:https://www.tandembayarea.org
X-WR-CALDESC:Events for Tandem
REFRESH-INTERVAL;VALUE=DURATION:PT1H
X-Robots-Tag:noindex
X-PUBLISHED-TTL:PT1H
BEGIN:VTIMEZONE
TZID:America/Los_Angeles
BEGIN:DAYLIGHT
TZOFFSETFROM:-0800
TZOFFSETTO:-0700
TZNAME:PDT
DTSTART:20230312T100000
END:DAYLIGHT
BEGIN:STANDARD
TZOFFSETFROM:-0700
TZOFFSETTO:-0800
TZNAME:PST
DTSTART:20231105T090000
END:STANDARD
BEGIN:DAYLIGHT
TZOFFSETFROM:-0800
TZOFFSETTO:-0700
TZNAME:PDT
DTSTART:20240310T100000
END:DAYLIGHT
BEGIN:STANDARD
TZOFFSETFROM:-0700
TZOFFSETTO:-0800
TZNAME:PST
DTSTART:20241103T090000
END:STANDARD
BEGIN:DAYLIGHT
TZOFFSETFROM:-0800
TZOFFSETTO:-0700
TZNAME:PDT
DTSTART:20250309T100000
END:DAYLIGHT
BEGIN:STANDARD
TZOFFSETFROM:-0700
TZOFFSETTO:-0800
TZNAME:PST
DTSTART:20251102T090000
END:STANDARD
END:VTIMEZONE
BEGIN:VEVENT
DTSTART;TZID=America/Los_Angeles:20240624T140000
DTEND;TZID=America/Los_Angeles:20240624T150000
DTSTAMP:20260424T054806
CREATED:20240531T001204Z
LAST-MODIFIED:20240531T001527Z
UID:10000453-1719237600-1719241200@www.tandembayarea.org
SUMMARY:Give Me 5 Math
DESCRIPTION:Give Me 5 Math is a math-focused playgroup for parents and children ages 3-5 years. Participants will receive books and materials. Limited to 15 Children.
URL:https://www.tandembayarea.org/calendar/give-me-5-math-2/2024-06-24/
LOCATION:Multicultural Bookstore\, 260 Broadway\, Richmond\, CA\, 94804\, United States
ORGANIZER;CN="Tandem%2C Partners in Early Learning":MAILTO:info@tandembayarea.org
END:VEVENT
BEGIN:VEVENT
DTSTART;TZID=America/Los_Angeles:20240617T140000
DTEND;TZID=America/Los_Angeles:20240617T150000
DTSTAMP:20260424T054806
CREATED:20240531T001204Z
LAST-MODIFIED:20240531T001527Z
UID:10000452-1718632800-1718636400@www.tandembayarea.org
SUMMARY:Give Me 5 Math
DESCRIPTION:Give Me 5 Math is a math-focused playgroup for parents and children ages 3-5 years. Participants will receive books and materials. Limited to 15 Children.
URL:https://www.tandembayarea.org/calendar/give-me-5-math-2/2024-06-17/
LOCATION:Multicultural Bookstore\, 260 Broadway\, Richmond\, CA\, 94804\, United States
ORGANIZER;CN="Tandem%2C Partners in Early Learning":MAILTO:info@tandembayarea.org
END:VEVENT
BEGIN:VEVENT
DTSTART;TZID=America/Los_Angeles:20240610T140000
DTEND;TZID=America/Los_Angeles:20240610T150000
DTSTAMP:20260424T054806
CREATED:20240531T001204Z
LAST-MODIFIED:20240531T001527Z
UID:10000451-1718028000-1718031600@www.tandembayarea.org
SUMMARY:Give Me 5 Math
DESCRIPTION:Give Me 5 Math is a math-focused playgroup for parents and children ages 3-5 years. Participants will receive books and materials. Limited to 15 Children.
URL:https://www.tandembayarea.org/calendar/give-me-5-math-2/2024-06-10/
LOCATION:Multicultural Bookstore\, 260 Broadway\, Richmond\, CA\, 94804\, United States
ORGANIZER;CN="Tandem%2C Partners in Early Learning":MAILTO:info@tandembayarea.org
END:VEVENT
BEGIN:VEVENT
DTSTART;TZID=America/Los_Angeles:20240603T140000
DTEND;TZID=America/Los_Angeles:20240603T150000
DTSTAMP:20260424T054806
CREATED:20240531T001204Z
LAST-MODIFIED:20240531T001527Z
UID:10000450-1717423200-1717426800@www.tandembayarea.org
SUMMARY:Give Me 5 Math
DESCRIPTION:Give Me 5 Math is a math-focused playgroup for parents and children ages 3-5 years. Participants will receive books and materials. Limited to 15 Children.
URL:https://www.tandembayarea.org/calendar/give-me-5-math-2/2024-06-03/
LOCATION:Multicultural Bookstore\, 260 Broadway\, Richmond\, CA\, 94804\, United States
ORGANIZER;CN="Tandem%2C Partners in Early Learning":MAILTO:info@tandembayarea.org
END:VEVENT
END:VCALENDAR