BEGIN:VCALENDAR
VERSION:2.0
PRODID:-//Tandem - ECPv6.15.12//NONSGML v1.0//EN
CALSCALE:GREGORIAN
METHOD:PUBLISH
X-WR-CALNAME:Tandem
X-ORIGINAL-URL:https://www.tandembayarea.org
X-WR-CALDESC:Events for Tandem
REFRESH-INTERVAL;VALUE=DURATION:PT1H
X-Robots-Tag:noindex
X-PUBLISHED-TTL:PT1H
BEGIN:VTIMEZONE
TZID:America/Los_Angeles
BEGIN:DAYLIGHT
TZOFFSETFROM:-0800
TZOFFSETTO:-0700
TZNAME:PDT
DTSTART:20250309T100000
END:DAYLIGHT
BEGIN:STANDARD
TZOFFSETFROM:-0700
TZOFFSETTO:-0800
TZNAME:PST
DTSTART:20251102T090000
END:STANDARD
BEGIN:DAYLIGHT
TZOFFSETFROM:-0800
TZOFFSETTO:-0700
TZNAME:PDT
DTSTART:20260308T100000
END:DAYLIGHT
BEGIN:STANDARD
TZOFFSETFROM:-0700
TZOFFSETTO:-0800
TZNAME:PST
DTSTART:20261101T090000
END:STANDARD
BEGIN:DAYLIGHT
TZOFFSETFROM:-0800
TZOFFSETTO:-0700
TZNAME:PDT
DTSTART:20270314T100000
END:DAYLIGHT
BEGIN:STANDARD
TZOFFSETFROM:-0700
TZOFFSETTO:-0800
TZNAME:PST
DTSTART:20271107T090000
END:STANDARD
END:VTIMEZONE
BEGIN:VEVENT
DTSTART;TZID=America/Los_Angeles:20260410T100000
DTEND;TZID=America/Los_Angeles:20260410T113000
DTSTAMP:20260423T151211
CREATED:20260327T222144Z
LAST-MODIFIED:20260327T222220Z
UID:10000884-1775815200-1775820600@www.tandembayarea.org
SUMMARY:Give Me 5: El Jardín de los Sueños Cafe
DESCRIPTION:
URL:https://www.tandembayarea.org/calendar/give-me-5-jardin-de-los-suenos/2026-04-10/
LOCATION:El Jardín de los Sueños Cafe\, 12411 San Pablo Ave\, Richmond\, CA\, 94805\, United States
END:VEVENT
BEGIN:VEVENT
DTSTART;TZID=America/Los_Angeles:20260409T100000
DTEND;TZID=America/Los_Angeles:20260409T113000
DTSTAMP:20260423T151211
CREATED:20260327T222144Z
LAST-MODIFIED:20260327T222220Z
UID:10000883-1775728800-1775734200@www.tandembayarea.org
SUMMARY:Give Me 5: El Jardín de los Sueños Cafe
DESCRIPTION:
URL:https://www.tandembayarea.org/calendar/give-me-5-jardin-de-los-suenos/2026-04-09/
LOCATION:El Jardín de los Sueños Cafe\, 12411 San Pablo Ave\, Richmond\, CA\, 94805\, United States
END:VEVENT
BEGIN:VEVENT
DTSTART;TZID=America/Los_Angeles:20260408T100000
DTEND;TZID=America/Los_Angeles:20260408T113000
DTSTAMP:20260423T151211
CREATED:20260327T222144Z
LAST-MODIFIED:20260327T222220Z
UID:10000882-1775642400-1775647800@www.tandembayarea.org
SUMMARY:Give Me 5: El Jardín de los Sueños Cafe
DESCRIPTION:
URL:https://www.tandembayarea.org/calendar/give-me-5-jardin-de-los-suenos/2026-04-08/
LOCATION:El Jardín de los Sueños Cafe\, 12411 San Pablo Ave\, Richmond\, CA\, 94805\, United States
END:VEVENT
BEGIN:VEVENT
DTSTART;TZID=America/Los_Angeles:20260407T100000
DTEND;TZID=America/Los_Angeles:20260407T113000
DTSTAMP:20260423T151211
CREATED:20260327T222144Z
LAST-MODIFIED:20260327T222220Z
UID:10000881-1775556000-1775561400@www.tandembayarea.org
SUMMARY:Give Me 5: El Jardín de los Sueños Cafe
DESCRIPTION:
URL:https://www.tandembayarea.org/calendar/give-me-5-jardin-de-los-suenos/2026-04-07/
LOCATION:El Jardín de los Sueños Cafe\, 12411 San Pablo Ave\, Richmond\, CA\, 94805\, United States
END:VEVENT
BEGIN:VEVENT
DTSTART;TZID=America/Los_Angeles:20260406T100000
DTEND;TZID=America/Los_Angeles:20260406T113000
DTSTAMP:20260423T151211
CREATED:20260327T222144Z
LAST-MODIFIED:20260327T222220Z
UID:10000880-1775469600-1775475000@www.tandembayarea.org
SUMMARY:Give Me 5: El Jardín de los Sueños Cafe
DESCRIPTION:
URL:https://www.tandembayarea.org/calendar/give-me-5-jardin-de-los-suenos/2026-04-06/
LOCATION:El Jardín de los Sueños Cafe\, 12411 San Pablo Ave\, Richmond\, CA\, 94805\, United States
END:VEVENT
END:VCALENDAR