BEGIN:VCALENDAR
VERSION:2.0
PRODID:-//Tandem - ECPv6.15.12//NONSGML v1.0//EN
CALSCALE:GREGORIAN
METHOD:PUBLISH
X-WR-CALNAME:Tandem
X-ORIGINAL-URL:https://www.tandembayarea.org
X-WR-CALDESC:Events for Tandem
REFRESH-INTERVAL;VALUE=DURATION:PT1H
X-Robots-Tag:noindex
X-PUBLISHED-TTL:PT1H
BEGIN:VTIMEZONE
TZID:America/Los_Angeles
BEGIN:DAYLIGHT
TZOFFSETFROM:-0800
TZOFFSETTO:-0700
TZNAME:PDT
DTSTART:20230312T100000
END:DAYLIGHT
BEGIN:STANDARD
TZOFFSETFROM:-0700
TZOFFSETTO:-0800
TZNAME:PST
DTSTART:20231105T090000
END:STANDARD
BEGIN:DAYLIGHT
TZOFFSETFROM:-0800
TZOFFSETTO:-0700
TZNAME:PDT
DTSTART:20240310T100000
END:DAYLIGHT
BEGIN:STANDARD
TZOFFSETFROM:-0700
TZOFFSETTO:-0800
TZNAME:PST
DTSTART:20241103T090000
END:STANDARD
BEGIN:DAYLIGHT
TZOFFSETFROM:-0800
TZOFFSETTO:-0700
TZNAME:PDT
DTSTART:20250309T100000
END:DAYLIGHT
BEGIN:STANDARD
TZOFFSETFROM:-0700
TZOFFSETTO:-0800
TZNAME:PST
DTSTART:20251102T090000
END:STANDARD
END:VTIMEZONE
BEGIN:VEVENT
DTSTART;TZID=America/Los_Angeles:20241214T130000
DTEND;TZID=America/Los_Angeles:20241214T150000
DTSTAMP:20260423T212958
CREATED:20241202T202409Z
LAST-MODIFIED:20241202T202409Z
UID:10000610-1734181200-1734188400@www.tandembayarea.org
SUMMARY:Family holiday event at El Pueblo
DESCRIPTION:
URL:https://www.tandembayarea.org/calendar/family-holiday-event-at-el-pueblo/
LOCATION:De Anza Gardens\, 205 Pueblo Ave.\, Bay Point\, CA\, 94565\, United States
END:VEVENT
BEGIN:VEVENT
DTSTART;TZID=America/Los_Angeles:20241204T120000
DTEND;TZID=America/Los_Angeles:20241204T150000
DTSTAMP:20260423T212958
CREATED:20241202T200217Z
LAST-MODIFIED:20241202T200217Z
UID:10000607-1733313600-1733324400@www.tandembayarea.org
SUMMARY:Jingle Book Rock (Book Rich Environment)
DESCRIPTION:Join Contra Costa County Library and Tandem\, Partners in Early Learning at a holiday book give-away celebration! There will be free books for kids and teens\, games\, crafts and library card sign-ups.
URL:https://www.tandembayarea.org/calendar/jingle-book-rock-book-rich-environment/
LOCATION:De Anza Gardens\, 205 Pueblo Ave.\, Bay Point\, CA\, 94565\, United States
ORGANIZER;CN="Tandem%2C Partners in Early Learning":MAILTO:info@tandembayarea.org
END:VEVENT
END:VCALENDAR