BEGIN:VCALENDAR
VERSION:2.0
PRODID:-//Tandem - ECPv6.15.12//NONSGML v1.0//EN
CALSCALE:GREGORIAN
METHOD:PUBLISH
X-ORIGINAL-URL:https://www.tandembayarea.org
X-WR-CALDESC:Events for Tandem
REFRESH-INTERVAL;VALUE=DURATION:PT1H
X-Robots-Tag:noindex
X-PUBLISHED-TTL:PT1H
BEGIN:VTIMEZONE
TZID:America/Los_Angeles
BEGIN:DAYLIGHT
TZOFFSETFROM:-0800
TZOFFSETTO:-0700
TZNAME:PDT
DTSTART:20250309T100000
END:DAYLIGHT
BEGIN:STANDARD
TZOFFSETFROM:-0700
TZOFFSETTO:-0800
TZNAME:PST
DTSTART:20251102T090000
END:STANDARD
BEGIN:DAYLIGHT
TZOFFSETFROM:-0800
TZOFFSETTO:-0700
TZNAME:PDT
DTSTART:20260308T100000
END:DAYLIGHT
BEGIN:STANDARD
TZOFFSETFROM:-0700
TZOFFSETTO:-0800
TZNAME:PST
DTSTART:20261101T090000
END:STANDARD
BEGIN:DAYLIGHT
TZOFFSETFROM:-0800
TZOFFSETTO:-0700
TZNAME:PDT
DTSTART:20270314T100000
END:DAYLIGHT
BEGIN:STANDARD
TZOFFSETFROM:-0700
TZOFFSETTO:-0800
TZNAME:PST
DTSTART:20271107T090000
END:STANDARD
END:VTIMEZONE
BEGIN:VEVENT
DTSTART;TZID=America/Los_Angeles:20260311T143000
DTEND;TZID=America/Los_Angeles:20260311T153000
DTSTAMP:20260423T184948
CREATED:20260227T060340Z
LAST-MODIFIED:20260227T060340Z
UID:10000861-1773239400-1773243000@www.tandembayarea.org
SUMMARY:Give Me 5: K-Ready Bilingual Playgroup at Concord Library
DESCRIPTION:
URL:https://www.tandembayarea.org/calendar/give-me-5-k-ready-bilingual-playgroup-at-concord-library-2/
LOCATION:Concord Library\, 2900 Salvio St\, Concord\, CA\, 94519\, United States
END:VEVENT
BEGIN:VEVENT
DTSTART;TZID=America/Los_Angeles:20260211T143000
DTEND;TZID=America/Los_Angeles:20260211T153000
DTSTAMP:20260423T184948
CREATED:20260130T221428Z
LAST-MODIFIED:20260130T221428Z
UID:10000856-1770820200-1770823800@www.tandembayarea.org
SUMMARY:Give Me 5: K-Ready Bilingual Playgroup at Concord Library
DESCRIPTION:
URL:https://www.tandembayarea.org/calendar/give-me-5-k-ready-bilingual-playgroup-at-concord-library/
LOCATION:Concord Library\, 2900 Salvio St\, Concord\, CA\, 94519\, United States
END:VEVENT
BEGIN:VEVENT
DTSTART;TZID=America/Los_Angeles:20260114T143000
DTEND;TZID=America/Los_Angeles:20260114T153000
DTSTAMP:20260423T184948
CREATED:20251224T012846Z
LAST-MODIFIED:20251224T012846Z
UID:10000851-1768401000-1768404600@www.tandembayarea.org
SUMMARY:Concord Library Bilingual GM5
DESCRIPTION:
URL:https://www.tandembayarea.org/calendar/concord-library-bilingual-gm5/
LOCATION:Concord Library\, 2900 Salvio St\, Concord\, CA\, 94519\, United States
END:VEVENT
END:VCALENDAR