BEGIN:VCALENDAR
VERSION:2.0
PRODID:-//Tandem - ECPv6.15.12//NONSGML v1.0//EN
CALSCALE:GREGORIAN
METHOD:PUBLISH
X-ORIGINAL-URL:https://www.tandembayarea.org
X-WR-CALDESC:Events for Tandem
REFRESH-INTERVAL;VALUE=DURATION:PT1H
X-Robots-Tag:noindex
X-PUBLISHED-TTL:PT1H
BEGIN:VTIMEZONE
TZID:America/Los_Angeles
BEGIN:DAYLIGHT
TZOFFSETFROM:-0800
TZOFFSETTO:-0700
TZNAME:PDT
DTSTART:20210314T100000
END:DAYLIGHT
BEGIN:STANDARD
TZOFFSETFROM:-0700
TZOFFSETTO:-0800
TZNAME:PST
DTSTART:20211107T090000
END:STANDARD
BEGIN:DAYLIGHT
TZOFFSETFROM:-0800
TZOFFSETTO:-0700
TZNAME:PDT
DTSTART:20220313T100000
END:DAYLIGHT
BEGIN:STANDARD
TZOFFSETFROM:-0700
TZOFFSETTO:-0800
TZNAME:PST
DTSTART:20221106T090000
END:STANDARD
BEGIN:DAYLIGHT
TZOFFSETFROM:-0800
TZOFFSETTO:-0700
TZNAME:PDT
DTSTART:20230312T100000
END:DAYLIGHT
BEGIN:STANDARD
TZOFFSETFROM:-0700
TZOFFSETTO:-0800
TZNAME:PST
DTSTART:20231105T090000
END:STANDARD
END:VTIMEZONE
BEGIN:VEVENT
DTSTART;TZID=America/Los_Angeles:20220922T180000
DTEND;TZID=America/Los_Angeles:20220922T203000
DTSTAMP:20260424T083656
CREATED:20220830T154000Z
LAST-MODIFIED:20220830T154000Z
UID:10000275-1663869600-1663878600@www.tandembayarea.org
SUMMARY:Tandem's Building on Books Gala
DESCRIPTION:  \nAfter a three year hiatus\, we are thrilled to announce the return of the annual Tandem\, Partner’s in Early Learning gala! \nJoin Tandem for a fun-filled cocktail party featuring special guest authors and illustrators\, as well as interactive exhibits that will bring you right back to the magic of childhood. Enjoy delicious food and drink\, a silent auction\, engaging activities\, and more! All event proceeds will go towards building a more equitable future for children and families in the Bay Area! \nGet your tickets today!\n 
URL:https://www.tandembayarea.org/calendar/18569/
LOCATION:City Club of San Francisco\, 155 Sansome Street\, 10th Floor\, San Francisco\, CA\, 94104\, United States
ORGANIZER;CN="Tandem%2C Partners in Early Learning":MAILTO:info@tandembayarea.org
END:VEVENT
END:VCALENDAR