BEGIN:VCALENDAR
VERSION:2.0
PRODID:-//Tandem - ECPv6.15.12//NONSGML v1.0//EN
CALSCALE:GREGORIAN
METHOD:PUBLISH
X-WR-CALNAME:Tandem
X-ORIGINAL-URL:https://www.tandembayarea.org
X-WR-CALDESC:Events for Tandem
REFRESH-INTERVAL;VALUE=DURATION:PT1H
X-Robots-Tag:noindex
X-PUBLISHED-TTL:PT1H
BEGIN:VTIMEZONE
TZID:America/Los_Angeles
BEGIN:DAYLIGHT
TZOFFSETFROM:-0800
TZOFFSETTO:-0700
TZNAME:PDT
DTSTART:20170312T100000
END:DAYLIGHT
BEGIN:STANDARD
TZOFFSETFROM:-0700
TZOFFSETTO:-0800
TZNAME:PST
DTSTART:20171105T090000
END:STANDARD
BEGIN:DAYLIGHT
TZOFFSETFROM:-0800
TZOFFSETTO:-0700
TZNAME:PDT
DTSTART:20180311T100000
END:DAYLIGHT
BEGIN:STANDARD
TZOFFSETFROM:-0700
TZOFFSETTO:-0800
TZNAME:PST
DTSTART:20181104T090000
END:STANDARD
BEGIN:DAYLIGHT
TZOFFSETFROM:-0800
TZOFFSETTO:-0700
TZNAME:PDT
DTSTART:20190310T100000
END:DAYLIGHT
BEGIN:STANDARD
TZOFFSETFROM:-0700
TZOFFSETTO:-0800
TZNAME:PST
DTSTART:20191103T090000
END:STANDARD
END:VTIMEZONE
BEGIN:VEVENT
DTSTART;TZID=America/Los_Angeles:20180922T093000
DTEND;TZID=America/Los_Angeles:20180922T093000
DTSTAMP:20260424T024513
CREATED:20180904T222701Z
LAST-MODIFIED:20180905T000430Z
UID:10000083-1537608600-1537608600@www.tandembayarea.org
SUMMARY:MPN's Fiesta Comunitaria
DESCRIPTION:This event will be held in Spanish\, hosted by Mission Promise Neighborhood. Tandem Literacy Champions will be sharing their stories and plans for next year with other Mission families and community leaders. \nWe invite you to participate in our Community Celebration Opening Doors organized for parents who have graduated from the program Opening Doors or who are interested in participating in the program. We also invite you to meet the founder of Opening Doors\, Sandra Gutierrez. \nLe invitamos a participar en la Fiesta Comunitaria deAbriendo Puertas organizada especialmente para padresde familia que han participado en el programa\, o queestan interesados. Ademas venga y conozca a lafundadora de Abriendo Puertas Sandra Gutierrez.Literacy Champions de Tandem estarán ahí para contar de sus experiencias con el programa este año y para compartirsus planes para el año que viene.
URL:https://www.tandembayarea.org/calendar/mpns-fiesta-comunitaria/
LOCATION:Chan Kaajal Park\, 3100 17th Street\, San Francisco\, CA\, 94103\, United States
END:VEVENT
END:VCALENDAR