BEGIN:VCALENDAR
VERSION:2.0
PRODID:-//Tandem - ECPv6.15.12//NONSGML v1.0//EN
CALSCALE:GREGORIAN
METHOD:PUBLISH
X-WR-CALNAME:Tandem
X-ORIGINAL-URL:https://www.tandembayarea.org
X-WR-CALDESC:Events for Tandem
REFRESH-INTERVAL;VALUE=DURATION:PT1H
X-Robots-Tag:noindex
X-PUBLISHED-TTL:PT1H
BEGIN:VTIMEZONE
TZID:America/Los_Angeles
BEGIN:DAYLIGHT
TZOFFSETFROM:-0800
TZOFFSETTO:-0700
TZNAME:PDT
DTSTART:20180311T100000
END:DAYLIGHT
BEGIN:STANDARD
TZOFFSETFROM:-0700
TZOFFSETTO:-0800
TZNAME:PST
DTSTART:20181104T090000
END:STANDARD
BEGIN:DAYLIGHT
TZOFFSETFROM:-0800
TZOFFSETTO:-0700
TZNAME:PDT
DTSTART:20190310T100000
END:DAYLIGHT
BEGIN:STANDARD
TZOFFSETFROM:-0700
TZOFFSETTO:-0800
TZNAME:PST
DTSTART:20191103T090000
END:STANDARD
BEGIN:DAYLIGHT
TZOFFSETFROM:-0800
TZOFFSETTO:-0700
TZNAME:PDT
DTSTART:20200308T100000
END:DAYLIGHT
BEGIN:STANDARD
TZOFFSETFROM:-0700
TZOFFSETTO:-0800
TZNAME:PST
DTSTART:20201101T090000
END:STANDARD
BEGIN:DAYLIGHT
TZOFFSETFROM:-0800
TZOFFSETTO:-0700
TZNAME:PDT
DTSTART:20210314T100000
END:DAYLIGHT
BEGIN:STANDARD
TZOFFSETFROM:-0700
TZOFFSETTO:-0800
TZNAME:PST
DTSTART:20211107T090000
END:STANDARD
BEGIN:DAYLIGHT
TZOFFSETFROM:-0800
TZOFFSETTO:-0700
TZNAME:PDT
DTSTART:20220313T100000
END:DAYLIGHT
BEGIN:STANDARD
TZOFFSETFROM:-0700
TZOFFSETTO:-0800
TZNAME:PST
DTSTART:20221106T090000
END:STANDARD
BEGIN:DAYLIGHT
TZOFFSETFROM:-0800
TZOFFSETTO:-0700
TZNAME:PDT
DTSTART:20230312T100000
END:DAYLIGHT
BEGIN:STANDARD
TZOFFSETFROM:-0700
TZOFFSETTO:-0800
TZNAME:PST
DTSTART:20231105T090000
END:STANDARD
BEGIN:DAYLIGHT
TZOFFSETFROM:-0800
TZOFFSETTO:-0700
TZNAME:PDT
DTSTART:20240310T100000
END:DAYLIGHT
BEGIN:STANDARD
TZOFFSETFROM:-0700
TZOFFSETTO:-0800
TZNAME:PST
DTSTART:20241103T090000
END:STANDARD
BEGIN:DAYLIGHT
TZOFFSETFROM:-0800
TZOFFSETTO:-0700
TZNAME:PDT
DTSTART:20250309T100000
END:DAYLIGHT
BEGIN:STANDARD
TZOFFSETFROM:-0700
TZOFFSETTO:-0800
TZNAME:PST
DTSTART:20251102T090000
END:STANDARD
END:VTIMEZONE
BEGIN:VEVENT
DTSTART;TZID=America/Los_Angeles:20241012T103000
DTEND;TZID=America/Los_Angeles:20241012T113000
DTSTAMP:20260423T185226
CREATED:20241002T011840Z
LAST-MODIFIED:20241002T011840Z
UID:10000582-1728729000-1728732600@www.tandembayarea.org
SUMMARY:Give Me 5 Kinder Readiness at Antioch Library 
DESCRIPTION:
URL:https://www.tandembayarea.org/calendar/give-me-5-kinder-readiness-at-antioch-library-2/
LOCATION:Antioch Public Library\, 501 West 18th Street\, Meeting Room\, Antioch\, CA\, 94531\, United States
ORGANIZER;CN="Tandem%2C Partners in Early Learning":MAILTO:info@tandembayarea.org
END:VEVENT
BEGIN:VEVENT
DTSTART;TZID=America/Los_Angeles:20241005T103000
DTEND;TZID=America/Los_Angeles:20241005T113000
DTSTAMP:20260423T185226
CREATED:20241002T011245Z
LAST-MODIFIED:20241002T011245Z
UID:10000581-1728124200-1728127800@www.tandembayarea.org
SUMMARY:Give Me 5 Kinder Readiness at Antioch Library 
DESCRIPTION:
URL:https://www.tandembayarea.org/calendar/give-me-5-kinder-readiness-at-antioch-library/
LOCATION:Antioch Public Library\, 501 West 18th Street\, Meeting Room\, Antioch\, CA\, 94531\, United States
ORGANIZER;CN="Tandem%2C Partners in Early Learning":MAILTO:info@tandembayarea.org
END:VEVENT
BEGIN:VEVENT
DTSTART;TZID=America/Los_Angeles:20240919T110000
DTEND;TZID=America/Los_Angeles:20240919T113000
DTSTAMP:20260423T185226
CREATED:20240830T202946Z
LAST-MODIFIED:20240830T202946Z
UID:10000533-1726743600-1726745400@www.tandembayarea.org
SUMMARY:Community Read Aloud at Antioch Library
DESCRIPTION:
URL:https://www.tandembayarea.org/calendar/community-read-aloud-at-antioch-library/
LOCATION:Antioch Public Library\, 501 West 18th Street\, Meeting Room\, Antioch\, CA\, 94531\, United States
ORGANIZER;CN="Tandem%2C Partners in Early Learning":MAILTO:info@tandembayarea.org
END:VEVENT
BEGIN:VEVENT
DTSTART;TZID=America/Los_Angeles:20240815T110000
DTEND;TZID=America/Los_Angeles:20240815T113000
DTSTAMP:20260423T185226
CREATED:20240801T220453Z
LAST-MODIFIED:20240801T220453Z
UID:10000521-1723719600-1723721400@www.tandembayarea.org
SUMMARY:Community Read Aloud at Antioch Public Library
DESCRIPTION:
URL:https://www.tandembayarea.org/calendar/community-read-aloud-at-antioch-public-library/
LOCATION:Antioch Public Library\, 501 West 18th Street\, Meeting Room\, Antioch\, CA\, 94531\, United States
ORGANIZER;CN="Tandem%2C Partners in Early Learning":MAILTO:info@tandembayarea.org
END:VEVENT
BEGIN:VEVENT
DTSTART;TZID=America/Los_Angeles:20240321T110000
DTEND;TZID=America/Los_Angeles:20240321T120000
DTSTAMP:20260423T185226
CREATED:20240301T001432Z
LAST-MODIFIED:20240301T001432Z
UID:10000431-1711018800-1711022400@www.tandembayarea.org
SUMMARY:Antioch Library Read Aloud with Tandem
DESCRIPTION:Join us every week for a story time for families with children ages 0-5. Book give away every 3rd Thursday of the month.
URL:https://www.tandembayarea.org/calendar/antioch-library-read-aloud-with-tandem/
LOCATION:Antioch Public Library\, 501 West 18th Street\, Meeting Room\, Antioch\, CA\, 94531\, United States
ORGANIZER;CN="Tandem%2C Partners in Early Learning":MAILTO:info@tandembayarea.org
END:VEVENT
BEGIN:VEVENT
DTSTART;TZID=America/Los_Angeles:20200213T190000
DTEND;TZID=America/Los_Angeles:20200213T210000
DTSTAMP:20260423T185226
CREATED:20191009T180728Z
LAST-MODIFIED:20191009T180728Z
UID:10000066-1581620400-1581627600@www.tandembayarea.org
SUMMARY:Free Educator Workshop: StoryWalking
DESCRIPTION:This workshop explores the versatility of books as teaching tools. We combine an interactive classroom Read Aloud with multi-disciplinary extension activities to scaffold vocabulary\, boost student’s curiosity and critical thinking skills\, and support English language learners.\n \nCapacity: 20 (sign up using this website link via CoCoKids)
URL:https://www.tandembayarea.org/calendar/free-educator-workshop-antioch-february/
LOCATION:Antioch Public Library\, 501 West 18th Street\, Meeting Room\, Antioch\, CA\, 94531\, United States
END:VEVENT
BEGIN:VEVENT
DTSTART;TZID=America/Los_Angeles:20191024T190000
DTEND;TZID=America/Los_Angeles:20191024T210000
DTSTAMP:20260423T185227
CREATED:20191008T231638Z
LAST-MODIFIED:20191008T232034Z
UID:10000088-1571943600-1571950800@www.tandembayarea.org
SUMMARY:Educator Workshop: Cultivating Creativity
DESCRIPTION:Join us for our educator workshop! Practice teaching techniques and activities that encourage young children to explore the world of art\, take ownership of their creative process\, and build the language skills they need to describe\, criticize and develop artwork. Light snacks provided. \nCapacity:  20.  Register to attend online through CoCoKids.
URL:https://www.tandembayarea.org/calendar/educator-workshop-cultivating-creativity/
LOCATION:Antioch Public Library\, 501 West 18th Street\, Meeting Room\, Antioch\, CA\, 94531\, United States
ORGANIZER;CN="Tandem%2C Partners in Early Learning":MAILTO:info@tandembayarea.org
END:VEVENT
END:VCALENDAR