BEGIN:VCALENDAR
VERSION:2.0
PRODID:-//Tandem - ECPv6.15.12//NONSGML v1.0//EN
CALSCALE:GREGORIAN
METHOD:PUBLISH
X-WR-CALNAME:Tandem
X-ORIGINAL-URL:https://www.tandembayarea.org
X-WR-CALDESC:Events for Tandem
REFRESH-INTERVAL;VALUE=DURATION:PT1H
X-Robots-Tag:noindex
X-PUBLISHED-TTL:PT1H
BEGIN:VTIMEZONE
TZID:America/Los_Angeles
BEGIN:DAYLIGHT
TZOFFSETFROM:-0800
TZOFFSETTO:-0700
TZNAME:PDT
DTSTART:20230312T100000
END:DAYLIGHT
BEGIN:STANDARD
TZOFFSETFROM:-0700
TZOFFSETTO:-0800
TZNAME:PST
DTSTART:20231105T090000
END:STANDARD
BEGIN:DAYLIGHT
TZOFFSETFROM:-0800
TZOFFSETTO:-0700
TZNAME:PDT
DTSTART:20240310T100000
END:DAYLIGHT
BEGIN:STANDARD
TZOFFSETFROM:-0700
TZOFFSETTO:-0800
TZNAME:PST
DTSTART:20241103T090000
END:STANDARD
BEGIN:DAYLIGHT
TZOFFSETFROM:-0800
TZOFFSETTO:-0700
TZNAME:PDT
DTSTART:20250309T100000
END:DAYLIGHT
BEGIN:STANDARD
TZOFFSETFROM:-0700
TZOFFSETTO:-0800
TZNAME:PST
DTSTART:20251102T090000
END:STANDARD
BEGIN:DAYLIGHT
TZOFFSETFROM:-0800
TZOFFSETTO:-0700
TZNAME:PDT
DTSTART:20260308T100000
END:DAYLIGHT
BEGIN:STANDARD
TZOFFSETFROM:-0700
TZOFFSETTO:-0800
TZNAME:PST
DTSTART:20261101T090000
END:STANDARD
END:VTIMEZONE
BEGIN:VEVENT
DTSTART;TZID=America/Los_Angeles:20250313T160000
DTEND;TZID=America/Los_Angeles:20250313T170000
DTSTAMP:20260423T234413
CREATED:20250228T220311Z
LAST-MODIFIED:20250601T195613Z
UID:10000626-1741881600-1741885200@www.tandembayarea.org
SUMMARY:Give me 5 Kindergarten Readiness Play-and-Learn Group
DESCRIPTION:Play-and-Learn Groups\, caregivers play with their kids through guided activities while gaining knowledge of how to support their child’s development. In this 6-week series\, caregivers engage with their children in building key kindergarten readiness skills through experiments\, movement\, song\, storytelling and play.
URL:https://www.tandembayarea.org/calendar/give-me-5-play-and-learn-group/
LOCATION:Antioch First 5 Center\, 300 H St\, Antioch\, CA\, 94509\, United States
END:VEVENT
BEGIN:VEVENT
DTSTART;TZID=America/Los_Angeles:20250303T090000
DTEND;TZID=America/Los_Angeles:20250303T100000
DTSTAMP:20260423T234413
CREATED:20250226T195606Z
LAST-MODIFIED:20250228T234431Z
UID:10000624-1740992400-1740996000@www.tandembayarea.org
SUMMARY:Antioch First 5: Early Learning Workshop
DESCRIPTION:Sharing Stories\, Sharing Feelings workshop. Sign up with Antioch First 5 Center here!
URL:https://www.tandembayarea.org/calendar/antioch-first-5-early-learning-workshop/
LOCATION:Antioch First 5 Center\, 300 H St\, Antioch\, CA\, 94509\, United States
END:VEVENT
BEGIN:VEVENT
DTSTART;TZID=America/Los_Angeles:20240313T093000
DTEND;TZID=America/Los_Angeles:20240313T103000
DTSTAMP:20260423T234413
CREATED:20240301T002143Z
LAST-MODIFIED:20240301T002204Z
UID:10000432-1710322200-1710325800@www.tandembayarea.org
SUMMARY:Give Me 5 Math Class
DESCRIPTION:Registration: https://forms.gle/SmMeznjCdvHcawjP9
URL:https://www.tandembayarea.org/calendar/give-me-5-math-class/
LOCATION:Antioch First 5 Center\, 300 H St\, Antioch\, CA\, 94509\, United States
END:VEVENT
BEGIN:VEVENT
DTSTART;TZID=America/Los_Angeles:20240306T093000
DTEND;TZID=America/Los_Angeles:20240306T103000
DTSTAMP:20260423T234413
CREATED:20240301T001051Z
LAST-MODIFIED:20240301T001051Z
UID:10000430-1709717400-1709721000@www.tandembayarea.org
SUMMARY:Story time at Antioch First 5
DESCRIPTION:Families with children ages 0-5 are welcome\, no registration needed. \nFamilies will receive a free book to take home!
URL:https://www.tandembayarea.org/calendar/story-time-at-antioch-first-5/
LOCATION:Antioch First 5 Center\, 300 H St\, Antioch\, CA\, 94509\, United States
END:VEVENT
END:VCALENDAR