BEGIN:VCALENDAR
VERSION:2.0
PRODID:-//Tandem - ECPv6.15.12//NONSGML v1.0//EN
CALSCALE:GREGORIAN
METHOD:PUBLISH
X-WR-CALNAME:Tandem
X-ORIGINAL-URL:https://www.tandembayarea.org
X-WR-CALDESC:Events for Tandem
REFRESH-INTERVAL;VALUE=DURATION:PT1H
X-Robots-Tag:noindex
X-PUBLISHED-TTL:PT1H
BEGIN:VTIMEZONE
TZID:America/Los_Angeles
BEGIN:DAYLIGHT
TZOFFSETFROM:-0800
TZOFFSETTO:-0700
TZNAME:PDT
DTSTART:20230312T100000
END:DAYLIGHT
BEGIN:STANDARD
TZOFFSETFROM:-0700
TZOFFSETTO:-0800
TZNAME:PST
DTSTART:20231105T090000
END:STANDARD
BEGIN:DAYLIGHT
TZOFFSETFROM:-0800
TZOFFSETTO:-0700
TZNAME:PDT
DTSTART:20240310T100000
END:DAYLIGHT
BEGIN:STANDARD
TZOFFSETFROM:-0700
TZOFFSETTO:-0800
TZNAME:PST
DTSTART:20241103T090000
END:STANDARD
BEGIN:DAYLIGHT
TZOFFSETFROM:-0800
TZOFFSETTO:-0700
TZNAME:PDT
DTSTART:20250309T100000
END:DAYLIGHT
BEGIN:STANDARD
TZOFFSETFROM:-0700
TZOFFSETTO:-0800
TZNAME:PST
DTSTART:20251102T090000
END:STANDARD
END:VTIMEZONE
BEGIN:VEVENT
DTSTART;TZID=America/Los_Angeles:20240725T110000
DTEND;TZID=America/Los_Angeles:20240725T130000
DTSTAMP:20260424T024900
CREATED:20240709T231140Z
LAST-MODIFIED:20240709T232715Z
UID:10000520-1721905200-1721912400@www.tandembayarea.org
SUMMARY:Tandem GM5 Play Group at Roots Community Health
DESCRIPTION:Español
URL:https://www.tandembayarea.org/calendar/tandem-play-group-at-roots-community-health/2024-07-25/
LOCATION:7929 Ney Ave\, Oakland\, CA 94605\, USA\, 7929 Ney Ave\, Oakland\, CA\, 94607\, United States
ATTACH;FMTTYPE=application/pdf:https://www.tandembayarea.org/wp-content/uploads/2024/07/Tandem-GiveMe5-6-1-1.pdf
END:VEVENT
BEGIN:VEVENT
DTSTART;TZID=America/Los_Angeles:20240711T110000
DTEND;TZID=America/Los_Angeles:20240711T130000
DTSTAMP:20260424T024900
CREATED:20240709T231140Z
LAST-MODIFIED:20240709T232715Z
UID:10000518-1720695600-1720702800@www.tandembayarea.org
SUMMARY:Tandem GM5 Play Group at Roots Community Health
DESCRIPTION:Español
URL:https://www.tandembayarea.org/calendar/tandem-play-group-at-roots-community-health/2024-07-11/
LOCATION:7929 Ney Ave\, Oakland\, CA 94605\, USA\, 7929 Ney Ave\, Oakland\, CA\, 94607\, United States
ATTACH;FMTTYPE=application/pdf:https://www.tandembayarea.org/wp-content/uploads/2024/07/Tandem-GiveMe5-6-1-1.pdf
END:VEVENT
END:VCALENDAR