BEGIN:VCALENDAR
VERSION:2.0
PRODID:-//Tandem - ECPv6.15.12//NONSGML v1.0//EN
CALSCALE:GREGORIAN
METHOD:PUBLISH
X-ORIGINAL-URL:https://www.tandembayarea.org
X-WR-CALDESC:Events for Tandem
REFRESH-INTERVAL;VALUE=DURATION:PT1H
X-Robots-Tag:noindex
X-PUBLISHED-TTL:PT1H
BEGIN:VTIMEZONE
TZID:America/Los_Angeles
BEGIN:DAYLIGHT
TZOFFSETFROM:-0800
TZOFFSETTO:-0700
TZNAME:PDT
DTSTART:20230312T100000
END:DAYLIGHT
BEGIN:STANDARD
TZOFFSETFROM:-0700
TZOFFSETTO:-0800
TZNAME:PST
DTSTART:20231105T090000
END:STANDARD
BEGIN:DAYLIGHT
TZOFFSETFROM:-0800
TZOFFSETTO:-0700
TZNAME:PDT
DTSTART:20240310T100000
END:DAYLIGHT
BEGIN:STANDARD
TZOFFSETFROM:-0700
TZOFFSETTO:-0800
TZNAME:PST
DTSTART:20241103T090000
END:STANDARD
BEGIN:DAYLIGHT
TZOFFSETFROM:-0800
TZOFFSETTO:-0700
TZNAME:PDT
DTSTART:20250309T100000
END:DAYLIGHT
BEGIN:STANDARD
TZOFFSETFROM:-0700
TZOFFSETTO:-0800
TZNAME:PST
DTSTART:20251102T090000
END:STANDARD
END:VTIMEZONE
BEGIN:VEVENT
DTSTART;TZID=America/Los_Angeles:20240607T160000
DTEND;TZID=America/Los_Angeles:20240607T190000
DTSTAMP:20260424T045523
CREATED:20240530T235655Z
LAST-MODIFIED:20240530T235655Z
UID:10000445-1717776000-1717786800@www.tandembayarea.org
SUMMARY:ECMHP Summer Kick Off
DESCRIPTION:ECMHP annual summer kick off bringing community together to spread awareness around children’s mental health and the many resources available to support children and families in our community. This is a FREE event with live music\, free food\, games\, raffle giveaways and much more!
URL:https://www.tandembayarea.org/calendar/ecmhp-summer-kick-off/
LOCATION:200 24th St. Richmond\, CA 94804\, 200 24th St.\, Richmond\, CA\, 94804\, United States
ATTACH;FMTTYPE=image/png:https://www.tandembayarea.org/wp-content/uploads/2024/05/image004.png
END:VEVENT
END:VCALENDAR