BEGIN:VCALENDAR
VERSION:2.0
PRODID:-//Tandem - ECPv6.15.12//NONSGML v1.0//EN
CALSCALE:GREGORIAN
METHOD:PUBLISH
X-WR-CALNAME:Tandem
X-ORIGINAL-URL:https://www.tandembayarea.org
X-WR-CALDESC:Events for Tandem
REFRESH-INTERVAL;VALUE=DURATION:PT1H
X-Robots-Tag:noindex
X-PUBLISHED-TTL:PT1H
BEGIN:VTIMEZONE
TZID:America/Los_Angeles
BEGIN:DAYLIGHT
TZOFFSETFROM:-0800
TZOFFSETTO:-0700
TZNAME:PDT
DTSTART:20220313T100000
END:DAYLIGHT
BEGIN:STANDARD
TZOFFSETFROM:-0700
TZOFFSETTO:-0800
TZNAME:PST
DTSTART:20221106T090000
END:STANDARD
BEGIN:DAYLIGHT
TZOFFSETFROM:-0800
TZOFFSETTO:-0700
TZNAME:PDT
DTSTART:20230312T100000
END:DAYLIGHT
BEGIN:STANDARD
TZOFFSETFROM:-0700
TZOFFSETTO:-0800
TZNAME:PST
DTSTART:20231105T090000
END:STANDARD
BEGIN:DAYLIGHT
TZOFFSETFROM:-0800
TZOFFSETTO:-0700
TZNAME:PDT
DTSTART:20240310T100000
END:DAYLIGHT
BEGIN:STANDARD
TZOFFSETFROM:-0700
TZOFFSETTO:-0800
TZNAME:PST
DTSTART:20241103T090000
END:STANDARD
END:VTIMEZONE
BEGIN:VEVENT
DTSTART;TZID=America/Los_Angeles:20230708T103000
DTEND;TZID=America/Los_Angeles:20230708T150000
DTSTAMP:20260424T000537
CREATED:20230627T203934Z
LAST-MODIFIED:20230627T203934Z
UID:10000357-1688812200-1688828400@www.tandembayarea.org
SUMMARY:Bayview Children's Day
DESCRIPTION:Wu Yee Children’s Services is hosting a free community resource fair for families with young children.\nThere will be free workshops: housing/low-income renting and nature play with young children.\nWe will have free food\, face painting\, story-telling\, arts and crafts\, dancing\, puppet show\, and music. \nWu Ye Children’s Services está organizando una feria gratuita de recursos comunitarios para que las familias con niños.\nTalleres: vivienda/alquiler de bajos ingresos y jugar en la naturaleza con los niños.\nTendremos comida gratis\, pintura de caras\, narración de cuentos\, artes y manualidades\, baile\, espectáculo de marionetas y música. \nwu Yee 兒童服務正在為家有幼童的家庭舉辦免費的社區資源展覽會。\n免費研討會：住房/低收入租賃和與幼兒的自然遊戲\n我們會有免費食物、面部彩縉、、講故事、手工藝、舞蹈、木偶戲和音樂。 \nCLICK HERE TO REGISTER \n  \n     
URL:https://www.tandembayarea.org/calendar/bayview-childrens-day/
LOCATION:Southeast Community Center\, 1550 Evans Ave\, San Francisco\, CA\, 94124
END:VEVENT
BEGIN:VEVENT
DTSTART;TZID=America/Los_Angeles:20230404T110000
DTEND;TZID=America/Los_Angeles:20230404T120000
DTSTAMP:20260424T000537
CREATED:20230302T230909Z
LAST-MODIFIED:20230302T230909Z
UID:10000325-1680606000-1680609600@www.tandembayarea.org
SUMMARY:Edgewood FRC: African American Play and Learn Groups
DESCRIPTION:
URL:https://www.tandembayarea.org/calendar/edgewood-frc-african-american-play-and-learn-groups/2023-04-04/
LOCATION:4900 3rd street\, San Francisco\, 4900 3rd Street @ Palou & Oakdale\, San Francisco\, CA\, United States
ATTACH;FMTTYPE=image/png:https://www.tandembayarea.org/wp-content/uploads/2023/03/Upload_20230302-2300241024_1.png
END:VEVENT
BEGIN:VEVENT
DTSTART;TZID=America/Los_Angeles:20230307T110000
DTEND;TZID=America/Los_Angeles:20230307T120000
DTSTAMP:20260424T000537
CREATED:20230302T230909Z
LAST-MODIFIED:20230302T230909Z
UID:10000324-1678186800-1678190400@www.tandembayarea.org
SUMMARY:Edgewood FRC: African American Play and Learn Groups
DESCRIPTION:
URL:https://www.tandembayarea.org/calendar/edgewood-frc-african-american-play-and-learn-groups/2023-03-07/
LOCATION:4900 3rd street\, San Francisco\, 4900 3rd Street @ Palou & Oakdale\, San Francisco\, CA\, United States
ATTACH;FMTTYPE=image/png:https://www.tandembayarea.org/wp-content/uploads/2023/03/Upload_20230302-2300241024_1.png
END:VEVENT
END:VCALENDAR