BEGIN:VCALENDAR
VERSION:2.0
PRODID:-//Tandem - ECPv6.15.12//NONSGML v1.0//EN
CALSCALE:GREGORIAN
METHOD:PUBLISH
X-WR-CALNAME:Tandem
X-ORIGINAL-URL:https://www.tandembayarea.org
X-WR-CALDESC:Events for Tandem
REFRESH-INTERVAL;VALUE=DURATION:PT1H
X-Robots-Tag:noindex
X-PUBLISHED-TTL:PT1H
BEGIN:VTIMEZONE
TZID:America/Los_Angeles
BEGIN:DAYLIGHT
TZOFFSETFROM:-0800
TZOFFSETTO:-0700
TZNAME:PDT
DTSTART:20210314T100000
END:DAYLIGHT
BEGIN:STANDARD
TZOFFSETFROM:-0700
TZOFFSETTO:-0800
TZNAME:PST
DTSTART:20211107T090000
END:STANDARD
BEGIN:DAYLIGHT
TZOFFSETFROM:-0800
TZOFFSETTO:-0700
TZNAME:PDT
DTSTART:20220313T100000
END:DAYLIGHT
BEGIN:STANDARD
TZOFFSETFROM:-0700
TZOFFSETTO:-0800
TZNAME:PST
DTSTART:20221106T090000
END:STANDARD
BEGIN:DAYLIGHT
TZOFFSETFROM:-0800
TZOFFSETTO:-0700
TZNAME:PDT
DTSTART:20230312T100000
END:DAYLIGHT
BEGIN:STANDARD
TZOFFSETFROM:-0700
TZOFFSETTO:-0800
TZNAME:PST
DTSTART:20231105T090000
END:STANDARD
END:VTIMEZONE
BEGIN:VEVENT
DTSTART;TZID=America/Los_Angeles:20221206T113000
DTEND;TZID=America/Los_Angeles:20221206T123000
DTSTAMP:20260424T062856
CREATED:20221104T201005Z
LAST-MODIFIED:20221109T225143Z
UID:10000154-1670326200-1670329800@www.tandembayarea.org
SUMMARY:Home Visiting Program Socialization (English\, Spanish\, Chinese)
DESCRIPTION:
URL:https://www.tandembayarea.org/calendar/home-visiting-program-socialization/2022-12-06/
LOCATION:Bayview Community Hub\, 4900 3rd Street\, San Francisco\, United States
ATTACH;FMTTYPE=image/png:https://www.tandembayarea.org/wp-content/uploads/2022/11/FCT-ENG.png
END:VEVENT
BEGIN:VEVENT
DTSTART;TZID=America/Los_Angeles:20221122T113000
DTEND;TZID=America/Los_Angeles:20221122T123000
DTSTAMP:20260424T062856
CREATED:20221104T201005Z
LAST-MODIFIED:20221109T225143Z
UID:10000153-1669116600-1669120200@www.tandembayarea.org
SUMMARY:Home Visiting Program Socialization (English\, Spanish\, Chinese)
DESCRIPTION:
URL:https://www.tandembayarea.org/calendar/home-visiting-program-socialization/2022-11-22/
LOCATION:Bayview Community Hub\, 4900 3rd Street\, San Francisco\, United States
ATTACH;FMTTYPE=image/png:https://www.tandembayarea.org/wp-content/uploads/2022/11/FCT-ENG.png
END:VEVENT
BEGIN:VEVENT
DTSTART;TZID=America/Los_Angeles:20221108T113000
DTEND;TZID=America/Los_Angeles:20221108T123000
DTSTAMP:20260424T062856
CREATED:20221104T201005Z
LAST-MODIFIED:20221109T225143Z
UID:10000152-1667907000-1667910600@www.tandembayarea.org
SUMMARY:Home Visiting Program Socialization (English\, Spanish\, Chinese)
DESCRIPTION:
URL:https://www.tandembayarea.org/calendar/home-visiting-program-socialization/2022-11-08/
LOCATION:Bayview Community Hub\, 4900 3rd Street\, San Francisco\, United States
ATTACH;FMTTYPE=image/png:https://www.tandembayarea.org/wp-content/uploads/2022/11/FCT-ENG.png
END:VEVENT
END:VCALENDAR