BEGIN:VCALENDAR
VERSION:2.0
PRODID:-//Tandem - ECPv6.15.12//NONSGML v1.0//EN
CALSCALE:GREGORIAN
METHOD:PUBLISH
X-WR-CALNAME:Tandem
X-ORIGINAL-URL:https://www.tandembayarea.org
X-WR-CALDESC:Events for Tandem
REFRESH-INTERVAL;VALUE=DURATION:PT1H
X-Robots-Tag:noindex
X-PUBLISHED-TTL:PT1H
BEGIN:VTIMEZONE
TZID:America/Los_Angeles
BEGIN:DAYLIGHT
TZOFFSETFROM:-0800
TZOFFSETTO:-0700
TZNAME:PDT
DTSTART:20230312T100000
END:DAYLIGHT
BEGIN:STANDARD
TZOFFSETFROM:-0700
TZOFFSETTO:-0800
TZNAME:PST
DTSTART:20231105T090000
END:STANDARD
BEGIN:DAYLIGHT
TZOFFSETFROM:-0800
TZOFFSETTO:-0700
TZNAME:PDT
DTSTART:20240310T100000
END:DAYLIGHT
BEGIN:STANDARD
TZOFFSETFROM:-0700
TZOFFSETTO:-0800
TZNAME:PST
DTSTART:20241103T090000
END:STANDARD
BEGIN:DAYLIGHT
TZOFFSETFROM:-0800
TZOFFSETTO:-0700
TZNAME:PDT
DTSTART:20250309T100000
END:DAYLIGHT
BEGIN:STANDARD
TZOFFSETFROM:-0700
TZOFFSETTO:-0800
TZNAME:PST
DTSTART:20251102T090000
END:STANDARD
BEGIN:DAYLIGHT
TZOFFSETFROM:-0800
TZOFFSETTO:-0700
TZNAME:PDT
DTSTART:20260308T100000
END:DAYLIGHT
BEGIN:STANDARD
TZOFFSETFROM:-0700
TZOFFSETTO:-0800
TZNAME:PST
DTSTART:20261101T090000
END:STANDARD
END:VTIMEZONE
BEGIN:VEVENT
DTSTART;TZID=America/Los_Angeles:20250327T103000
DTEND;TZID=America/Los_Angeles:20250327T110000
DTSTAMP:20260423T182741
CREATED:20250228T231649Z
LAST-MODIFIED:20250228T231649Z
UID:10000683-1743071400-1743073200@www.tandembayarea.org
SUMMARY:Community Read Aloud at Pinole Library
DESCRIPTION:Join us for an engaging\, interactive read aloud for children ages 0-5!
URL:https://www.tandembayarea.org/calendar/community-read-aloud-at-pinole-library-4/
LOCATION:Pinole Public Library\, 2935 Pinole Valley Road\, Pinole\, CA\, 94564\, United States
ORGANIZER;CN="Tandem%2C Partners in Early Learning":MAILTO:info@tandembayarea.org
END:VEVENT
BEGIN:VEVENT
DTSTART;TZID=America/Los_Angeles:20250326T103000
DTEND;TZID=America/Los_Angeles:20250326T120000
DTSTAMP:20260423T182741
CREATED:20250228T233535Z
LAST-MODIFIED:20250228T233535Z
UID:10000687-1742985000-1742990400@www.tandembayarea.org
SUMMARY:Oakland Public Library MLK Branch Play-and-Learn Group
DESCRIPTION:Tandem OPL Flyer English/Spanish
URL:https://www.tandembayarea.org/calendar/oakland-public-library-mlk-branch-play-and-learn-group/2025-03-26/
LOCATION:Oakland Public Library\, 6833 International Blvd\, Oakland\, CA\, 94621\, United States
ATTACH;FMTTYPE=application/pdf:https://www.tandembayarea.org/wp-content/uploads/2025/02/Tandem-OPL-Flyer-2024-2-1.pdf
ORGANIZER;CN="Tandem%2C Partners in Early Learning":MAILTO:info@tandembayarea.org
END:VEVENT
BEGIN:VEVENT
DTSTART;TZID=America/Los_Angeles:20250320T111500
DTEND;TZID=America/Los_Angeles:20250320T114500
DTSTAMP:20260423T182741
CREATED:20250228T231306Z
LAST-MODIFIED:20250228T231431Z
UID:10000682-1742469300-1742471100@www.tandembayarea.org
SUMMARY:Community Read Aloud at Pittsburg Library
DESCRIPTION:Join us for an engaging\, interactive read aloud for children ages 0-5!
URL:https://www.tandembayarea.org/calendar/community-read-aloud-at-pittsburg-library-7/
LOCATION:Pittsburg Library – Contra Costa County Library\, 80 Power Ave\, Pittsburg\, CA\, 94565\, United States
ORGANIZER;CN="Tandem%2C Partners in Early Learning":MAILTO:info@tandembayarea.org
END:VEVENT
BEGIN:VEVENT
DTSTART;TZID=America/Los_Angeles:20250320T110000
DTEND;TZID=America/Los_Angeles:20250320T113000
DTSTAMP:20260423T182742
CREATED:20250228T230539Z
LAST-MODIFIED:20250228T231152Z
UID:10000681-1742468400-1742470200@www.tandembayarea.org
SUMMARY:Community Read Aloud at Antioch Library
DESCRIPTION:Join us for an engaging\, interactive read aloud for children ages 0-5!
URL:https://www.tandembayarea.org/calendar/community-read-aloud-at-antioch-library-7/
LOCATION:Antioch Public Library\, 501 West 18th Street\, Meeting Room\, Antioch\, CA\, 94531\, United States
ORGANIZER;CN="Tandem%2C Partners in Early Learning":MAILTO:info@tandembayarea.org
END:VEVENT
BEGIN:VEVENT
DTSTART;TZID=America/Los_Angeles:20250319T103000
DTEND;TZID=America/Los_Angeles:20250319T120000
DTSTAMP:20260423T182742
CREATED:20250228T233535Z
LAST-MODIFIED:20250228T233535Z
UID:10000686-1742380200-1742385600@www.tandembayarea.org
SUMMARY:Oakland Public Library MLK Branch Play-and-Learn Group
DESCRIPTION:Tandem OPL Flyer English/Spanish
URL:https://www.tandembayarea.org/calendar/oakland-public-library-mlk-branch-play-and-learn-group/2025-03-19/
LOCATION:Oakland Public Library\, 6833 International Blvd\, Oakland\, CA\, 94621\, United States
ATTACH;FMTTYPE=application/pdf:https://www.tandembayarea.org/wp-content/uploads/2025/02/Tandem-OPL-Flyer-2024-2-1.pdf
ORGANIZER;CN="Tandem%2C Partners in Early Learning":MAILTO:info@tandembayarea.org
END:VEVENT
BEGIN:VEVENT
DTSTART;TZID=America/Los_Angeles:20250319T100000
DTEND;TZID=America/Los_Angeles:20250319T103000
DTSTAMP:20260423T182742
CREATED:20240916T215357Z
LAST-MODIFIED:20240916T215357Z
UID:10000574-1742378400-1742380200@www.tandembayarea.org
SUMMARY:Cantonese Zoom Read Aloud
DESCRIPTION:
URL:https://www.tandembayarea.org/calendar/cantonese-zoom-read-aloud-7/
LOCATION:Zoom
ORGANIZER;CN="Tandem%2C Partners in Early Learning":MAILTO:info@tandembayarea.org
END:VEVENT
BEGIN:VEVENT
DTSTART;TZID=America/Los_Angeles:20250313T160000
DTEND;TZID=America/Los_Angeles:20250313T170000
DTSTAMP:20260423T182742
CREATED:20250228T220311Z
LAST-MODIFIED:20250601T195613Z
UID:10000626-1741881600-1741885200@www.tandembayarea.org
SUMMARY:Give me 5 Kindergarten Readiness Play-and-Learn Group
DESCRIPTION:Play-and-Learn Groups\, caregivers play with their kids through guided activities while gaining knowledge of how to support their child’s development. In this 6-week series\, caregivers engage with their children in building key kindergarten readiness skills through experiments\, movement\, song\, storytelling and play.
URL:https://www.tandembayarea.org/calendar/give-me-5-play-and-learn-group/
LOCATION:Antioch First 5 Center\, 300 H St\, Antioch\, CA\, 94509\, United States
END:VEVENT
BEGIN:VEVENT
DTSTART;TZID=America/Los_Angeles:20250312T103000
DTEND;TZID=America/Los_Angeles:20250312T120000
DTSTAMP:20260423T182742
CREATED:20250228T233535Z
LAST-MODIFIED:20250228T233535Z
UID:10000685-1741775400-1741780800@www.tandembayarea.org
SUMMARY:Oakland Public Library MLK Branch Play-and-Learn Group
DESCRIPTION:Tandem OPL Flyer English/Spanish
URL:https://www.tandembayarea.org/calendar/oakland-public-library-mlk-branch-play-and-learn-group/2025-03-12/
LOCATION:Oakland Public Library\, 6833 International Blvd\, Oakland\, CA\, 94621\, United States
ATTACH;FMTTYPE=application/pdf:https://www.tandembayarea.org/wp-content/uploads/2025/02/Tandem-OPL-Flyer-2024-2-1.pdf
ORGANIZER;CN="Tandem%2C Partners in Early Learning":MAILTO:info@tandembayarea.org
END:VEVENT
BEGIN:VEVENT
DTSTART;TZID=America/Los_Angeles:20250312T100000
DTEND;TZID=America/Los_Angeles:20250312T103000
DTSTAMP:20260423T182742
CREATED:20240916T215237Z
LAST-MODIFIED:20240916T215237Z
UID:10000573-1741773600-1741775400@www.tandembayarea.org
SUMMARY:Spanish Zoom Read Aloud
DESCRIPTION:
URL:https://www.tandembayarea.org/calendar/spanish-zoom-read-aloud-7/
LOCATION:Zoom
ORGANIZER;CN="Tandem%2C Partners in Early Learning":MAILTO:info@tandembayarea.org
END:VEVENT
BEGIN:VEVENT
DTSTART;TZID=America/Los_Angeles:20250305T103000
DTEND;TZID=America/Los_Angeles:20250305T120000
DTSTAMP:20260423T182742
CREATED:20250228T233535Z
LAST-MODIFIED:20250228T233535Z
UID:10000684-1741170600-1741176000@www.tandembayarea.org
SUMMARY:Oakland Public Library MLK Branch Play-and-Learn Group
DESCRIPTION:Tandem OPL Flyer English/Spanish
URL:https://www.tandembayarea.org/calendar/oakland-public-library-mlk-branch-play-and-learn-group/2025-03-05/
LOCATION:Oakland Public Library\, 6833 International Blvd\, Oakland\, CA\, 94621\, United States
ATTACH;FMTTYPE=application/pdf:https://www.tandembayarea.org/wp-content/uploads/2025/02/Tandem-OPL-Flyer-2024-2-1.pdf
ORGANIZER;CN="Tandem%2C Partners in Early Learning":MAILTO:info@tandembayarea.org
END:VEVENT
BEGIN:VEVENT
DTSTART;TZID=America/Los_Angeles:20250305T100000
DTEND;TZID=America/Los_Angeles:20250305T103000
DTSTAMP:20260423T182742
CREATED:20240916T215126Z
LAST-MODIFIED:20240916T215126Z
UID:10000572-1741168800-1741170600@www.tandembayarea.org
SUMMARY:English Zoom Read Aloud
DESCRIPTION:
URL:https://www.tandembayarea.org/calendar/english-zoom-read-aloud-6/
LOCATION:Zoom
ORGANIZER;CN="Tandem%2C Partners in Early Learning":MAILTO:info@tandembayarea.org
END:VEVENT
BEGIN:VEVENT
DTSTART;TZID=America/Los_Angeles:20250301T100000
DTEND;TZID=America/Los_Angeles:20250301T130000
DTSTAMP:20260423T182742
CREATED:20250226T184640Z
LAST-MODIFIED:20250228T222931Z
UID:10000623-1740823200-1740834000@www.tandembayarea.org
SUMMARY:Read Aloud: Family Reading Event MDAE
DESCRIPTION:Join us for an in person read aloud!
URL:https://www.tandembayarea.org/calendar/read-aloud-family-reading-event-mdae-family/
LOCATION:Loma Vista Adult School\, 1266 San Carlos Ave\, Concord\, CA\, 94518\, United States
ORGANIZER;CN="Tandem%2C Partners in Early Learning":MAILTO:info@tandembayarea.org
END:VEVENT
BEGIN:VEVENT
DTSTART;TZID=America/Los_Angeles:20250227T103000
DTEND;TZID=America/Los_Angeles:20250227T110000
DTSTAMP:20260423T182742
CREATED:20250201T015313Z
LAST-MODIFIED:20250201T015313Z
UID:10000622-1740652200-1740654000@www.tandembayarea.org
SUMMARY:Community Read Aloud at Pinole Library
DESCRIPTION:
URL:https://www.tandembayarea.org/calendar/community-read-aloud-at-pinole-library-3/
LOCATION:Pinole Public Library\, 2935 Pinole Valley Road\, Pinole\, CA\, 94564\, United States
ORGANIZER;CN="Tandem%2C Partners in Early Learning":MAILTO:info@tandembayarea.org
END:VEVENT
BEGIN:VEVENT
DTSTART;TZID=America/Los_Angeles:20250225T111500
DTEND;TZID=America/Los_Angeles:20250225T114500
DTSTAMP:20260423T182742
CREATED:20250201T015113Z
LAST-MODIFIED:20250201T015113Z
UID:10000621-1740482100-1740483900@www.tandembayarea.org
SUMMARY:Community Read Aloud at Pittsburg Library
DESCRIPTION:
URL:https://www.tandembayarea.org/calendar/community-read-aloud-at-pittsburg-library-6/
LOCATION:Pittsburg Library – Contra Costa County Library\, 80 Power Ave\, Pittsburg\, CA\, 94565\, United States
ORGANIZER;CN="Tandem%2C Partners in Early Learning":MAILTO:info@tandembayarea.org
END:VEVENT
BEGIN:VEVENT
DTSTART;TZID=America/Los_Angeles:20250220T110000
DTEND;TZID=America/Los_Angeles:20250220T113000
DTSTAMP:20260423T182742
CREATED:20250201T014658Z
LAST-MODIFIED:20250201T014658Z
UID:10000620-1740049200-1740051000@www.tandembayarea.org
SUMMARY:Community Read Aloud at Antioch Library
DESCRIPTION:
URL:https://www.tandembayarea.org/calendar/community-read-aloud-at-antioch-library-6/
LOCATION:Antioch Public Library\, 501 West 18th Street\, Meeting Room\, Antioch\, CA\, 94531\, United States
ORGANIZER;CN="Tandem%2C Partners in Early Learning":MAILTO:info@tandembayarea.org
END:VEVENT
BEGIN:VEVENT
DTSTART;TZID=America/Los_Angeles:20250219T100000
DTEND;TZID=America/Los_Angeles:20250219T103000
DTSTAMP:20260423T182742
CREATED:20240916T215021Z
LAST-MODIFIED:20240916T215021Z
UID:10000571-1739959200-1739961000@www.tandembayarea.org
SUMMARY:Cantonese Zoom Read Aloud
DESCRIPTION:
URL:https://www.tandembayarea.org/calendar/cantonese-zoom-read-aloud-6/
LOCATION:Zoom
ORGANIZER;CN="Tandem%2C Partners in Early Learning":MAILTO:info@tandembayarea.org
END:VEVENT
BEGIN:VEVENT
DTSTART;TZID=America/Los_Angeles:20250212T100000
DTEND;TZID=America/Los_Angeles:20250212T103000
DTSTAMP:20260423T182742
CREATED:20240916T214908Z
LAST-MODIFIED:20240916T214908Z
UID:10000570-1739354400-1739356200@www.tandembayarea.org
SUMMARY:Spanish Zoom Read Aloud
DESCRIPTION:
URL:https://www.tandembayarea.org/calendar/spanish-zoom-read-aloud-6/
LOCATION:Zoom
ORGANIZER;CN="Tandem%2C Partners in Early Learning":MAILTO:info@tandembayarea.org
END:VEVENT
BEGIN:VEVENT
DTSTART;TZID=America/Los_Angeles:20250205T100000
DTEND;TZID=America/Los_Angeles:20250205T103000
DTSTAMP:20260423T182742
CREATED:20240916T214749Z
LAST-MODIFIED:20240916T214749Z
UID:10000569-1738749600-1738751400@www.tandembayarea.org
SUMMARY:English Zoom Read Aloud
DESCRIPTION:
URL:https://www.tandembayarea.org/calendar/english-zoom-read-aloud-5/
LOCATION:Zoom
ORGANIZER;CN="Tandem%2C Partners in Early Learning":MAILTO:info@tandembayarea.org
END:VEVENT
BEGIN:VEVENT
DTSTART;TZID=America/Los_Angeles:20250128T111500
DTEND;TZID=America/Los_Angeles:20250128T114500
DTSTAMP:20260423T182742
CREATED:20250102T235056Z
LAST-MODIFIED:20250102T235056Z
UID:10000617-1738062900-1738064700@www.tandembayarea.org
SUMMARY:Community Read Aloud at Pittsburg Library
DESCRIPTION:
URL:https://www.tandembayarea.org/calendar/community-read-aloud-at-pittsburg-library-5/
LOCATION:Pittsburg Library – Contra Costa County Library\, 80 Power Ave\, Pittsburg\, CA\, 94565\, United States
ORGANIZER;CN="Tandem%2C Partners in Early Learning":MAILTO:info@tandembayarea.org
END:VEVENT
BEGIN:VEVENT
DTSTART;TZID=America/Los_Angeles:20250123T103000
DTEND;TZID=America/Los_Angeles:20250123T110000
DTSTAMP:20260423T182742
CREATED:20250102T235223Z
LAST-MODIFIED:20250117T230910Z
UID:10000618-1737628200-1737630000@www.tandembayarea.org
SUMMARY:Community Read Aloud at Pinole Library
DESCRIPTION:
URL:https://www.tandembayarea.org/calendar/community-read-aloud-at-pinole-library-2/
LOCATION:Pinole Public Library\, 2935 Pinole Valley Road\, Pinole\, CA\, 94564\, United States
ORGANIZER;CN="Tandem%2C Partners in Early Learning":MAILTO:info@tandembayarea.org
END:VEVENT
BEGIN:VEVENT
DTSTART;TZID=America/Los_Angeles:20250122T100000
DTEND;TZID=America/Los_Angeles:20250122T103000
DTSTAMP:20260423T182742
CREATED:20240916T214422Z
LAST-MODIFIED:20250117T231459Z
UID:10000568-1737540000-1737541800@www.tandembayarea.org
SUMMARY:Cantonese Zoom Read Aloud
DESCRIPTION:
URL:https://www.tandembayarea.org/calendar/cantonese-zoom-read-aloud-5/
LOCATION:Zoom
ATTACH;FMTTYPE=image/jpeg:https://www.tandembayarea.org/wp-content/uploads/2024/09/0122-Chinese-RA-e1737155693356.jpg
ORGANIZER;CN="Tandem%2C Partners in Early Learning":MAILTO:info@tandembayarea.org
END:VEVENT
BEGIN:VEVENT
DTSTART;TZID=America/Los_Angeles:20250116T110000
DTEND;TZID=America/Los_Angeles:20250116T113000
DTSTAMP:20260423T182742
CREATED:20250102T234814Z
LAST-MODIFIED:20250102T234814Z
UID:10000616-1737025200-1737027000@www.tandembayarea.org
SUMMARY:Community Read Aloud at Antioch Library
DESCRIPTION:
URL:https://www.tandembayarea.org/calendar/community-read-aloud-at-antioch-library-5/
LOCATION:Antioch Public Library\, 501 West 18th Street\, Meeting Room\, Antioch\, CA\, 94531\, United States
ORGANIZER;CN="Tandem%2C Partners in Early Learning":MAILTO:info@tandembayarea.org
END:VEVENT
BEGIN:VEVENT
DTSTART;TZID=America/Los_Angeles:20250115T100000
DTEND;TZID=America/Los_Angeles:20250115T103000
DTSTAMP:20260423T182742
CREATED:20240916T214200Z
LAST-MODIFIED:20240916T214200Z
UID:10000567-1736935200-1736937000@www.tandembayarea.org
SUMMARY:Spanish Zoom Read Aloud
DESCRIPTION:
URL:https://www.tandembayarea.org/calendar/spanish-zoom-read-aloud-5/
LOCATION:Zoom
ORGANIZER;CN="Tandem%2C Partners in Early Learning":MAILTO:info@tandembayarea.org
END:VEVENT
BEGIN:VEVENT
DTSTART;TZID=America/Los_Angeles:20250108T100000
DTEND;TZID=America/Los_Angeles:20250108T223000
DTSTAMP:20260423T182742
CREATED:20240916T213937Z
LAST-MODIFIED:20240916T213937Z
UID:10000566-1736330400-1736375400@www.tandembayarea.org
SUMMARY:English Zoom Read Aloud
DESCRIPTION:
URL:https://www.tandembayarea.org/calendar/english-zoom-read-aloud-4/
LOCATION:Zoom
ORGANIZER;CN="Tandem%2C Partners in Early Learning":MAILTO:info@tandembayarea.org
END:VEVENT
BEGIN:VEVENT
DTSTART;TZID=America/Los_Angeles:20241219T110000
DTEND;TZID=America/Los_Angeles:20241219T113000
DTSTAMP:20260423T182742
CREATED:20241202T203942Z
LAST-MODIFIED:20250102T234057Z
UID:10000613-1734606000-1734607800@www.tandembayarea.org
SUMMARY:Community Read Aloud at Antioch Library
DESCRIPTION:
URL:https://www.tandembayarea.org/calendar/community-read-aloud-at-antioch-library-4/
LOCATION:Antioch Public Library\, 501 West 18th Street\, Meeting Room\, Antioch\, CA\, 94531\, United States
ORGANIZER;CN="Tandem%2C Partners in Early Learning":MAILTO:info@tandembayarea.org
END:VEVENT
BEGIN:VEVENT
DTSTART;TZID=America/Los_Angeles:20241218T100000
DTEND;TZID=America/Los_Angeles:20241218T103000
DTSTAMP:20260423T182742
CREATED:20240916T213741Z
LAST-MODIFIED:20240916T213741Z
UID:10000565-1734516000-1734517800@www.tandembayarea.org
SUMMARY:Cantonese Zoom Read Aloud
DESCRIPTION:
URL:https://www.tandembayarea.org/calendar/cantonese-zoom-read-aloud-4/
LOCATION:Zoom
ORGANIZER;CN="Tandem%2C Partners in Early Learning":MAILTO:info@tandembayarea.org
END:VEVENT
BEGIN:VEVENT
DTSTART;TZID=America/Los_Angeles:20241217T111500
DTEND;TZID=America/Los_Angeles:20241217T114500
DTSTAMP:20260423T182742
CREATED:20241202T203656Z
LAST-MODIFIED:20241202T203656Z
UID:10000612-1734434100-1734435900@www.tandembayarea.org
SUMMARY:Community Read Aloud at Pittsburg Library
DESCRIPTION:
URL:https://www.tandembayarea.org/calendar/community-read-aloud-at-pittsburg-library-4/
LOCATION:Pittsburg Library – Contra Costa County Library\, 80 Power Ave\, Pittsburg\, CA\, 94565\, United States
ORGANIZER;CN="Tandem%2C Partners in Early Learning":MAILTO:info@tandembayarea.org
END:VEVENT
BEGIN:VEVENT
DTSTART;TZID=America/Los_Angeles:20241211T130000
DTEND;TZID=America/Los_Angeles:20241211T140000
DTSTAMP:20260423T182742
CREATED:20241202T201451Z
LAST-MODIFIED:20241202T201451Z
UID:10000608-1733922000-1733925600@www.tandembayarea.org
SUMMARY:Give Me 5 Math at West County First 5 Center
DESCRIPTION:Give Me 5 Math is a math-focused playgroup for parents and children ages 3-5 years. Participants will receive books and materials.
URL:https://www.tandembayarea.org/calendar/give-me-5-math-at-west-county-first-5-center-4/
LOCATION:West County First 5 Center\, 2707 Dover Ave\, San Pablo\, CA\, 94806\, United States
ORGANIZER;CN="Tandem%2C Partners in Early Learning":MAILTO:info@tandembayarea.org
END:VEVENT
BEGIN:VEVENT
DTSTART;TZID=America/Los_Angeles:20241211T100000
DTEND;TZID=America/Los_Angeles:20241211T223000
DTSTAMP:20260423T182742
CREATED:20240916T213625Z
LAST-MODIFIED:20240916T213625Z
UID:10000564-1733911200-1733956200@www.tandembayarea.org
SUMMARY:Spanish Zoom Read Aloud
DESCRIPTION:
URL:https://www.tandembayarea.org/calendar/spanish-zoom-read-aloud-4/
LOCATION:Zoom
ORGANIZER;CN="Tandem%2C Partners in Early Learning":MAILTO:info@tandembayarea.org
END:VEVENT
BEGIN:VEVENT
DTSTART;TZID=America/Los_Angeles:20241209T103000
DTEND;TZID=America/Los_Angeles:20241209T113000
DTSTAMP:20260423T182742
CREATED:20241202T195624Z
LAST-MODIFIED:20241202T195624Z
UID:10000606-1733740200-1733743800@www.tandembayarea.org
SUMMARY:Give Me 5 Math at Pittsburg Library
DESCRIPTION:Give Me 5 Math is a math-focused playgroup for parents and children ages 3-5 years. Participants will receive books and materials. Limited to 15 Children.
URL:https://www.tandembayarea.org/calendar/give-me-5-math-at-pittsburg-library-5/
LOCATION:Pittsburg Library – Contra Costa County Library\, 80 Power Ave\, Pittsburg\, CA\, 94565\, United States
ORGANIZER;CN="Tandem%2C Partners in Early Learning":MAILTO:info@tandembayarea.org
END:VEVENT
END:VCALENDAR