BEGIN:VCALENDAR
VERSION:2.0
PRODID:-//Tandem - ECPv6.15.12//NONSGML v1.0//EN
CALSCALE:GREGORIAN
METHOD:PUBLISH
X-ORIGINAL-URL:https://www.tandembayarea.org
X-WR-CALDESC:Events for Tandem
REFRESH-INTERVAL;VALUE=DURATION:PT1H
X-Robots-Tag:noindex
X-PUBLISHED-TTL:PT1H
BEGIN:VTIMEZONE
TZID:America/Los_Angeles
BEGIN:DAYLIGHT
TZOFFSETFROM:-0800
TZOFFSETTO:-0700
TZNAME:PDT
DTSTART:20200308T100000
END:DAYLIGHT
BEGIN:STANDARD
TZOFFSETFROM:-0700
TZOFFSETTO:-0800
TZNAME:PST
DTSTART:20201101T090000
END:STANDARD
BEGIN:DAYLIGHT
TZOFFSETFROM:-0800
TZOFFSETTO:-0700
TZNAME:PDT
DTSTART:20210314T100000
END:DAYLIGHT
BEGIN:STANDARD
TZOFFSETFROM:-0700
TZOFFSETTO:-0800
TZNAME:PST
DTSTART:20211107T090000
END:STANDARD
BEGIN:DAYLIGHT
TZOFFSETFROM:-0800
TZOFFSETTO:-0700
TZNAME:PDT
DTSTART:20220313T100000
END:DAYLIGHT
BEGIN:STANDARD
TZOFFSETFROM:-0700
TZOFFSETTO:-0800
TZNAME:PST
DTSTART:20221106T090000
END:STANDARD
BEGIN:DAYLIGHT
TZOFFSETFROM:-0800
TZOFFSETTO:-0700
TZNAME:PDT
DTSTART:20230312T100000
END:DAYLIGHT
BEGIN:STANDARD
TZOFFSETFROM:-0700
TZOFFSETTO:-0800
TZNAME:PST
DTSTART:20231105T090000
END:STANDARD
END:VTIMEZONE
BEGIN:VEVENT
DTSTART;TZID=America/Los_Angeles:20220309T190000
DTEND;TZID=America/Los_Angeles:20220309T203000
DTSTAMP:20260425T114747
CREATED:20220124T210610Z
LAST-MODIFIED:20220207T192617Z
UID:10000239-1646852400-1646857800@www.tandembayarea.org
SUMMARY:Taller: Trauma 101-Identificar y Entender
DESCRIPTION:¡Tandem® te invita a asistir a un taller!\nEn linea via CocoKids.\n\nParte 1 de 2: Aprenda sobre los conceptos básicos del trauma. ¿Qué es? ¿Cómo afecta el cerebro y el cuerpo? Compartiremos algunas estrategias sensibles al trauma que ayudan a todos los niños a calmarse a sí mismos y discutiremos cómo los adultos pueden responder de manera segura a los comportamientos desafiantes de los niños. Al final de este taller\, cada participante creará un plan de apoyo para un niño individual bajo su cuidado.\nHaga clic para registrarse
URL:https://www.tandembayarea.org/calendar/taller-trauma-101-identificar-y-entender/
LOCATION:Zoom
ATTACH;FMTTYPE=image/png:https://www.tandembayarea.org/wp-content/uploads/2020/08/CocoKids-Webinars_Supporting-Students-with-Trauma-1.png
END:VEVENT
BEGIN:VEVENT
DTSTART;TZID=America/Los_Angeles:20220224T100000
DTEND;TZID=America/Los_Angeles:20220224T103000
DTSTAMP:20260425T114747
CREATED:20220209T002026Z
LAST-MODIFIED:20220209T002028Z
UID:10000250-1645696800-1645698600@www.tandembayarea.org
SUMMARY:Bilingual Interactive Zoom Storytime - Serie de lecturas interactivas
DESCRIPTION:Join Tandem and OUSD for our interactive Read Aloud Series. At each bilingual read aloud we will explore kindergarten readiness skills and discuss tips to share books with children ages 0-5. Every Tuesday and Thursday throughout February at 10am!\n\nAcompañe a Tandem\, Partners in Early Learning® y OUSD a una SERIE DE LECTURAS INTERACTIVAS. Estas lecturas interactivas bilingues explorarán las destrezas del Kinder y tendremos una discusión de ideas para compartir libros. Martes y Jueves Feb 1 a Feb 24: 10am.\n\nClick to join us / haga clic para entrar\nMeeting ID: 84835995384
URL:https://www.tandembayarea.org/calendar/bilingual-interactive-zoom-storytime-serie-de-lecturas-interactivas-4/
LOCATION:Zoom
ATTACH;FMTTYPE=image/jpeg:https://www.tandembayarea.org/wp-content/uploads/2016/08/Kids-look-at-book-3-e1644365091972.jpg
ORGANIZER;CN="Tandem%2C Partners in Early Learning":MAILTO:info@tandembayarea.org
END:VEVENT
BEGIN:VEVENT
DTSTART;TZID=America/Los_Angeles:20220222T100000
DTEND;TZID=America/Los_Angeles:20220222T103000
DTSTAMP:20260425T114747
CREATED:20220209T001822Z
LAST-MODIFIED:20220209T001824Z
UID:10000248-1645524000-1645525800@www.tandembayarea.org
SUMMARY:Bilingual Interactive Zoom Storytime - Serie de lecturas interactivas
DESCRIPTION:Join Tandem and OUSD for our interactive Read Aloud Series. At each bilingual read aloud we will explore kindergarten readiness skills and discuss tips to share books with children ages 0-5. Every Tuesday and Thursday throughout February at 10am!\n\nAcompañe a Tandem\, Partners in Early Learning® y OUSD a una SERIE DE LECTURAS INTERACTIVAS. Estas lecturas interactivas bilingues explorarán las destrezas del Kinder y tendremos una discusión de ideas para compartir libros. Martes y Jueves Feb 1 a Feb 24: 10am.\n\nClick to join us / haga clic para entrar\nMeeting ID: 84835995384
URL:https://www.tandembayarea.org/calendar/bilingual-interactive-zoom-storytime-serie-de-lecturas-interactivas-3/
LOCATION:Zoom
ATTACH;FMTTYPE=image/jpeg:https://www.tandembayarea.org/wp-content/uploads/2016/08/Kids-look-at-book-3-e1644365091972.jpg
ORGANIZER;CN="Tandem%2C Partners in Early Learning":MAILTO:info@tandembayarea.org
END:VEVENT
BEGIN:VEVENT
DTSTART;TZID=America/Los_Angeles:20220222T100000
DTEND;TZID=America/Los_Angeles:20220222T103000
DTSTAMP:20260425T114747
CREATED:20220207T191612Z
LAST-MODIFIED:20220207T191626Z
UID:10000245-1645524000-1645525800@www.tandembayarea.org
SUMMARY:Hora de cuentos en vivo: Una casa
DESCRIPTION:Para niños de 0 a 5 años\n¡Acompáñenos para una lectura divertida e interactiva!\nInscríbase aquí: bit.ly/tandemevent\nYa se inscribió usted? Sólo tiene que hacerlo una vez.\nBusque en su correo el link para nuestro salón de Zoom.\nEl mensaje tendrá el título “Tandem Event Registration Successful”\n\n 
URL:https://www.tandembayarea.org/calendar/hora-de-cuentos-en-vivo-una-casa/
LOCATION:Zoom
ATTACH;FMTTYPE=image/jpeg:https://www.tandembayarea.org/wp-content/uploads/2022/02/House.jpg
ORGANIZER;CN="Tandem%2C Partners in Early Learning":MAILTO:info@tandembayarea.org
END:VEVENT
BEGIN:VEVENT
DTSTART;TZID=America/Los_Angeles:20220217T100000
DTEND;TZID=America/Los_Angeles:20220217T103000
DTSTAMP:20260425T114747
CREATED:20220209T001559Z
LAST-MODIFIED:20220209T001601Z
UID:10000247-1645092000-1645093800@www.tandembayarea.org
SUMMARY:Bilingual Interactive Zoom Storytime - Serie de lecturas interactivas
DESCRIPTION:Join Tandem and OUSD for our interactive Read Aloud Series. At each bilingual read aloud we will explore kindergarten readiness skills and discuss tips to share books with children ages 0-5. Every Tuesday and Thursday throughout February at 10am!\n\nAcompañe a Tandem\, Partners in Early Learning® y OUSD a una SERIE DE LECTURAS INTERACTIVAS. Estas lecturas interactivas bilingues explorarán las destrezas del Kinder y tendremos una discusión de ideas para compartir libros. Martes y Jueves Feb 1 a Feb 24: 10am.\n\nClick to join us / haga clic para entrar\nMeeting ID: 84835995384
URL:https://www.tandembayarea.org/calendar/bilingual-interactive-zoom-storytime-serie-de-lecturas-interactivas-2/
LOCATION:Zoom
ATTACH;FMTTYPE=image/jpeg:https://www.tandembayarea.org/wp-content/uploads/2016/08/Kids-look-at-book-3-e1644365091972.jpg
ORGANIZER;CN="Tandem%2C Partners in Early Learning":MAILTO:info@tandembayarea.org
END:VEVENT
BEGIN:VEVENT
DTSTART;TZID=America/Los_Angeles:20220215T100000
DTEND;TZID=America/Los_Angeles:20220215T103000
DTSTAMP:20260425T114747
CREATED:20220209T001035Z
LAST-MODIFIED:20220209T002030Z
UID:10000246-1644919200-1644921000@www.tandembayarea.org
SUMMARY:Bilingual Interactive Zoom Storytime - Serie de lecturas interactivas
DESCRIPTION:Join Tandem and OUSD for our interactive Read Aloud Series. At each bilingual read aloud we will explore kindergarten readiness skills and discuss tips to share books with children ages 0-5. Every Tuesday and Thursday throughout February at 10am!\n\nAcompañe a Tandem\, Partners in Early Learning® y OUSD a una SERIE DE LECTURAS INTERACTIVAS. Estas lecturas interactivas bilingues explorarán las destrezas del Kinder y tendremos una discusión de ideas para compartir libros. Martes y Jueves Feb 1 a Feb 24: 10am.\n\nClick to join us / haga clic para entrar\nMeeting ID: 84835995384
URL:https://www.tandembayarea.org/calendar/bilingual-interactive-zoom-storytime-serie-de-lecturas-interactivas/
LOCATION:Zoom
ATTACH;FMTTYPE=image/jpeg:https://www.tandembayarea.org/wp-content/uploads/2016/08/Kids-look-at-book-3-e1644365091972.jpg
ORGANIZER;CN="Tandem%2C Partners in Early Learning":MAILTO:info@tandembayarea.org
END:VEVENT
BEGIN:VEVENT
DTSTART;TZID=America/Los_Angeles:20220215T100000
DTEND;TZID=America/Los_Angeles:20220215T103000
DTSTAMP:20260425T114747
CREATED:20220207T191257Z
LAST-MODIFIED:20220208T233435Z
UID:10000243-1644919200-1644921000@www.tandembayarea.org
SUMMARY:Live Read Aloud: "I Got the Rhythm"
DESCRIPTION:For children ages 0-5!\n\nJoin us for an engaging\, interactive\, LIVE Read Aloud of I Got the Rhythm!\n\n \n\nRegister here: bit.ly/tandemevent\nAlready Registered? You only need to do it once for all our public events.\nCheck your email for the link to our Zoom Room.\nSubject “Tandem Event Registration Successful”\n\n 
URL:https://www.tandembayarea.org/calendar/live-read-aloud-i-got-rhythm/
LOCATION:Zoom
ATTACH;FMTTYPE=image/jpeg:https://www.tandembayarea.org/wp-content/uploads/2022/02/Rhythm.jpg
ORGANIZER;CN="Tandem%2C Partners in Early Learning":MAILTO:info@tandembayarea.org
END:VEVENT
BEGIN:VEVENT
DTSTART;TZID=America/Los_Angeles:20220210T150000
DTEND;TZID=America/Los_Angeles:20220210T153000
DTSTAMP:20260425T114747
CREATED:20220207T190840Z
LAST-MODIFIED:20220207T190842Z
UID:10000244-1644505200-1644507000@www.tandembayarea.org
SUMMARY:0至5歲兒童粵語Zoom朗讀: 小小人兒來幫忙
DESCRIPTION:02月10日\n3:00下午\nTandem早期學習導師，Susan邀請您和您的孩子參加她直播的有趣和互動粵語朗讀。 此朗讀最適合0至5歲的兒童。\n\n請在此網站註冊 Register here: bit.ly/tandemevent\n已經登記了？ 您只需要登記一次就可以參加我們的全部公開活動。\n請查看您的電子郵件獲取Zoom的鏈接。\n主題 “成功註冊Tandem的活動”\n\n 
URL:https://www.tandembayarea.org/calendar/0%e8%87%b35%e6%ad%b2%e5%85%92%e7%ab%a5%e7%b2%b5%e8%aa%9ezoom%e6%9c%97%e8%ae%80-%e5%b0%8f%e5%b0%8f%e4%ba%ba%e5%85%92%e4%be%86%e5%b9%ab%e5%bf%99/
LOCATION:Zoom
ATTACH;FMTTYPE=image/jpeg:https://www.tandembayarea.org/wp-content/uploads/2022/02/Little-people.jpg
ORGANIZER;CN="Tandem%2C Partners in Early Learning":MAILTO:info@tandembayarea.org
END:VEVENT
BEGIN:VEVENT
DTSTART;TZID=America/Los_Angeles:20220131T100000
DTEND;TZID=America/Los_Angeles:20220131T103000
DTSTAMP:20260425T114747
CREATED:20220119T215118Z
LAST-MODIFIED:20220119T215118Z
UID:10000237-1643623200-1643625000@www.tandembayarea.org
SUMMARY:Live Read Aloud: "Pete the Cat and His Four Groovy Buttons"
DESCRIPTION:For children ages 0-5!\n\nJoin us for an engaging\, interactive\, LIVE Read Aloud of Pete the Cat and His Four Groovy Buttons by Eric Litwin!\n\n \n\nRegister here: bit.ly/tandemevent\nAlready Registered? You only need to do it once for all our public events.\nCheck your email for the link to our Zoom Room.\nSubject “Tandem Event Registration Successful”\n\n\n\n\n\n 
URL:https://www.tandembayarea.org/calendar/live-read-aloud-pete-the-cat-and-his-four-groovy-buttons/
LOCATION:Zoom
ORGANIZER;CN="Tandem%2C Partners in Early Learning":MAILTO:info@tandembayarea.org
END:VEVENT
BEGIN:VEVENT
DTSTART;TZID=America/Los_Angeles:20220124T100000
DTEND;TZID=America/Los_Angeles:20220124T103000
DTSTAMP:20260425T114747
CREATED:20220119T214759Z
LAST-MODIFIED:20220119T214801Z
UID:10000236-1643018400-1643020200@www.tandembayarea.org
SUMMARY:Hora de cuentos en vivo: Moo!
DESCRIPTION:Para niños de 0 a 5 años\n\n\n¡Acompáñenos para una lectura divertida e interactiva!\n \n\nInscríbase aquí: bit.ly/tandemevent\nYa se inscribió usted? Sólo tiene que hacerlo una vez.\nBusque en su correo el link para nuestro salón de Zoom.\nEl mensaje tendrá el título “Tandem Event Registration Successful”
URL:https://www.tandembayarea.org/calendar/hora-de-cuentos-en-vivo-moo/
LOCATION:Zoom
ORGANIZER;CN="Tandem%2C Partners in Early Learning":MAILTO:info@tandembayarea.org
END:VEVENT
BEGIN:VEVENT
DTSTART;TZID=America/Los_Angeles:20220112T190000
DTEND;TZID=America/Los_Angeles:20220112T203000
DTSTAMP:20260425T114747
CREATED:20220111T000456Z
LAST-MODIFIED:20220112T170222Z
UID:10000110-1642014000-1642019400@www.tandembayarea.org
SUMMARY:Educator Workshop: Building Literacy-Rich Environments
DESCRIPTION:Join Tandem for our FREE educator workshop: “Building Literacy-Rich Environments.” This event is hosted by CoCoKids. All educators and family support professionals are invited to register for free. \nParticipants will learn how to build children’s literacy skills all day long\, not just during storytime. We will share and practice a variety of word games\, rhyming songs\, and hands-on activities geared specifically toward developing the American Library Association’s Six Skills of Early Literacy. \nREGISTER FOR FREE TO ATTEND \n 
URL:https://www.tandembayarea.org/calendar/educator-workshop-building-literacy-rich-environments/
LOCATION:Zoom
ORGANIZER;CN="Tandem%2C Partners in Early Learning":MAILTO:info@tandembayarea.org
END:VEVENT
BEGIN:VEVENT
DTSTART;TZID=America/Los_Angeles:20211216T100000
DTEND;TZID=America/Los_Angeles:20211216T103000
DTSTAMP:20260425T114747
CREATED:20211201T192132Z
LAST-MODIFIED:20211201T192132Z
UID:10000109-1639648800-1639650600@www.tandembayarea.org
SUMMARY:Hora de cuentos en vivo: La Primera Luna Llena de Gatita
DESCRIPTION:Para niños de 0 a 5 años\n¡Acompáñenos para una lectura divertida e interactiva!\n \n\nInscríbase aquí: bit.ly/tandemevent\nYa se inscribió usted? Sólo tiene que hacerlo una vez.\nBusque en su correo el link para nuestro salón de Zoom.\nEl mensaje tendrá el título “Tandem Event Registration Successful”\n\n\n\n\n\n 
URL:https://www.tandembayarea.org/calendar/hora-de-cuentos-en-vivo-la-primera-luna-llena-de-gatita/
LOCATION:Zoom
ORGANIZER;CN="Tandem%2C Partners in Early Learning":MAILTO:info@tandembayarea.org
END:VEVENT
BEGIN:VEVENT
DTSTART;TZID=America/Los_Angeles:20211214T180000
DTEND;TZID=America/Los_Angeles:20211214T190000
DTSTAMP:20260425T114747
CREATED:20211118T004341Z
LAST-MODIFIED:20211201T192644Z
UID:10000105-1639504800-1639508400@www.tandembayarea.org
SUMMARY:Building on Books: Live Online Author Panel Discussion!
DESCRIPTION:Join us on Zoom for a discussion on how storybooks can help children to cultivate a sense of belonging. Our special guests include Dr. Michael Genhart\, Minh Le\, Isabel Quintero\, and Meera Sriram. \nLearn more about this event and our special guest authors on our Building on Books webpage.\nProfessional development certificates are available for all attending early childhood educators. Space is limited –  Register for your tickets today! 
URL:https://www.tandembayarea.org/calendar/building-on-books-live-online-author-panel-discussion/
LOCATION:Zoom
ORGANIZER;CN="Tandem%2C Partners in Early Learning":MAILTO:info@tandembayarea.org
END:VEVENT
BEGIN:VEVENT
DTSTART;TZID=America/Los_Angeles:20211207T150000
DTEND;TZID=America/Los_Angeles:20211207T153000
DTSTAMP:20260425T114747
CREATED:20211201T191646Z
LAST-MODIFIED:20211201T191649Z
UID:10000106-1638889200-1638891000@www.tandembayarea.org
SUMMARY:0至5歲兒童粵語Zoom朗讀: 貓熊澡堂
DESCRIPTION:12月07日\n3:00下午\nTandem早期學習導師，Susan邀請您和您的孩子參加她直播的有趣和互動粵語朗讀。 此朗讀最適合0至5歲的兒童。\n\n \n\n請在此網站註冊 Register here: bit.ly/tandemevent\n已經登記了？ 您只需要登記一次就可以參加我們的全部公開活動。\n請查看您的電子郵件獲取Zoom的鏈接。\n主題 “成功註冊Tandem的活動”\n\n 
URL:https://www.tandembayarea.org/calendar/0%e8%87%b35%e6%ad%b2%e5%85%92%e7%ab%a5%e7%b2%b5%e8%aa%9ezoom%e6%9c%97%e8%ae%80-%e8%b2%93%e7%86%8a%e6%be%a1%e5%a0%82/
LOCATION:Zoom
ORGANIZER;CN="Tandem%2C Partners in Early Learning":MAILTO:info@tandembayarea.org
END:VEVENT
BEGIN:VEVENT
DTSTART;TZID=America/Los_Angeles:20211130T100000
DTEND;TZID=America/Los_Angeles:20211130T103000
DTSTAMP:20260425T114747
CREATED:20211103T233443Z
LAST-MODIFIED:20211103T233443Z
UID:10000103-1638266400-1638268200@www.tandembayarea.org
SUMMARY:Live Read Aloud: "The Crocodile and the Dentist"
DESCRIPTION:For children ages 0-5!\n\nJoin us for an engaging\, interactive\, LIVE Read Aloud of The Crocodile and the Dentist by Taro Gomi!\n\n \n\nRegister here: bit.ly/tandemevent\nAlready Registered? You only need to do it once for all our public events.\nCheck your email for the link to our Zoom Room.\nSubject “Tandem Event Registration Successful”\n\n\n\n\n\n 
URL:https://www.tandembayarea.org/calendar/live-read-aloud-the-crocodile-and-the-dentist/
LOCATION:Zoom
ORGANIZER;CN="Tandem%2C Partners in Early Learning":MAILTO:info@tandembayarea.org
END:VEVENT
BEGIN:VEVENT
DTSTART;TZID=America/Los_Angeles:20211116T150000
DTEND;TZID=America/Los_Angeles:20211116T153000
DTSTAMP:20260425T114747
CREATED:20211103T233033Z
LAST-MODIFIED:20211201T191524Z
UID:10000101-1637074800-1637076600@www.tandembayarea.org
SUMMARY:0至5歲兒童粵語Zoom朗讀: 哞 "Moo!"
DESCRIPTION:11月16日\n3:00下午\nTandem早期學習導師，Susan邀請您和您的孩子參加她直播的有趣和互動粵語朗讀。 此朗讀最適合0至5歲的兒童。\n\n \n\n請在此網站註冊 Register here: bit.ly/tandemevent\n已經登記了？ 您只需要登記一次就可以參加我們的全部公開活動。\n請查看您的電子郵件獲取Zoom的鏈接。\n主題 “成功註冊Tandem的活動”\n\n 
URL:https://www.tandembayarea.org/calendar/0%e8%87%b35%e6%ad%b2%e5%85%92%e7%ab%a5%e7%b2%b5%e8%aa%9ezoom%e6%9c%97%e8%ae%80-%e5%93%9e-moo/
LOCATION:Zoom
ORGANIZER;CN="Tandem%2C Partners in Early Learning":MAILTO:info@tandembayarea.org
END:VEVENT
BEGIN:VEVENT
DTSTART;TZID=America/Los_Angeles:20211110T190000
DTEND;TZID=America/Los_Angeles:20211110T203000
DTSTAMP:20260425T114747
CREATED:20210908T222816Z
LAST-MODIFIED:20210908T222818Z
UID:10000231-1636570800-1636576200@www.tandembayarea.org
SUMMARY:Training: Strengths-Based Communication with Families (for educators and caregivers)
DESCRIPTION:This workshop is designed for educators and caregivers of children ages 0-5.\nHow do we focus on a family’s strengths to support them in crafting solutions to challenges? How do we share helpful information and resources without feeling like we’re lecturing? In this training\, educators learn four simple techniques for answering these questions and put them into practice with roleplaying opportunities.\nRegister to attend!
URL:https://www.tandembayarea.org/calendar/training-strengths-based-communication-with-families/
LOCATION:Zoom
ATTACH;FMTTYPE=image/jpeg:https://www.tandembayarea.org/wp-content/uploads/2021/09/Nov-10-Strengths-Based-Comms-Wkshp.jpg
ORGANIZER;CN="Tandem%2C Partners in Early Learning":MAILTO:info@tandembayarea.org
END:VEVENT
BEGIN:VEVENT
DTSTART;TZID=America/Los_Angeles:20211109T100000
DTEND;TZID=America/Los_Angeles:20211109T103000
DTSTAMP:20260425T114747
CREATED:20211103T232745Z
LAST-MODIFIED:20211103T232747Z
UID:10000099-1636452000-1636453800@www.tandembayarea.org
SUMMARY:Hora de cuentos en vivo: Mono y Yo
DESCRIPTION:Para niños de 0 a 5 años\n¡Acompáñenos para una lectura divertida e interactiva!\n \n\nInscríbase aquí: bit.ly/tandemevent\nYa se inscribió usted? Sólo tiene que hacerlo una vez.\nBusque en su correo el link para nuestro salón de Zoom.\nEl mensaje tendrá el título “Tandem Event Registration Successful”
URL:https://www.tandembayarea.org/calendar/hora-de-cuentos-en-vivo-mono-y-yo/
LOCATION:Zoom
ORGANIZER;CN="Tandem%2C Partners in Early Learning":MAILTO:info@tandembayarea.org
END:VEVENT
BEGIN:VEVENT
DTSTART;TZID=America/Los_Angeles:20211102T100000
DTEND;TZID=America/Los_Angeles:20211102T103000
DTSTAMP:20260425T114747
CREATED:20211103T232458Z
LAST-MODIFIED:20211103T232500Z
UID:10000096-1635847200-1635849000@www.tandembayarea.org
SUMMARY:Live Read Aloud: "Carlo Likes Colors"
DESCRIPTION:For children ages 0-5!\nJoin us for an engaging\, interactive\, LIVE Read Aloud of Carlo Likes Colors by Jessica Spanyol!\n\n \n\nRegister here: bit.ly/tandemevent\nAlready Registered? You only need to do it once for all our public events.\nCheck your email for the link to our Zoom Room.\nSubject “Tandem Event Registration Successful”
URL:https://www.tandembayarea.org/calendar/live-read-aloud-carlo-likes-colors/
LOCATION:Zoom
ORGANIZER;CN="Tandem%2C Partners in Early Learning":MAILTO:info@tandembayarea.org
END:VEVENT
BEGIN:VEVENT
DTSTART;TZID=America/Los_Angeles:20211026T100000
DTEND;TZID=America/Los_Angeles:20211026T103000
DTSTAMP:20260425T114747
CREATED:20211006T222927Z
LAST-MODIFIED:20211006T222927Z
UID:10000094-1635242400-1635244200@www.tandembayarea.org
SUMMARY:Hora de cuentos en vivo: Animales Salvajes
DESCRIPTION:Para niños de 0 a 5 años\n¡Acompáñenos para una lectura divertida e interactiva!\n \n\nInscríbase aquí: bit.ly/tandemevent\nYa se inscribió usted? Sólo tiene que hacerlo una vez.\nBusque en su correo el link para nuestro salón de Zoom.\nEl mensaje tendrá el título “Tandem Event Registration Successful”
URL:https://www.tandembayarea.org/calendar/hora-de-cuentos-en-vivo-animales-salvajes/
LOCATION:Zoom
ORGANIZER;CN="Tandem%2C Partners in Early Learning":MAILTO:info@tandembayarea.org
END:VEVENT
BEGIN:VEVENT
DTSTART;TZID=America/Los_Angeles:20211019T150000
DTEND;TZID=America/Los_Angeles:20211019T153000
DTSTAMP:20260425T114747
CREATED:20211006T222715Z
LAST-MODIFIED:20211006T222717Z
UID:10000092-1634655600-1634657400@www.tandembayarea.org
SUMMARY:0至5歲兒童粵語Zoom朗讀: "悲傷，讓我抱抱你"
DESCRIPTION:10月日\n3:00下午\nTandem早期學習導師，Susan邀請您和您的孩子參加她直播的有趣和互動粵語朗讀。 此朗讀最適合0至5歲的兒童。\n\n \n\n請在此網站註冊 Register here: bit.ly/tandemevent\n已經登記了？ 您只需要登記一次就可以參加我們的全部公開活動。\n請查看您的電子郵件獲取Zoom的鏈接。\n主題 “成功註冊Tandem的活動”\n\n\n\n 
URL:https://www.tandembayarea.org/calendar/0%e8%87%b35%e6%ad%b2%e5%85%92%e7%ab%a5%e7%b2%b5%e8%aa%9ezoom%e6%9c%97%e8%ae%80/
LOCATION:Zoom
ORGANIZER;CN="Tandem%2C Partners in Early Learning":MAILTO:info@tandembayarea.org
END:VEVENT
BEGIN:VEVENT
DTSTART;TZID=America/Los_Angeles:20211012T100000
DTEND;TZID=America/Los_Angeles:20211012T103000
DTSTAMP:20260425T114747
CREATED:20211006T222411Z
LAST-MODIFIED:20211006T222411Z
UID:10000234-1634032800-1634034600@www.tandembayarea.org
SUMMARY:Live Read Aloud: “May I Please Have a Cookie?”
DESCRIPTION:For children ages 0-5!\nJoin us for an engaging\, interactive\, LIVE Read Aloud of May I Please Have a Cookie? by Jennifer E. Morris!\n\n \n\nRegister here: bit.ly/tandemevent\nAlready Registered? You only need to do it once for all our public events.\nCheck your email for the link to our Zoom Room.\nSubject “Tandem Event Registration Successful”
URL:https://www.tandembayarea.org/calendar/live-read-aloud-may-i-please-have-a-cookie/
LOCATION:Zoom
ORGANIZER;CN="Tandem%2C Partners in Early Learning":MAILTO:info@tandembayarea.org
END:VEVENT
BEGIN:VEVENT
DTSTART;TZID=America/Los_Angeles:20211006T190000
DTEND;TZID=America/Los_Angeles:20211006T203000
DTSTAMP:20260425T114747
CREATED:20210915T210926Z
LAST-MODIFIED:20210915T210928Z
UID:10000233-1633546800-1633552200@www.tandembayarea.org
SUMMARY:Workshop: Children and Play
DESCRIPTION:Click here to register to attend!
URL:https://www.tandembayarea.org/calendar/workshop-children-and-play/
LOCATION:Zoom
ORGANIZER;CN="Tandem%2C Partners in Early Learning":MAILTO:info@tandembayarea.org
END:VEVENT
BEGIN:VEVENT
DTSTART;TZID=America/Los_Angeles:20210928T180000
DTEND;TZID=America/Los_Angeles:20210928T193000
DTSTAMP:20260425T114747
CREATED:20210909T215731Z
LAST-MODIFIED:20210914T213916Z
UID:10000232-1632852000-1632857400@www.tandembayarea.org
SUMMARY:Building on Books: Author Panel Discussion
DESCRIPTION:Register to attend!
URL:https://www.tandembayarea.org/calendar/building-on-books-author-panel-discussion/
LOCATION:Zoom
ORGANIZER;CN="Tandem%2C Partners in Early Learning":MAILTO:info@tandembayarea.org
END:VEVENT
BEGIN:VEVENT
DTSTART;TZID=America/Los_Angeles:20210928T100000
DTEND;TZID=America/Los_Angeles:20210928T103000
DTSTAMP:20260425T114747
CREATED:20210908T202531Z
LAST-MODIFIED:20210908T202534Z
UID:10000230-1632823200-1632825000@www.tandembayarea.org
SUMMARY:Hora de cuentos en vivo: Trucos de sombrero
DESCRIPTION:Para niños de 0 a 5 años\n¡Acompáñenos para una lectura divertida e interactiva!\n \n\nInscríbase aquí: bit.ly/tandemevent\nYa se inscribió usted? Sólo tiene que hacerlo una vez.\nBusque en su correo el link para nuestro salón de Zoom.\nEl mensaje tendrá el título “Tandem Event Registration Successful”\n\n 
URL:https://www.tandembayarea.org/calendar/hora-de-cuentos-en-vivo-trucos-de-sombrero/
LOCATION:Zoom
ATTACH;FMTTYPE=image/jpeg:https://www.tandembayarea.org/wp-content/uploads/2020/07/Hat-Tricks.jpg
ORGANIZER;CN="Tandem%2C Partners in Early Learning":MAILTO:info@tandembayarea.org
END:VEVENT
BEGIN:VEVENT
DTSTART;TZID=America/Los_Angeles:20210921T150000
DTEND;TZID=America/Los_Angeles:20210921T153000
DTSTAMP:20260425T114747
CREATED:20210908T202039Z
LAST-MODIFIED:20210908T202041Z
UID:10000229-1632236400-1632238200@www.tandembayarea.org
SUMMARY:0至5歲兒童粵語Zoom朗讀: "A Big Mooncake for Little Star"
DESCRIPTION:9月21日\n3:00下午\nTandem早期學習導師，Susan邀請您和您的孩子參加她直播的有趣和互動粵語朗讀。 此朗讀最適合0至5歲的兒童。\n\n \n\n請在此網站註冊 Register here: bit.ly/tandemevent\n已經登記了？ 您只需要登記一次就可以參加我們的全部公開活動。\n請查看您的電子郵件獲取Zoom的鏈接。\n主題 “成功註冊Tandem的活動”
URL:https://www.tandembayarea.org/calendar/0%e8%87%b35%e6%ad%b2%e5%85%92%e7%ab%a5%e7%b2%b5%e8%aa%9ezoom%e6%9c%97%e8%ae%80-a-big-mooncake-for-little-star/
LOCATION:Zoom
ATTACH;FMTTYPE=image/jpeg:https://www.tandembayarea.org/wp-content/uploads/2021/09/Mooncake.jpg
ORGANIZER;CN="Tandem%2C Partners in Early Learning":MAILTO:info@tandembayarea.org
END:VEVENT
BEGIN:VEVENT
DTSTART;TZID=America/Los_Angeles:20210914T100000
DTEND;TZID=America/Los_Angeles:20210914T103000
DTSTAMP:20260425T114747
CREATED:20210908T201025Z
LAST-MODIFIED:20210908T202230Z
UID:10000228-1631613600-1631615400@www.tandembayarea.org
SUMMARY:Live Read Aloud: "Hair Love"
DESCRIPTION:For children ages 0-5!\nJoin us for an engaging\, interactive\, LIVE Read Aloud of Hair Love by Matthew A. Cherry!\n\n \n\nRegister here: bit.ly/tandemevent\nAlready Registered? You only need to do it once for all our public events.\nCheck your email for the link to our Zoom Room.\nSubject “Tandem Event Registration Successful”\n\n\n\n\n\n 
URL:https://www.tandembayarea.org/calendar/live-read-aloud-hair-love/
LOCATION:Zoom
ATTACH;FMTTYPE=image/jpeg:https://www.tandembayarea.org/wp-content/uploads/2020/07/Hair-Love.jpg
ORGANIZER;CN="Tandem%2C Partners in Early Learning":MAILTO:info@tandembayarea.org
END:VEVENT
BEGIN:VEVENT
DTSTART;TZID=America/Los_Angeles:20210824T100000
DTEND;TZID=America/Los_Angeles:20210824T103000
DTSTAMP:20260425T114747
CREATED:20210625T203557Z
LAST-MODIFIED:20210804T213211Z
UID:10000226-1629799200-1629801000@www.tandembayarea.org
SUMMARY:Hora de cuentos en vivo: Estoy contigo
DESCRIPTION:Para niños de 0 a 5 años\n¡Acompáñenos para una lectura divertida e interactiva!\n \n\nInscríbase aquí: bit.ly/tandemevent\nYa se inscribió usted? Sólo tiene que hacerlo una vez.\nBusque en su correo el link para nuestro salón de Zoom.\nEl mensaje tendrá el título “Tandem Event Registration Successful”
URL:https://www.tandembayarea.org/calendar/hora-de-cuentos-en-vivo-estoy-contigo/
LOCATION:Zoom
ORGANIZER;CN="Tandem%2C Partners in Early Learning":MAILTO:info@tandembayarea.org
END:VEVENT
BEGIN:VEVENT
DTSTART;TZID=America/Los_Angeles:20210817T150000
DTEND;TZID=America/Los_Angeles:20210817T153000
DTSTAMP:20260425T114747
CREATED:20210625T203308Z
LAST-MODIFIED:20210804T213150Z
UID:10000225-1629212400-1629214200@www.tandembayarea.org
SUMMARY:0至5歲兒童粵語Zoom朗讀: 露比的煩惱
DESCRIPTION:8月17日\n3:00下午\nTandem早期學習導師，Susan邀請您和您的孩子參加她直播的有趣和互動粵語朗讀。 此朗讀最適合0至5歲的兒童。\n\n \n\n請在此網站註冊 Register here: bit.ly/tandemevent\n已經登記了？ 您只需要登記一次就可以參加我們的全部公開活動。\n請查看您的電子郵件獲取Zoom的鏈接。\n主題 “成功註冊Tandem的活動”
URL:https://www.tandembayarea.org/calendar/0%e8%87%b35%e6%ad%b2%e5%85%92%e7%ab%a5%e7%b2%b5%e8%aa%9ezoom%e6%9c%97%e8%ae%80-%e9%9c%b2%e6%af%94%e7%9a%84%e7%85%a9%e6%83%b1/
LOCATION:Zoom
ORGANIZER;CN="Tandem%2C Partners in Early Learning":MAILTO:info@tandembayarea.org
END:VEVENT
BEGIN:VEVENT
DTSTART;TZID=America/Los_Angeles:20210810T100000
DTEND;TZID=America/Los_Angeles:20210810T103000
DTSTAMP:20260425T114747
CREATED:20210625T203018Z
LAST-MODIFIED:20210804T213126Z
UID:10000224-1628589600-1628591400@www.tandembayarea.org
SUMMARY:Live Read Aloud: "Press Here"
DESCRIPTION:For children ages 0-5!\nJoin us for an engaging\, interactive\, LIVE Read Aloud of Press Here by Herve Tullet!\n\nAfter the read aloud\, download our Press Here activity guide to keep the fun going! Our guide includes conversation tips and simple activities to try at home.\n\n \n\nRegister here: bit.ly/tandemevent\nAlready Registered? You only need to do it once for all our public events.\nCheck your email for the link to our Zoom Room.\nSubject “Tandem Event Registration Successful”
URL:https://www.tandembayarea.org/calendar/live-read-aloud-press-here/
LOCATION:Zoom
ORGANIZER;CN="Tandem%2C Partners in Early Learning":MAILTO:info@tandembayarea.org
END:VEVENT
END:VCALENDAR