BEGIN:VCALENDAR
VERSION:2.0
PRODID:-//Tandem - ECPv6.15.12//NONSGML v1.0//EN
CALSCALE:GREGORIAN
METHOD:PUBLISH
X-ORIGINAL-URL:https://www.tandembayarea.org
X-WR-CALDESC:Events for Tandem
REFRESH-INTERVAL;VALUE=DURATION:PT1H
X-Robots-Tag:noindex
X-PUBLISHED-TTL:PT1H
BEGIN:VTIMEZONE
TZID:America/Los_Angeles
BEGIN:DAYLIGHT
TZOFFSETFROM:-0800
TZOFFSETTO:-0700
TZNAME:PDT
DTSTART:20230312T100000
END:DAYLIGHT
BEGIN:STANDARD
TZOFFSETFROM:-0700
TZOFFSETTO:-0800
TZNAME:PST
DTSTART:20231105T090000
END:STANDARD
BEGIN:DAYLIGHT
TZOFFSETFROM:-0800
TZOFFSETTO:-0700
TZNAME:PDT
DTSTART:20240310T100000
END:DAYLIGHT
BEGIN:STANDARD
TZOFFSETFROM:-0700
TZOFFSETTO:-0800
TZNAME:PST
DTSTART:20241103T090000
END:STANDARD
BEGIN:DAYLIGHT
TZOFFSETFROM:-0800
TZOFFSETTO:-0700
TZNAME:PDT
DTSTART:20250309T100000
END:DAYLIGHT
BEGIN:STANDARD
TZOFFSETFROM:-0700
TZOFFSETTO:-0800
TZNAME:PST
DTSTART:20251102T090000
END:STANDARD
END:VTIMEZONE
BEGIN:VEVENT
DTSTART;TZID=America/Los_Angeles:20240516T103000
DTEND;TZID=America/Los_Angeles:20240516T123000
DTSTAMP:20260424T083958
CREATED:20240501T144429Z
LAST-MODIFIED:20240501T145014Z
UID:10000437-1715855400-1715862600@www.tandembayarea.org
SUMMARY:Tandem Play and Learn Group at Children's FairyLand
DESCRIPTION:
URL:https://www.tandembayarea.org/calendar/tandem-play-and-learn-group-at-childrens-fairyland/2024-05-16/
LOCATION:Children’s Fairyland\, 699 BELLEVUE AVE\, Oakland\, CA\, 94610\, United States
ATTACH;FMTTYPE=application/pdf:https://www.tandembayarea.org/wp-content/uploads/2024/05/Children-Fairyland-Flyer-1-1-2-1.pdf
ORGANIZER;CN="Tandem%2C Partners in Early Learning":MAILTO:info@tandembayarea.org
END:VEVENT
BEGIN:VEVENT
DTSTART;TZID=America/Los_Angeles:20240515T100000
DTEND;TZID=America/Los_Angeles:20240515T103000
DTSTAMP:20260424T083958
CREATED:20230801T233813Z
LAST-MODIFIED:20230807T190654Z
UID:10000411-1715767200-1715769000@www.tandembayarea.org
SUMMARY:0至5歲兒童粵語Zoom朗讀
DESCRIPTION:Tandem早期學習導師，Tandem邀請您和您的孩子參加她直播的有趣和互動粵語朗讀。 此朗讀最適合0至5歲的兒童。 \n請在此網站註冊 Register here: www.tandem.ngo/signup \n已經登記了？ 您只需要登記一次就可以參加我們的全部公開活動。 請查看您的電子郵件獲取Zoom的鏈接。 主題 “成功註冊Tandem的活動”
URL:https://www.tandembayarea.org/calendar/0%e8%87%b35%e6%ad%b2%e5%85%92%e7%ab%a5%e7%b2%b5%e8%aa%9ezoom%e6%9c%97%e8%ae%80-3/2024-05-15/
LOCATION:Zoom
ORGANIZER;CN="Tandem%2C Partners in Early Learning":MAILTO:info@tandembayarea.org
END:VEVENT
BEGIN:VEVENT
DTSTART;TZID=America/Los_Angeles:20240509T190000
DTEND;TZID=America/Los_Angeles:20240509T203000
DTSTAMP:20260424T083958
CREATED:20230915T100427Z
LAST-MODIFIED:20230915T100427Z
UID:10000421-1715281200-1715286600@www.tandembayarea.org
SUMMARY:Workshop: Talking about Race in Early Childhood
DESCRIPTION:Join us for a free online educator workshop\, hosted by CocoKids! \nIn this interactive workshop\, we will discuss the ways that a colorblind approach fails to advance racial equity\, and explore two alternative methods that support early childhood educators in leading age-appropriate discussions about race with young children. \nEnglish with Cantonese Translation \nClick here to register. \nTo receive more event reminders directly to your inbox\, please register here: tandem.ngo/signup
URL:https://www.tandembayarea.org/calendar/workshop-talking-about-race-in-early-childhood/
LOCATION:Zoom
END:VEVENT
BEGIN:VEVENT
DTSTART;TZID=America/Los_Angeles:20240508T100000
DTEND;TZID=America/Los_Angeles:20240508T103000
DTSTAMP:20260424T083958
CREATED:20230801T233535Z
LAST-MODIFIED:20230807T190105Z
UID:10000401-1715162400-1715164200@www.tandembayarea.org
SUMMARY:Hora de cuentos en vivo
DESCRIPTION:Para niños de 0 a 5 años \n¡Acompáñenos para una lectura divertida e interactiva! \nInscríbase aquí: www.tandem.ngo/signup \n¿Ya se inscribió usted? Sólo tiene que hacerlo una vez. Busque en su correo el enlace para nuestro salón de Zoom. El mensaje tendrá el título “Tandem Event Registration Successful!”
URL:https://www.tandembayarea.org/calendar/hora-de-cuentos-en-vivo-2/2024-05-08/
LOCATION:Zoom
ORGANIZER;CN="Tandem%2C Partners in Early Learning":MAILTO:info@tandembayarea.org
END:VEVENT
BEGIN:VEVENT
DTSTART;TZID=America/Los_Angeles:20240502T103000
DTEND;TZID=America/Los_Angeles:20240502T123000
DTSTAMP:20260424T083958
CREATED:20240501T144429Z
LAST-MODIFIED:20240501T145014Z
UID:10000436-1714645800-1714653000@www.tandembayarea.org
SUMMARY:Tandem Play and Learn Group at Children's FairyLand
DESCRIPTION:
URL:https://www.tandembayarea.org/calendar/tandem-play-and-learn-group-at-childrens-fairyland/2024-05-02/
LOCATION:Children’s Fairyland\, 699 BELLEVUE AVE\, Oakland\, CA\, 94610\, United States
ATTACH;FMTTYPE=application/pdf:https://www.tandembayarea.org/wp-content/uploads/2024/05/Children-Fairyland-Flyer-1-1-2-1.pdf
ORGANIZER;CN="Tandem%2C Partners in Early Learning":MAILTO:info@tandembayarea.org
END:VEVENT
BEGIN:VEVENT
DTSTART;TZID=America/Los_Angeles:20240501T100000
DTEND;TZID=America/Los_Angeles:20240501T103000
DTSTAMP:20260424T083958
CREATED:20230801T233213Z
LAST-MODIFIED:20230807T185602Z
UID:10000391-1714557600-1714559400@www.tandembayarea.org
SUMMARY:Live Zoom Read Aloud
DESCRIPTION:For children ages 0-5! Join us for an engaging\, interactive\, LIVE Read Aloud! \nRegister here: www.tandem.ngo/signup \nAlready Registered? You only need to do it once for all our public events. Check your email for the link to our Zoom Room. Subject “Tandem Event Registration Successful”
URL:https://www.tandembayarea.org/calendar/live-zoom-read-aloud-2/2024-05-01/
LOCATION:Zoom
ORGANIZER;CN="Tandem%2C Partners in Early Learning":MAILTO:info@tandembayarea.org
END:VEVENT
BEGIN:VEVENT
DTSTART;TZID=America/Los_Angeles:20240423T190000
DTEND;TZID=America/Los_Angeles:20240423T203000
DTSTAMP:20260424T083958
CREATED:20230903T044922Z
LAST-MODIFIED:20230903T044922Z
UID:10000420-1713898800-1713904200@www.tandembayarea.org
SUMMARY:Taller: Los mitos y verdades del bilingüismo
DESCRIPTION:En linea via CocoKids. \nCon toda la controversia en torno a la educación de los niñes bilingües\, ¿cómo sabemos qué es lo mejor? Acompáñenos a descartar algunos mitos comunes sobre el aprendizaje de idiomas y platicar de las formas de apoyar a los niñes bilingües en el hogar y en el salón de clases. \nHaga clic para registrarse\nPara recibir recordatorios de nuestros eventos directamente en su correo\, por favor regístrese aquí: tandem.ngo/signup
URL:https://www.tandembayarea.org/calendar/taller-los-mitos-y-verdades-del-bilinguismo-2/
LOCATION:Zoom
END:VEVENT
BEGIN:VEVENT
DTSTART;TZID=America/Los_Angeles:20240418T190000
DTEND;TZID=America/Los_Angeles:20240418T203000
DTSTAMP:20260424T083958
CREATED:20230903T044628Z
LAST-MODIFIED:20230903T044628Z
UID:10000419-1713466800-1713472200@www.tandembayarea.org
SUMMARY:Workshop: 雙語的迷思和真理 (The Myths and Truths of Bilingualism)
DESCRIPTION:Join us for a free online educator workshop\, hosted by CocoKids! \n關於雙語兒童的教育存在諸多爭議，我們如何知道什麼是最好的? 請加入我們，消除一些常見的關於語言學習的迷思，並討論如何在家庭和課堂上支持雙語兒童。 \n請在此網站註冊\nTo receive more event reminders directly to your inbox\, please register here: tandem.ngo/signup
URL:https://www.tandembayarea.org/calendar/workshop-%e9%9b%99%e8%aa%9e%e7%9a%84%e8%bf%b7%e6%80%9d%e5%92%8c%e7%9c%9f%e7%90%86-the-myths-and-truths-of-bilingualism/
LOCATION:Zoom
END:VEVENT
BEGIN:VEVENT
DTSTART;TZID=America/Los_Angeles:20240417T100000
DTEND;TZID=America/Los_Angeles:20240417T103000
DTSTAMP:20260424T083958
CREATED:20230801T233813Z
LAST-MODIFIED:20230807T190654Z
UID:10000410-1713348000-1713349800@www.tandembayarea.org
SUMMARY:0至5歲兒童粵語Zoom朗讀
DESCRIPTION:Tandem早期學習導師，Tandem邀請您和您的孩子參加她直播的有趣和互動粵語朗讀。 此朗讀最適合0至5歲的兒童。 \n請在此網站註冊 Register here: www.tandem.ngo/signup \n已經登記了？ 您只需要登記一次就可以參加我們的全部公開活動。 請查看您的電子郵件獲取Zoom的鏈接。 主題 “成功註冊Tandem的活動”
URL:https://www.tandembayarea.org/calendar/0%e8%87%b35%e6%ad%b2%e5%85%92%e7%ab%a5%e7%b2%b5%e8%aa%9ezoom%e6%9c%97%e8%ae%80-3/2024-04-17/
LOCATION:Zoom
ORGANIZER;CN="Tandem%2C Partners in Early Learning":MAILTO:info@tandembayarea.org
END:VEVENT
BEGIN:VEVENT
DTSTART;TZID=America/Los_Angeles:20240411T190000
DTEND;TZID=America/Los_Angeles:20240411T203000
DTSTAMP:20260424T083958
CREATED:20230903T032743Z
LAST-MODIFIED:20230903T032743Z
UID:10000418-1712862000-1712867400@www.tandembayarea.org
SUMMARY:Workshop: The Myths and Truths of Bilingualism
DESCRIPTION:Join us for a free online educator workshop\, hosted by CocoKids! \nWith all the controversy around the education of bilingual children\, how do we know what’s best? Join us to dispel some common myths about language learning and discuss ways to support bilingual children at home and in the classroom. \nClick here to register.\nTo receive more event reminders directly to your inbox\, please register here: tandem.ngo/signup
URL:https://www.tandembayarea.org/calendar/workshop-the-myths-and-truths-of-bilingualism-2/
LOCATION:Zoom
END:VEVENT
BEGIN:VEVENT
DTSTART;TZID=America/Los_Angeles:20240410T100000
DTEND;TZID=America/Los_Angeles:20240410T103000
DTSTAMP:20260424T083958
CREATED:20230801T233535Z
LAST-MODIFIED:20230807T190105Z
UID:10000400-1712743200-1712745000@www.tandembayarea.org
SUMMARY:Hora de cuentos en vivo
DESCRIPTION:Para niños de 0 a 5 años \n¡Acompáñenos para una lectura divertida e interactiva! \nInscríbase aquí: www.tandem.ngo/signup \n¿Ya se inscribió usted? Sólo tiene que hacerlo una vez. Busque en su correo el enlace para nuestro salón de Zoom. El mensaje tendrá el título “Tandem Event Registration Successful!”
URL:https://www.tandembayarea.org/calendar/hora-de-cuentos-en-vivo-2/2024-04-10/
LOCATION:Zoom
ORGANIZER;CN="Tandem%2C Partners in Early Learning":MAILTO:info@tandembayarea.org
END:VEVENT
BEGIN:VEVENT
DTSTART;TZID=America/Los_Angeles:20240405T103000
DTEND;TZID=America/Los_Angeles:20240405T123000
DTSTAMP:20260424T083958
CREATED:20240401T192201Z
LAST-MODIFIED:20240401T192201Z
UID:10000435-1712313000-1712320200@www.tandembayarea.org
SUMMARY:Tandem's Play and Learn Group with Children's Fairyland
DESCRIPTION:
URL:https://www.tandembayarea.org/calendar/tandems-play-and-learn-group-with-childrens-fairyland/
LOCATION:Children’s Fairyland\, 699 BELLEVUE AVE\, Oakland\, CA\, 94610\, United States
ATTACH;FMTTYPE=application/pdf:https://www.tandembayarea.org/wp-content/uploads/2024/04/Children-Fairyland-Flyer-1-1-2.pdf
ORGANIZER;CN="Tandem%2C Partners in Early Learning":MAILTO:info@tandembayarea.org
END:VEVENT
BEGIN:VEVENT
DTSTART;TZID=America/Los_Angeles:20240403T100000
DTEND;TZID=America/Los_Angeles:20240403T103000
DTSTAMP:20260424T083958
CREATED:20230801T233213Z
LAST-MODIFIED:20230807T185602Z
UID:10000390-1712138400-1712140200@www.tandembayarea.org
SUMMARY:Live Zoom Read Aloud
DESCRIPTION:For children ages 0-5! Join us for an engaging\, interactive\, LIVE Read Aloud! \nRegister here: www.tandem.ngo/signup \nAlready Registered? You only need to do it once for all our public events. Check your email for the link to our Zoom Room. Subject “Tandem Event Registration Successful”
URL:https://www.tandembayarea.org/calendar/live-zoom-read-aloud-2/2024-04-03/
LOCATION:Zoom
ORGANIZER;CN="Tandem%2C Partners in Early Learning":MAILTO:info@tandembayarea.org
END:VEVENT
BEGIN:VEVENT
DTSTART;TZID=America/Los_Angeles:20240326T190000
DTEND;TZID=America/Los_Angeles:20240326T203000
DTSTAMP:20260424T083958
CREATED:20230903T032256Z
LAST-MODIFIED:20230903T032256Z
UID:10000417-1711479600-1711485000@www.tandembayarea.org
SUMMARY:Taller: Trauma 102: Cuidar y Apoyar
DESCRIPTION:En linea via CocoKids. \nDespués de tomar Trauma 101\, únase a nosotros para esta inmersión profunda en estrategias sensibles al trauma. Practicaremos el uso de la respiración\, el movimiento\, los libros y el juego para ayudar a les niñes a superar sus grandes emociones. \nHaga clic para registrarse\nPara recibir recordatorios de nuestros eventos directamente en su correo\, por favor regístrese aquí: tandem.ngo/signup
URL:https://www.tandembayarea.org/calendar/taller-trauma-102-cuidar-y-apoyar-3/
LOCATION:Zoom
END:VEVENT
BEGIN:VEVENT
DTSTART;TZID=America/Los_Angeles:20240326T110000
DTEND;TZID=America/Los_Angeles:20240326T120000
DTSTAMP:20260424T083958
CREATED:20240301T002841Z
LAST-MODIFIED:20240301T002841Z
UID:10000433-1711450800-1711454400@www.tandembayarea.org
SUMMARY:Pittsburg Library Read Aloud with Tandem
DESCRIPTION: Families in attendance will receive a free book for their home library!
URL:https://www.tandembayarea.org/calendar/pittsburg-library-read-aloud-with-tandem/
LOCATION:Pittsburg Library – Contra Costa County Library\, 80 Power Ave\, Pittsburg\, CA\, 94565\, United States
END:VEVENT
BEGIN:VEVENT
DTSTART;TZID=America/Los_Angeles:20240321T110000
DTEND;TZID=America/Los_Angeles:20240321T120000
DTSTAMP:20260424T083958
CREATED:20240301T001432Z
LAST-MODIFIED:20240301T001432Z
UID:10000431-1711018800-1711022400@www.tandembayarea.org
SUMMARY:Antioch Library Read Aloud with Tandem
DESCRIPTION:Join us every week for a story time for families with children ages 0-5. Book give away every 3rd Thursday of the month.
URL:https://www.tandembayarea.org/calendar/antioch-library-read-aloud-with-tandem/
LOCATION:Antioch Public Library\, 501 West 18th Street\, Meeting Room\, Antioch\, CA\, 94531\, United States
ORGANIZER;CN="Tandem%2C Partners in Early Learning":MAILTO:info@tandembayarea.org
END:VEVENT
BEGIN:VEVENT
DTSTART;TZID=America/Los_Angeles:20240320T103000
DTEND;TZID=America/Los_Angeles:20240320T120000
DTSTAMP:20260424T083958
CREATED:20240229T232050Z
LAST-MODIFIED:20240229T232050Z
UID:10000425-1710930600-1710936000@www.tandembayarea.org
SUMMARY:Give Me 5 at Oakland Public Library
DESCRIPTION:
URL:https://www.tandembayarea.org/calendar/give-me-5-at-oakland-public-library-3/
LOCATION:Oakland Public Library\, 6833 International Blvd\, Oakland\, CA\, 94621\, United States
ORGANIZER;CN="Tandem%2C Partners in Early Learning":MAILTO:info@tandembayarea.org
END:VEVENT
BEGIN:VEVENT
DTSTART;TZID=America/Los_Angeles:20240320T100000
DTEND;TZID=America/Los_Angeles:20240320T103000
DTSTAMP:20260424T083958
CREATED:20230801T233813Z
LAST-MODIFIED:20230807T190654Z
UID:10000409-1710928800-1710930600@www.tandembayarea.org
SUMMARY:0至5歲兒童粵語Zoom朗讀
DESCRIPTION:Tandem早期學習導師，Tandem邀請您和您的孩子參加她直播的有趣和互動粵語朗讀。 此朗讀最適合0至5歲的兒童。 \n請在此網站註冊 Register here: www.tandem.ngo/signup \n已經登記了？ 您只需要登記一次就可以參加我們的全部公開活動。 請查看您的電子郵件獲取Zoom的鏈接。 主題 “成功註冊Tandem的活動”
URL:https://www.tandembayarea.org/calendar/0%e8%87%b35%e6%ad%b2%e5%85%92%e7%ab%a5%e7%b2%b5%e8%aa%9ezoom%e6%9c%97%e8%ae%80-3/2024-03-20/
LOCATION:Zoom
ORGANIZER;CN="Tandem%2C Partners in Early Learning":MAILTO:info@tandembayarea.org
END:VEVENT
BEGIN:VEVENT
DTSTART;TZID=America/Los_Angeles:20240314T190000
DTEND;TZID=America/Los_Angeles:20240314T203000
DTSTAMP:20260424T083958
CREATED:20230903T031745Z
LAST-MODIFIED:20230903T031745Z
UID:10000416-1710442800-1710448200@www.tandembayarea.org
SUMMARY:Workshop: Trauma 102: Supportive Strategies ( 創傷102: 干預策略 )
DESCRIPTION:Join us for a free online educator workshop\, hosted by CocoKids! \nAfter taking Trauma 101\, join us for this deep dive into more trauma-sensitive strategies. We’ll practice using breath work\, movement\, books\, and play to help children work through their big emotions. \nEnglish with Cantonese Translation \nClick here to register. \nTo receive more event reminders directly to your inbox\, please register here: tandem.ngo/signup
URL:https://www.tandembayarea.org/calendar/workshop-trauma-102-supportive-strategies-%e5%89%b5%e5%82%b7102-%e5%b9%b2%e9%a0%90%e7%ad%96%e7%95%a5/
LOCATION:Zoom
END:VEVENT
BEGIN:VEVENT
DTSTART;TZID=America/Los_Angeles:20240313T100000
DTEND;TZID=America/Los_Angeles:20240313T103000
DTSTAMP:20260424T083958
CREATED:20230801T233535Z
LAST-MODIFIED:20230807T190105Z
UID:10000399-1710324000-1710325800@www.tandembayarea.org
SUMMARY:Hora de cuentos en vivo
DESCRIPTION:Para niños de 0 a 5 años \n¡Acompáñenos para una lectura divertida e interactiva! \nInscríbase aquí: www.tandem.ngo/signup \n¿Ya se inscribió usted? Sólo tiene que hacerlo una vez. Busque en su correo el enlace para nuestro salón de Zoom. El mensaje tendrá el título “Tandem Event Registration Successful!”
URL:https://www.tandembayarea.org/calendar/hora-de-cuentos-en-vivo-2/2024-03-13/
LOCATION:Zoom
ORGANIZER;CN="Tandem%2C Partners in Early Learning":MAILTO:info@tandembayarea.org
END:VEVENT
BEGIN:VEVENT
DTSTART;TZID=America/Los_Angeles:20240313T093000
DTEND;TZID=America/Los_Angeles:20240313T103000
DTSTAMP:20260424T083958
CREATED:20240301T002143Z
LAST-MODIFIED:20240301T002204Z
UID:10000432-1710322200-1710325800@www.tandembayarea.org
SUMMARY:Give Me 5 Math Class
DESCRIPTION:Registration: https://forms.gle/SmMeznjCdvHcawjP9
URL:https://www.tandembayarea.org/calendar/give-me-5-math-class/
LOCATION:Antioch First 5 Center\, 300 H St\, Antioch\, CA\, 94509\, United States
END:VEVENT
BEGIN:VEVENT
DTSTART;TZID=America/Los_Angeles:20240308T103000
DTEND;TZID=America/Los_Angeles:20240308T123000
DTSTAMP:20260424T083958
CREATED:20240229T232823Z
LAST-MODIFIED:20240229T232823Z
UID:10000426-1709893800-1709901000@www.tandembayarea.org
SUMMARY:Tandem Workshop at Children's Fairyland
DESCRIPTION:
URL:https://www.tandembayarea.org/calendar/tandem-workshop-at-childrens-fairyland/
LOCATION:Children’s Fairyland\, 699 BELLEVUE AVE\, Oakland\, CA\, 94610\, United States
ATTACH;FMTTYPE=application/pdf:https://www.tandembayarea.org/wp-content/uploads/2024/02/Children-Fairyland-Flyer-1-1-1.pdf
ORGANIZER;CN="Tandem%2C Partners in Early Learning":MAILTO:info@tandembayarea.org
END:VEVENT
BEGIN:VEVENT
DTSTART;TZID=America/Los_Angeles:20240306T103000
DTEND;TZID=America/Los_Angeles:20240306T120000
DTSTAMP:20260424T083958
CREATED:20240229T231740Z
LAST-MODIFIED:20240229T231740Z
UID:10000424-1709721000-1709726400@www.tandembayarea.org
SUMMARY:Give Me 5 at Oakland Public Library
DESCRIPTION:
URL:https://www.tandembayarea.org/calendar/give-me-5-at-oakland-public-library-2/
LOCATION:Oakland Public Library\, 6833 International Blvd\, Oakland\, CA\, 94621\, United States
ORGANIZER;CN="Tandem%2C Partners in Early Learning":MAILTO:info@tandembayarea.org
END:VEVENT
BEGIN:VEVENT
DTSTART;TZID=America/Los_Angeles:20240306T100000
DTEND;TZID=America/Los_Angeles:20240306T103000
DTSTAMP:20260424T083958
CREATED:20230801T233213Z
LAST-MODIFIED:20230807T185602Z
UID:10000389-1709719200-1709721000@www.tandembayarea.org
SUMMARY:Live Zoom Read Aloud
DESCRIPTION:For children ages 0-5! Join us for an engaging\, interactive\, LIVE Read Aloud! \nRegister here: www.tandem.ngo/signup \nAlready Registered? You only need to do it once for all our public events. Check your email for the link to our Zoom Room. Subject “Tandem Event Registration Successful”
URL:https://www.tandembayarea.org/calendar/live-zoom-read-aloud-2/2024-03-06/
LOCATION:Zoom
ORGANIZER;CN="Tandem%2C Partners in Early Learning":MAILTO:info@tandembayarea.org
END:VEVENT
BEGIN:VEVENT
DTSTART;TZID=America/Los_Angeles:20240221T100000
DTEND;TZID=America/Los_Angeles:20240221T103000
DTSTAMP:20260424T083958
CREATED:20230801T233813Z
LAST-MODIFIED:20230807T190654Z
UID:10000408-1708509600-1708511400@www.tandembayarea.org
SUMMARY:0至5歲兒童粵語Zoom朗讀
DESCRIPTION:Tandem早期學習導師，Tandem邀請您和您的孩子參加她直播的有趣和互動粵語朗讀。 此朗讀最適合0至5歲的兒童。 \n請在此網站註冊 Register here: www.tandem.ngo/signup \n已經登記了？ 您只需要登記一次就可以參加我們的全部公開活動。 請查看您的電子郵件獲取Zoom的鏈接。 主題 “成功註冊Tandem的活動”
URL:https://www.tandembayarea.org/calendar/0%e8%87%b35%e6%ad%b2%e5%85%92%e7%ab%a5%e7%b2%b5%e8%aa%9ezoom%e6%9c%97%e8%ae%80-3/2024-02-21/
LOCATION:Zoom
ORGANIZER;CN="Tandem%2C Partners in Early Learning":MAILTO:info@tandembayarea.org
END:VEVENT
BEGIN:VEVENT
DTSTART;TZID=America/Los_Angeles:20240220T190000
DTEND;TZID=America/Los_Angeles:20240220T203000
DTSTAMP:20260424T083958
CREATED:20230903T031040Z
LAST-MODIFIED:20230903T031040Z
UID:10000415-1708455600-1708461000@www.tandembayarea.org
SUMMARY:Taller: Trauma 101: Cerebro y comportamiento
DESCRIPTION:En linea via CocoKids. \nAcompáñenos a aprender lo básico sobre el trauma emocional. ¿Qué es? ¿Cómo afecta el cerebro y comportamiento del niñe? Y ¿qué podemos hacer? \nHaga clic para registrarse\nPara recibir recordatorios de nuestros eventos directamente en su correo\, por favor regístrese aquí: tandem.ngo/signup
URL:https://www.tandembayarea.org/calendar/taller-trauma-101-cerebro-y-comportamiento/
LOCATION:Zoom
END:VEVENT
BEGIN:VEVENT
DTSTART;TZID=America/Los_Angeles:20240214T100000
DTEND;TZID=America/Los_Angeles:20240214T103000
DTSTAMP:20260424T083958
CREATED:20230801T233535Z
LAST-MODIFIED:20230807T190105Z
UID:10000398-1707904800-1707906600@www.tandembayarea.org
SUMMARY:Hora de cuentos en vivo
DESCRIPTION:Para niños de 0 a 5 años \n¡Acompáñenos para una lectura divertida e interactiva! \nInscríbase aquí: www.tandem.ngo/signup \n¿Ya se inscribió usted? Sólo tiene que hacerlo una vez. Busque en su correo el enlace para nuestro salón de Zoom. El mensaje tendrá el título “Tandem Event Registration Successful!”
URL:https://www.tandembayarea.org/calendar/hora-de-cuentos-en-vivo-2/2024-02-14/
LOCATION:Zoom
ORGANIZER;CN="Tandem%2C Partners in Early Learning":MAILTO:info@tandembayarea.org
END:VEVENT
BEGIN:VEVENT
DTSTART;TZID=America/Los_Angeles:20240208T190000
DTEND;TZID=America/Los_Angeles:20240208T203000
DTSTAMP:20260424T083958
CREATED:20230903T020351Z
LAST-MODIFIED:20230903T020351Z
UID:10000414-1707418800-1707424200@www.tandembayarea.org
SUMMARY:Workshop: Trauma 101: Brain and Behavior (創傷101: 大腦與行為)
DESCRIPTION:Join us for a free online educator workshop\, hosted by CocoKids! \nJoin us to learn about the basics of emotional trauma. What is it? How does it affect a child’s brain and behavior? And what can we do about it? \nEnglish with Cantonese Translation \nClick here to register. \nTo receive more event reminders directly to your inbox\, please register here: tandem.ngo/signup
URL:https://www.tandembayarea.org/calendar/workshop-trauma-101-brain-and-behavior-%e5%89%b5%e5%82%b7101-%e5%a4%a7%e8%85%a6%e8%88%87%e8%a1%8c%e7%82%ba/
LOCATION:Zoom
END:VEVENT
BEGIN:VEVENT
DTSTART;TZID=America/Los_Angeles:20240207T100000
DTEND;TZID=America/Los_Angeles:20240207T103000
DTSTAMP:20260424T083958
CREATED:20230801T233213Z
LAST-MODIFIED:20230807T185602Z
UID:10000388-1707300000-1707301800@www.tandembayarea.org
SUMMARY:Live Zoom Read Aloud
DESCRIPTION:For children ages 0-5! Join us for an engaging\, interactive\, LIVE Read Aloud! \nRegister here: www.tandem.ngo/signup \nAlready Registered? You only need to do it once for all our public events. Check your email for the link to our Zoom Room. Subject “Tandem Event Registration Successful”
URL:https://www.tandembayarea.org/calendar/live-zoom-read-aloud-2/2024-02-07/
LOCATION:Zoom
ORGANIZER;CN="Tandem%2C Partners in Early Learning":MAILTO:info@tandembayarea.org
END:VEVENT
BEGIN:VEVENT
DTSTART;TZID=America/Los_Angeles:20240123T190000
DTEND;TZID=America/Los_Angeles:20240123T203000
DTSTAMP:20260424T083958
CREATED:20230903T014910Z
LAST-MODIFIED:20230903T014910Z
UID:10000413-1706036400-1706041800@www.tandembayarea.org
SUMMARY:Taller: Compartiendo cuentos y sentimientos
DESCRIPTION:En linea via CocoKids. \nEl uso de libros para apoyar el desarrollo social y emocional de los niños no solo es beneficioso sino también es divertido. Acompañenos para una demostración interactiva de como usar libros de cuentos ilustrados para fomentar un desarrollo social y emocional saludable \nHaga clic para registrarse\nPara recibir recordatorios de nuestros eventos directamente en su correo\, por favor regístrese aquí: tandem.ngo/signup
URL:https://www.tandembayarea.org/calendar/taller-compartiendo-cuentos-y-sentimientos-2/
LOCATION:Zoom
END:VEVENT
END:VCALENDAR