BEGIN:VCALENDAR
VERSION:2.0
PRODID:-//Tandem - ECPv6.15.12//NONSGML v1.0//EN
CALSCALE:GREGORIAN
METHOD:PUBLISH
X-ORIGINAL-URL:https://www.tandembayarea.org
X-WR-CALDESC:Events for Tandem
REFRESH-INTERVAL;VALUE=DURATION:PT1H
X-Robots-Tag:noindex
X-PUBLISHED-TTL:PT1H
BEGIN:VTIMEZONE
TZID:America/Los_Angeles
BEGIN:DAYLIGHT
TZOFFSETFROM:-0800
TZOFFSETTO:-0700
TZNAME:PDT
DTSTART:20220313T100000
END:DAYLIGHT
BEGIN:STANDARD
TZOFFSETFROM:-0700
TZOFFSETTO:-0800
TZNAME:PST
DTSTART:20221106T090000
END:STANDARD
BEGIN:DAYLIGHT
TZOFFSETFROM:-0800
TZOFFSETTO:-0700
TZNAME:PDT
DTSTART:20230312T100000
END:DAYLIGHT
BEGIN:STANDARD
TZOFFSETFROM:-0700
TZOFFSETTO:-0800
TZNAME:PST
DTSTART:20231105T090000
END:STANDARD
BEGIN:DAYLIGHT
TZOFFSETFROM:-0800
TZOFFSETTO:-0700
TZNAME:PDT
DTSTART:20240310T100000
END:DAYLIGHT
BEGIN:STANDARD
TZOFFSETFROM:-0700
TZOFFSETTO:-0800
TZNAME:PST
DTSTART:20241103T090000
END:STANDARD
END:VTIMEZONE
BEGIN:VEVENT
DTSTART;TZID=America/Los_Angeles:20231028T110000
DTEND;TZID=America/Los_Angeles:20231028T150000
DTSTAMP:20260424T005117
CREATED:20231026T224012Z
LAST-MODIFIED:20231026T224012Z
UID:10000423-1698490800-1698505200@www.tandembayarea.org
SUMMARY:Hayward Public Library's Annual Trunk or Treat
DESCRIPTION:Tandem will be joining Hayward Public Library’s Annual Trunk or Treat! Join neighborhoods coming together in community. Free meals\, free activities\, live music\, games\, family fun\, cultural arts performances\, & car show.
URL:https://www.tandembayarea.org/calendar/hayward-public-librarys-annual-trunk-or-treat/
LOCATION:Heritage Plaza- Downtown Hayward\, 835 C St\, Hayward\, CA\, United States
END:VEVENT
END:VCALENDAR