BEGIN:VCALENDAR
VERSION:2.0
PRODID:-//Tandem - ECPv6.15.12//NONSGML v1.0//EN
CALSCALE:GREGORIAN
METHOD:PUBLISH
X-WR-CALNAME:Tandem
X-ORIGINAL-URL:https://www.tandembayarea.org
X-WR-CALDESC:Events for Tandem
REFRESH-INTERVAL;VALUE=DURATION:PT1H
X-Robots-Tag:noindex
X-PUBLISHED-TTL:PT1H
BEGIN:VTIMEZONE
TZID:America/Los_Angeles
BEGIN:DAYLIGHT
TZOFFSETFROM:-0800
TZOFFSETTO:-0700
TZNAME:PDT
DTSTART:20230312T100000
END:DAYLIGHT
BEGIN:STANDARD
TZOFFSETFROM:-0700
TZOFFSETTO:-0800
TZNAME:PST
DTSTART:20231105T090000
END:STANDARD
BEGIN:DAYLIGHT
TZOFFSETFROM:-0800
TZOFFSETTO:-0700
TZNAME:PDT
DTSTART:20240310T100000
END:DAYLIGHT
BEGIN:STANDARD
TZOFFSETFROM:-0700
TZOFFSETTO:-0800
TZNAME:PST
DTSTART:20241103T090000
END:STANDARD
BEGIN:DAYLIGHT
TZOFFSETFROM:-0800
TZOFFSETTO:-0700
TZNAME:PDT
DTSTART:20250309T100000
END:DAYLIGHT
BEGIN:STANDARD
TZOFFSETFROM:-0700
TZOFFSETTO:-0800
TZNAME:PST
DTSTART:20251102T090000
END:STANDARD
END:VTIMEZONE
BEGIN:VEVENT
DTSTART;TZID=America/Los_Angeles:20240515T114500
DTEND;TZID=America/Los_Angeles:20240515T124500
DTSTAMP:20260424T000307
CREATED:20240501T150331Z
LAST-MODIFIED:20240501T150601Z
UID:10000439-1715773500-1715777100@www.tandembayarea.org
SUMMARY:Give Me 5 Math Class
DESCRIPTION:Join Tandem\, Partners in Early Learning® at these 5 interactive sessions that are designed for both caregivers and children 3-5 ages. Discover new books and math activities. Starting May 15th\, for 5 sessions weekly. Sign up with West county First 5 for classes.
URL:https://www.tandembayarea.org/calendar/give-me-5-math-class-2/
LOCATION:West County First 5 Center\, 2707 Dover Ave\, San Pablo\, CA\, 94806\, United States
END:VEVENT
END:VCALENDAR