BEGIN:VCALENDAR
VERSION:2.0
PRODID:-//Tandem - ECPv6.15.12//NONSGML v1.0//EN
CALSCALE:GREGORIAN
METHOD:PUBLISH
X-WR-CALNAME:Tandem
X-ORIGINAL-URL:https://www.tandembayarea.org
X-WR-CALDESC:Events for Tandem
REFRESH-INTERVAL;VALUE=DURATION:PT1H
X-Robots-Tag:noindex
X-PUBLISHED-TTL:PT1H
BEGIN:VTIMEZONE
TZID:America/Los_Angeles
BEGIN:DAYLIGHT
TZOFFSETFROM:-0800
TZOFFSETTO:-0700
TZNAME:PDT
DTSTART:20230312T100000
END:DAYLIGHT
BEGIN:STANDARD
TZOFFSETFROM:-0700
TZOFFSETTO:-0800
TZNAME:PST
DTSTART:20231105T090000
END:STANDARD
BEGIN:DAYLIGHT
TZOFFSETFROM:-0800
TZOFFSETTO:-0700
TZNAME:PDT
DTSTART:20240310T100000
END:DAYLIGHT
BEGIN:STANDARD
TZOFFSETFROM:-0700
TZOFFSETTO:-0800
TZNAME:PST
DTSTART:20241103T090000
END:STANDARD
BEGIN:DAYLIGHT
TZOFFSETFROM:-0800
TZOFFSETTO:-0700
TZNAME:PDT
DTSTART:20250309T100000
END:DAYLIGHT
BEGIN:STANDARD
TZOFFSETFROM:-0700
TZOFFSETTO:-0800
TZNAME:PST
DTSTART:20251102T090000
END:STANDARD
END:VTIMEZONE
BEGIN:VEVENT
DTSTART;TZID=America/Los_Angeles:20240620T110000
DTEND;TZID=America/Los_Angeles:20240620T130000
DTSTAMP:20260424T070559
CREATED:20240531T000756Z
LAST-MODIFIED:20240531T000756Z
UID:10000449-1718881200-1718888400@www.tandembayarea.org
SUMMARY:Exploration Stations
DESCRIPTION:Discover science this summer at the Exploration Stations. Look\, touch and explore to learn about our natural world and communities. Guests include the Lindsay Wildlife Experience\, East Bay Regional Parks\, Mt. Diablo and East Bay Astronomical Societies and 511 Contra Costa. \nRegister Here: https://ccclib.bibliocommons.com/events/65f9c0e2284a1a4570124dd2
URL:https://www.tandembayarea.org/calendar/exploration-stations-2/
LOCATION:4191 Appian Way El Sobrante\, CA 94803\, 4191 Appian Way\, El Sobrante\, CA\, 94803\, United States
END:VEVENT
END:VCALENDAR