BEGIN:VCALENDAR
VERSION:2.0
PRODID:-//Tandem - ECPv6.15.12//NONSGML v1.0//EN
CALSCALE:GREGORIAN
METHOD:PUBLISH
X-ORIGINAL-URL:https://www.tandembayarea.org
X-WR-CALDESC:Events for Tandem
REFRESH-INTERVAL;VALUE=DURATION:PT1H
X-Robots-Tag:noindex
X-PUBLISHED-TTL:PT1H
BEGIN:VTIMEZONE
TZID:America/Los_Angeles
BEGIN:DAYLIGHT
TZOFFSETFROM:-0800
TZOFFSETTO:-0700
TZNAME:PDT
DTSTART:20240310T100000
END:DAYLIGHT
BEGIN:STANDARD
TZOFFSETFROM:-0700
TZOFFSETTO:-0800
TZNAME:PST
DTSTART:20241103T090000
END:STANDARD
BEGIN:DAYLIGHT
TZOFFSETFROM:-0800
TZOFFSETTO:-0700
TZNAME:PDT
DTSTART:20250309T100000
END:DAYLIGHT
BEGIN:STANDARD
TZOFFSETFROM:-0700
TZOFFSETTO:-0800
TZNAME:PST
DTSTART:20251102T090000
END:STANDARD
BEGIN:DAYLIGHT
TZOFFSETFROM:-0800
TZOFFSETTO:-0700
TZNAME:PDT
DTSTART:20260308T100000
END:DAYLIGHT
BEGIN:STANDARD
TZOFFSETFROM:-0700
TZOFFSETTO:-0800
TZNAME:PST
DTSTART:20261101T090000
END:STANDARD
END:VTIMEZONE
BEGIN:VEVENT
DTSTART;TZID=America/Los_Angeles:20250223T120000
DTEND;TZID=America/Los_Angeles:20250223T190000
DTSTAMP:20260423T194818
CREATED:20250201T014426Z
LAST-MODIFIED:20250201T022107Z
UID:10000619-1740312000-1740337200@www.tandembayarea.org
SUMMARY:Black Joy Parade
DESCRIPTION:Black Joy Parade is a hyper-positive non-profit based in Oakland\, CA that celebrates the Black experience and community’s contribution to history and culture with its signature parade and celebration\, partnerships and events. \nClick here for more info!
URL:https://www.tandembayarea.org/calendar/black-joy-parade/
LOCATION:2044 Franklin St\, Oakland\, CA 94612\, 2044 Franklin St\, Oakland\, CA\, 94612\, United States
END:VEVENT
END:VCALENDAR