BEGIN:VCALENDAR
VERSION:2.0
PRODID:-//Tandem - ECPv6.15.12//NONSGML v1.0//EN
CALSCALE:GREGORIAN
METHOD:PUBLISH
X-WR-CALNAME:Tandem
X-ORIGINAL-URL:https://www.tandembayarea.org
X-WR-CALDESC:Events for Tandem
REFRESH-INTERVAL;VALUE=DURATION:PT1H
X-Robots-Tag:noindex
X-PUBLISHED-TTL:PT1H
BEGIN:VTIMEZONE
TZID:America/Los_Angeles
BEGIN:DAYLIGHT
TZOFFSETFROM:-0800
TZOFFSETTO:-0700
TZNAME:PDT
DTSTART:20220313T100000
END:DAYLIGHT
BEGIN:STANDARD
TZOFFSETFROM:-0700
TZOFFSETTO:-0800
TZNAME:PST
DTSTART:20221106T090000
END:STANDARD
BEGIN:DAYLIGHT
TZOFFSETFROM:-0800
TZOFFSETTO:-0700
TZNAME:PDT
DTSTART:20230312T100000
END:DAYLIGHT
BEGIN:STANDARD
TZOFFSETFROM:-0700
TZOFFSETTO:-0800
TZNAME:PST
DTSTART:20231105T090000
END:STANDARD
BEGIN:DAYLIGHT
TZOFFSETFROM:-0800
TZOFFSETTO:-0700
TZNAME:PDT
DTSTART:20240310T100000
END:DAYLIGHT
BEGIN:STANDARD
TZOFFSETFROM:-0700
TZOFFSETTO:-0800
TZNAME:PST
DTSTART:20241103T090000
END:STANDARD
END:VTIMEZONE
BEGIN:VEVENT
DTSTART;TZID=America/Los_Angeles:20230226T123000
DTEND;TZID=America/Los_Angeles:20230226T190000
DTSTAMP:20260424T000501
CREATED:20230203T220949Z
LAST-MODIFIED:20230203T221605Z
UID:10000175-1677414600-1677438000@www.tandembayarea.org
SUMMARY:Black Joy Parade & Festival
DESCRIPTION:Don’t miss Oakland’s 6th Annual Black Joy Parade on Sunday\, February 26th starting at 12:30pm! With a festival to follow\, there will be plenty of family-friendly fun throughout the day until 7pm. The parade begins on 14th and Franklin in Downtown Oakland\, California. The main entrance into the festival is 19th and Franklin Streets. Enjoy food vendors\, music\, and much more! \nStop by to say hello to Tandem while you’re there and pick up a free children’s book and accompanying activity guide! \n 
URL:https://www.tandembayarea.org/calendar/black-joy-parade-festival/
ATTACH;FMTTYPE=image/png:https://www.tandembayarea.org/wp-content/uploads/2023/02/Black-Joy-Parade.png
END:VEVENT
END:VCALENDAR