BEGIN:VCALENDAR
VERSION:2.0
PRODID:-//Tandem - ECPv6.15.12//NONSGML v1.0//EN
CALSCALE:GREGORIAN
METHOD:PUBLISH
X-ORIGINAL-URL:https://www.tandembayarea.org
X-WR-CALDESC:Events for Tandem
REFRESH-INTERVAL;VALUE=DURATION:PT1H
X-Robots-Tag:noindex
X-PUBLISHED-TTL:PT1H
BEGIN:VTIMEZONE
TZID:America/Los_Angeles
BEGIN:DAYLIGHT
TZOFFSETFROM:-0800
TZOFFSETTO:-0700
TZNAME:PDT
DTSTART:20190310T100000
END:DAYLIGHT
BEGIN:STANDARD
TZOFFSETFROM:-0700
TZOFFSETTO:-0800
TZNAME:PST
DTSTART:20191103T090000
END:STANDARD
BEGIN:DAYLIGHT
TZOFFSETFROM:-0800
TZOFFSETTO:-0700
TZNAME:PDT
DTSTART:20200308T100000
END:DAYLIGHT
BEGIN:STANDARD
TZOFFSETFROM:-0700
TZOFFSETTO:-0800
TZNAME:PST
DTSTART:20201101T090000
END:STANDARD
BEGIN:DAYLIGHT
TZOFFSETFROM:-0800
TZOFFSETTO:-0700
TZNAME:PDT
DTSTART:20210314T100000
END:DAYLIGHT
BEGIN:STANDARD
TZOFFSETFROM:-0700
TZOFFSETTO:-0800
TZNAME:PST
DTSTART:20211107T090000
END:STANDARD
END:VTIMEZONE
BEGIN:VEVENT
DTSTART;TZID=America/Los_Angeles:20200922T130000
DTEND;TZID=America/Los_Angeles:20200922T133000
DTSTAMP:20260424T091406
CREATED:20200803T203007Z
LAST-MODIFIED:20200921T170707Z
UID:10000114-1600779600-1600781400@www.tandembayarea.org
SUMMARY:3至5歲兒童粵語Zoom朗讀
DESCRIPTION:9月22號\n1:00 下午 \nTandem早期學習導師，Susan邀請您和您的孩子參加她直播的有趣和互動粵語朗讀。 此朗讀最適合3至5歲的兒童。 \n請點擊這裡參加朗讀 – https://us02web.zoom.us/j/87244722775 \n  \nJoin Tandem Early Learning Specialist Susan for a live\, engaging Read Aloud in Cantonese! This Read Aloud is most appropriate for children ages 3-5 years old. \n請在此網站註冊 Register here: tinyurl.com/tandem2020 \n已經登記了？ 您只需要登記一次就可以參加我們的全部公開活動。 Already Registered? You only need to do it once for all our public events.\n請查看您的電子郵件獲取Zoom的鏈接。 Check your email for the link to our Zoom Room.\n主題 “成功註冊Tandem的活動“ Subject “Tandem Event Registration Successful“\n 
URL:https://www.tandembayarea.org/calendar/cantonese-zoom-read-aloud-for-children-3-5-years-old/
LOCATION:Zoom
ATTACH;FMTTYPE=image/jpeg:https://www.tandembayarea.org/wp-content/uploads/2020/08/Susan-virtual-read-aloud-screenshot.jpg
ORGANIZER;CN="Tandem%2C Partners in Early Learning":MAILTO:info@tandembayarea.org
END:VEVENT
END:VCALENDAR