BEGIN:VCALENDAR
VERSION:2.0
PRODID:-//Tandem - ECPv6.15.12//NONSGML v1.0//EN
CALSCALE:GREGORIAN
METHOD:PUBLISH
X-ORIGINAL-URL:https://www.tandembayarea.org
X-WR-CALDESC:Events for Tandem
REFRESH-INTERVAL;VALUE=DURATION:PT1H
X-Robots-Tag:noindex
X-PUBLISHED-TTL:PT1H
BEGIN:VTIMEZONE
TZID:America/Los_Angeles
BEGIN:DAYLIGHT
TZOFFSETFROM:-0800
TZOFFSETTO:-0700
TZNAME:PDT
DTSTART:20190310T100000
END:DAYLIGHT
BEGIN:STANDARD
TZOFFSETFROM:-0700
TZOFFSETTO:-0800
TZNAME:PST
DTSTART:20191103T090000
END:STANDARD
BEGIN:DAYLIGHT
TZOFFSETFROM:-0800
TZOFFSETTO:-0700
TZNAME:PDT
DTSTART:20200308T100000
END:DAYLIGHT
BEGIN:STANDARD
TZOFFSETFROM:-0700
TZOFFSETTO:-0800
TZNAME:PST
DTSTART:20201101T090000
END:STANDARD
BEGIN:DAYLIGHT
TZOFFSETFROM:-0800
TZOFFSETTO:-0700
TZNAME:PDT
DTSTART:20210314T100000
END:DAYLIGHT
BEGIN:STANDARD
TZOFFSETFROM:-0700
TZOFFSETTO:-0800
TZNAME:PST
DTSTART:20211107T090000
END:STANDARD
BEGIN:DAYLIGHT
TZOFFSETFROM:-0800
TZOFFSETTO:-0700
TZNAME:PDT
DTSTART:20220313T100000
END:DAYLIGHT
BEGIN:STANDARD
TZOFFSETFROM:-0700
TZOFFSETTO:-0800
TZNAME:PST
DTSTART:20221106T090000
END:STANDARD
BEGIN:DAYLIGHT
TZOFFSETFROM:-0800
TZOFFSETTO:-0700
TZNAME:PDT
DTSTART:20230312T100000
END:DAYLIGHT
BEGIN:STANDARD
TZOFFSETFROM:-0700
TZOFFSETTO:-0800
TZNAME:PST
DTSTART:20231105T090000
END:STANDARD
END:VTIMEZONE
BEGIN:VEVENT
DTSTART;TZID=America/Los_Angeles:20220427T160000
DTEND;TZID=America/Los_Angeles:20220427T170000
DTSTAMP:20260424T074314
CREATED:20220419T195656Z
LAST-MODIFIED:20220419T203834Z
UID:10000260-1651075200-1651078800@www.tandembayarea.org
SUMMARY:Dual Language Learner Playgroups with Tandem!
DESCRIPTION:Wednesday\, April 27th 4-5 pm\nmiércoles 27 de abril 4-5pm 4月27日，星期三下午4點至5點 \nENGLISH – A Trip to the Ocean Deep\nJoin us for an engaging and interactive playgroup with your child!\nClick to join the Zoom.\nMeeting ID: 884 5540 2360\nPasscode: ocean \nESPAÑOL – Viaje a las profundidades del océano\n¡Únase a nuestro un grupo de juego divertido e interactivo con su hije!\nHaga clic para entrar en la sesión.\nMeeting ID: 822 6617 1692\nPasscode: 212751 \nCHINESE – 深海之旅 (Field Trip to the Ocean Deep)\n請加入我們，與您的孩子 一起參與一個有趣，吸引 和互動的遊戲小組!\n請點擊這裡加入\nMeeting ID: 895 8643 8084\nPasscode: 134471
URL:https://www.tandembayarea.org/calendar/dual-language-learner-playgroups-with-tandem/
LOCATION:Zoom
ATTACH;FMTTYPE=image/jpeg:https://www.tandembayarea.org/wp-content/uploads/2022/04/Field-Trip-to-the-Ocean-Deep-DLL-Playgroup-crop.jpg
ORGANIZER;CN="Tandem%2C Partners in Early Learning":MAILTO:info@tandembayarea.org
END:VEVENT
BEGIN:VEVENT
DTSTART;TZID=America/Los_Angeles:20200411T110000
DTEND;TZID=America/Los_Angeles:20200411T130000
DTSTAMP:20260424T074314
CREATED:20200310T233443Z
LAST-MODIFIED:20200310T233443Z
UID:10000112-1586602800-1586610000@www.tandembayarea.org
SUMMARY:Free Give Me 5 Playgroups for Fathers at Eastmont WIC
DESCRIPTION:
URL:https://www.tandembayarea.org/calendar/free-give-me-5-playgroups-for-fathers-at-eastmont-wic/
LOCATION:Eastmont Town Center WIC\, 7200 Bancroft Avenue\, #204\, Oakland\, CA\, 94605\, United States
END:VEVENT
BEGIN:VEVENT
DTSTART;TZID=America/Los_Angeles:20200411T110000
DTEND;TZID=America/Los_Angeles:20200411T130000
DTSTAMP:20260424T074314
CREATED:20200310T232841Z
LAST-MODIFIED:20200310T232841Z
UID:10000009-1586602800-1586610000@www.tandembayarea.org
SUMMARY:FREE Give Me 5 Session at Telegraph WIC
DESCRIPTION:
URL:https://www.tandembayarea.org/calendar/free-give-me-5-session-at-telegraph-wic/
LOCATION:Telegraph Avenue WIC\, 3600 Telegraph Avenue\, Oakland\, CA\, 94609\, United States
END:VEVENT
BEGIN:VEVENT
DTSTART;TZID=America/Los_Angeles:20200325T140000
DTEND;TZID=America/Los_Angeles:20200325T160000
DTSTAMP:20260424T074314
CREATED:20200305T200023Z
LAST-MODIFIED:20200305T200023Z
UID:10000007-1585144800-1585152000@www.tandembayarea.org
SUMMARY:Free Family Play-and-Learn Sessions in Oakland
DESCRIPTION:Join us for 5 FREE sessions throughout March.\nThese events are open and free to all families living in the 94603 ZIP code\, with children between the ages of 0-5. \nFor more information\, view or download our flyer in English or en español. \n\nMarch 25 – Sing and Read\nSupportive adults are invited to have fun with their children during Root’s Family Time at the Roots Community Health Center. Tandem will lead fun\, hands-on activities through their Give Me 5 program! In this session\, we’ll enjoy musical activities that foster strong early literacy and language skills in young children. \n  \n\n  \n¡Vegna a jugar y aprender con sus niños!\n25 de marzo de 2020 – “Cantar y Leer”\nPara niños-as de edad 0-5 años.
URL:https://www.tandembayarea.org/calendar/free-family-play-and-learn-sessions-in-oakland/
LOCATION:Roots Community Health Center\, 9925 International Avenue\, Oakland\, CA\, 94603\, United States
ATTACH;FMTTYPE=image/jpeg:https://www.tandembayarea.org/wp-content/uploads/2020/03/IMG_4748-2.jpg
END:VEVENT
BEGIN:VEVENT
DTSTART;TZID=America/Los_Angeles:20200318T140000
DTEND;TZID=America/Los_Angeles:20200318T160000
DTSTAMP:20260424T074314
CREATED:20200305T195139Z
LAST-MODIFIED:20200305T200033Z
UID:10000006-1584540000-1584547200@www.tandembayarea.org
SUMMARY:Free Family Play-and-Learn Sessions in Oakland
DESCRIPTION:Join us for 5 FREE sessions throughout March.\nThese events are open and free to all families living in the 94603 ZIP code\, with children between the ages of 0-5. \nFor more information\, view or download our flyer in English or en español. \n\nMarch 18 – Thinking and Analyze\nSupportive adults are invited to have fun with their children during Root’s Family Time at the Roots Community Health Center. Tandem will lead fun\, hands-on activities through their Give Me 5 program! In this session\, we’ll foster early math and science skills through fun\, hands-on\, simple experiments guaranteed to delight both you and your little one! \n\n  \n¡Vegna a jugar y aprender con sus niños!\n18 de marzo de 2020 – “Pensar y Analizar”\nPara niños-as de edad 0-5 años.
URL:https://www.tandembayarea.org/calendar/13817/
LOCATION:Roots Community Health Center\, 9925 International Avenue\, Oakland\, CA\, 94603\, United States
ATTACH;FMTTYPE=image/jpeg:https://www.tandembayarea.org/wp-content/uploads/2020/03/slime.jpg
END:VEVENT
BEGIN:VEVENT
DTSTART;TZID=America/Los_Angeles:20200314T110000
DTEND;TZID=America/Los_Angeles:20200314T130000
DTSTAMP:20260424T074314
CREATED:20200310T230954Z
LAST-MODIFIED:20200310T231036Z
UID:10000008-1584183600-1584190800@www.tandembayarea.org
SUMMARY:East Bay Give Me 5 Sessions for Fathers
DESCRIPTION:
URL:https://www.tandembayarea.org/calendar/east-bay-give-me-5-sessions-for-fathers/
LOCATION:Telegraph Avenue WIC\, 3600 Telegraph Avenue\, Oakland\, CA\, 94609\, United States
END:VEVENT
END:VCALENDAR