BEGIN:VCALENDAR
VERSION:2.0
PRODID:-//Tandem - ECPv6.15.12//NONSGML v1.0//EN
CALSCALE:GREGORIAN
METHOD:PUBLISH
X-ORIGINAL-URL:https://www.tandembayarea.org
X-WR-CALDESC:Events for Tandem
REFRESH-INTERVAL;VALUE=DURATION:PT1H
X-Robots-Tag:noindex
X-PUBLISHED-TTL:PT1H
BEGIN:VTIMEZONE
TZID:America/Los_Angeles
BEGIN:DAYLIGHT
TZOFFSETFROM:-0800
TZOFFSETTO:-0700
TZNAME:PDT
DTSTART:20170312T100000
END:DAYLIGHT
BEGIN:STANDARD
TZOFFSETFROM:-0700
TZOFFSETTO:-0800
TZNAME:PST
DTSTART:20171105T090000
END:STANDARD
BEGIN:DAYLIGHT
TZOFFSETFROM:-0800
TZOFFSETTO:-0700
TZNAME:PDT
DTSTART:20180311T100000
END:DAYLIGHT
BEGIN:STANDARD
TZOFFSETFROM:-0700
TZOFFSETTO:-0800
TZNAME:PST
DTSTART:20181104T090000
END:STANDARD
BEGIN:DAYLIGHT
TZOFFSETFROM:-0800
TZOFFSETTO:-0700
TZNAME:PDT
DTSTART:20190310T100000
END:DAYLIGHT
BEGIN:STANDARD
TZOFFSETFROM:-0700
TZOFFSETTO:-0800
TZNAME:PST
DTSTART:20191103T090000
END:STANDARD
BEGIN:DAYLIGHT
TZOFFSETFROM:-0800
TZOFFSETTO:-0700
TZNAME:PDT
DTSTART:20200308T100000
END:DAYLIGHT
BEGIN:STANDARD
TZOFFSETFROM:-0700
TZOFFSETTO:-0800
TZNAME:PST
DTSTART:20201101T090000
END:STANDARD
BEGIN:DAYLIGHT
TZOFFSETFROM:-0800
TZOFFSETTO:-0700
TZNAME:PDT
DTSTART:20210314T100000
END:DAYLIGHT
BEGIN:STANDARD
TZOFFSETFROM:-0700
TZOFFSETTO:-0800
TZNAME:PST
DTSTART:20211107T090000
END:STANDARD
BEGIN:DAYLIGHT
TZOFFSETFROM:-0800
TZOFFSETTO:-0700
TZNAME:PDT
DTSTART:20220313T100000
END:DAYLIGHT
BEGIN:STANDARD
TZOFFSETFROM:-0700
TZOFFSETTO:-0800
TZNAME:PST
DTSTART:20221106T090000
END:STANDARD
BEGIN:DAYLIGHT
TZOFFSETFROM:-0800
TZOFFSETTO:-0700
TZNAME:PDT
DTSTART:20230312T100000
END:DAYLIGHT
BEGIN:STANDARD
TZOFFSETFROM:-0700
TZOFFSETTO:-0800
TZNAME:PST
DTSTART:20231105T090000
END:STANDARD
BEGIN:DAYLIGHT
TZOFFSETFROM:-0800
TZOFFSETTO:-0700
TZNAME:PDT
DTSTART:20240310T100000
END:DAYLIGHT
BEGIN:STANDARD
TZOFFSETFROM:-0700
TZOFFSETTO:-0800
TZNAME:PST
DTSTART:20241103T090000
END:STANDARD
END:VTIMEZONE
BEGIN:VEVENT
DTSTART;TZID=America/Los_Angeles:20230404T110000
DTEND;TZID=America/Los_Angeles:20230404T120000
DTSTAMP:20260424T070814
CREATED:20230302T230909Z
LAST-MODIFIED:20230302T230909Z
UID:10000325-1680606000-1680609600@www.tandembayarea.org
SUMMARY:Edgewood FRC: African American Play and Learn Groups
DESCRIPTION:
URL:https://www.tandembayarea.org/calendar/edgewood-frc-african-american-play-and-learn-groups/2023-04-04/
LOCATION:4900 3rd street\, San Francisco\, 4900 3rd Street @ Palou & Oakdale\, San Francisco\, CA\, United States
ATTACH;FMTTYPE=image/png:https://www.tandembayarea.org/wp-content/uploads/2023/03/Upload_20230302-2300241024_1.png
END:VEVENT
BEGIN:VEVENT
DTSTART;TZID=America/Los_Angeles:20230307T110000
DTEND;TZID=America/Los_Angeles:20230307T120000
DTSTAMP:20260424T070814
CREATED:20230302T230909Z
LAST-MODIFIED:20230302T230909Z
UID:10000324-1678186800-1678190400@www.tandembayarea.org
SUMMARY:Edgewood FRC: African American Play and Learn Groups
DESCRIPTION:
URL:https://www.tandembayarea.org/calendar/edgewood-frc-african-american-play-and-learn-groups/2023-03-07/
LOCATION:4900 3rd street\, San Francisco\, 4900 3rd Street @ Palou & Oakdale\, San Francisco\, CA\, United States
ATTACH;FMTTYPE=image/png:https://www.tandembayarea.org/wp-content/uploads/2023/03/Upload_20230302-2300241024_1.png
END:VEVENT
BEGIN:VEVENT
DTSTART;TZID=America/Los_Angeles:20200311T140000
DTEND;TZID=America/Los_Angeles:20200311T160000
DTSTAMP:20260424T070814
CREATED:20200305T194529Z
LAST-MODIFIED:20200305T195438Z
UID:10000005-1583935200-1583942400@www.tandembayarea.org
SUMMARY:Give Me 5 Play and Learn Groups
DESCRIPTION:Join us for 5 FREE sessions throughout March.\nThese events are open and free to all families living in the 94603 ZIP code\, with children between the ages of 0-5. \nFor more information\, view or download our flyer in English or en español. \n\nMarch 11 – “Sharing Feelings”\nSupportive adults are invited to have fun with their children during Root’s Family Time at the Roots Community Health Center. Tandem will lead fun\, hands-on activities through their Give Me 5 program! Join us for “Sharing Feelings” to share a smile and share your feelings as we enjoy activities that promote young children’s social-emotional development. Social-emotional development refers to a child’s ability to form close\, secure relationships and to recognize\, manage\, and express their emotions. \n  \n\n\n¡Vegna a jugar y aprender con sus niños!\n11 de marzo de 2020 – “Compartir Sentimientos”\nPara niños-as de edad 0-5 años. \n  \n  \n  \n  \n  \n 
URL:https://www.tandembayarea.org/calendar/give-me-5-play-and-learn-groups/
LOCATION:Roots Community Health Center\, 9925 International Avenue\, Oakland\, CA\, 94603\, United States
ATTACH;FMTTYPE=image/jpeg:https://www.tandembayarea.org/wp-content/uploads/2020/03/IMG_4748-1.jpg
END:VEVENT
BEGIN:VEVENT
DTSTART;TZID=America/Los_Angeles:20181113T093000
DTEND;TZID=America/Los_Angeles:20181113T110000
DTSTAMP:20260424T070814
CREATED:20181030T224537Z
LAST-MODIFIED:20181030T231638Z
UID:10000031-1542101400-1542106800@www.tandembayarea.org
SUMMARY:Family Workshop: Give Me 5!
DESCRIPTION:UPDATE – this playgroup is currently full.\nPlease contact us for more information about scheduling a similar workshop with your organization! \n \n 
URL:https://www.tandembayarea.org/calendar/family-workshop-give-me-5-5/
LOCATION:Eden Youth & Family Center\, Room C4\, 680 Tennyson Road\, Hayward\, CA\, 680 Tennyson Road\, Room C4\, Hayward\, CA\, 94544\, United States
ORGANIZER;CN="Tandem%2C Partners in Early Learning":MAILTO:info@tandembayarea.org
END:VEVENT
BEGIN:VEVENT
DTSTART;TZID=America/Los_Angeles:20181023T093000
DTEND;TZID=America/Los_Angeles:20181023T113000
DTSTAMP:20260424T070814
CREATED:20181030T224532Z
LAST-MODIFIED:20181030T231414Z
UID:10000098-1540287000-1540294200@www.tandembayarea.org
SUMMARY:Family Workshop: Give Me 5!
DESCRIPTION:UPDATE – this playgroup is currently full.\nPlease contact us for more information about scheduling a similar workshop with your organization! \n \n 
URL:https://www.tandembayarea.org/calendar/family-workshop-give-me-5-2/
LOCATION:Eden Youth & Family Center\, Room C4\, 680 Tennyson Road\, Hayward\, CA\, 680 Tennyson Road\, Room C4\, Hayward\, CA\, 94544\, United States
ORGANIZER;CN="Tandem%2C Partners in Early Learning":MAILTO:info@tandembayarea.org
END:VEVENT
END:VCALENDAR