BEGIN:VCALENDAR
VERSION:2.0
PRODID:-//Tandem - ECPv6.15.12//NONSGML v1.0//EN
CALSCALE:GREGORIAN
METHOD:PUBLISH
X-ORIGINAL-URL:https://www.tandembayarea.org
X-WR-CALDESC:Events for Tandem
REFRESH-INTERVAL;VALUE=DURATION:PT1H
X-Robots-Tag:noindex
X-PUBLISHED-TTL:PT1H
BEGIN:VTIMEZONE
TZID:America/Los_Angeles
BEGIN:DAYLIGHT
TZOFFSETFROM:-0800
TZOFFSETTO:-0700
TZNAME:PDT
DTSTART:20200308T100000
END:DAYLIGHT
BEGIN:STANDARD
TZOFFSETFROM:-0700
TZOFFSETTO:-0800
TZNAME:PST
DTSTART:20201101T090000
END:STANDARD
BEGIN:DAYLIGHT
TZOFFSETFROM:-0800
TZOFFSETTO:-0700
TZNAME:PDT
DTSTART:20210314T100000
END:DAYLIGHT
BEGIN:STANDARD
TZOFFSETFROM:-0700
TZOFFSETTO:-0800
TZNAME:PST
DTSTART:20211107T090000
END:STANDARD
BEGIN:DAYLIGHT
TZOFFSETFROM:-0800
TZOFFSETTO:-0700
TZNAME:PDT
DTSTART:20220313T100000
END:DAYLIGHT
BEGIN:STANDARD
TZOFFSETFROM:-0700
TZOFFSETTO:-0800
TZNAME:PST
DTSTART:20221106T090000
END:STANDARD
END:VTIMEZONE
BEGIN:VEVENT
DTSTART;TZID=America/Los_Angeles:20210624T120000
DTEND;TZID=America/Los_Angeles:20210624T130000
DTSTAMP:20260424T090718
CREATED:20210503T181340Z
LAST-MODIFIED:20210503T181340Z
UID:10000215-1624536000-1624539600@www.tandembayarea.org
SUMMARY:Dads of San Francisco Meeting
DESCRIPTION:
URL:https://www.tandembayarea.org/calendar/dads-of-san-francisco-meeting-june-24-2021/
LOCATION:Zoom
END:VEVENT
BEGIN:VEVENT
DTSTART;TZID=America/Los_Angeles:20210617T120000
DTEND;TZID=America/Los_Angeles:20210617T130000
DTSTAMP:20260424T090718
CREATED:20210503T181142Z
LAST-MODIFIED:20210503T181142Z
UID:10000214-1623931200-1623934800@www.tandembayarea.org
SUMMARY:Dads of San Francisco Meeting
DESCRIPTION:
URL:https://www.tandembayarea.org/calendar/dads-of-san-francisco-meeting-june-17-2021/
LOCATION:Zoom
END:VEVENT
BEGIN:VEVENT
DTSTART;TZID=America/Los_Angeles:20210610T120000
DTEND;TZID=America/Los_Angeles:20210610T130000
DTSTAMP:20260424T090718
CREATED:20210503T180930Z
LAST-MODIFIED:20210503T180930Z
UID:10000213-1623326400-1623330000@www.tandembayarea.org
SUMMARY:Dads of San Francisco Meeting
DESCRIPTION:
URL:https://www.tandembayarea.org/calendar/dads-of-san-francisco-meeting/
LOCATION:Zoom
END:VEVENT
BEGIN:VEVENT
DTSTART;TZID=America/Los_Angeles:20210603T120000
DTEND;TZID=America/Los_Angeles:20210603T130000
DTSTAMP:20260424T090718
CREATED:20210503T180718Z
LAST-MODIFIED:20210503T180718Z
UID:10000212-1622721600-1622725200@www.tandembayarea.org
SUMMARY:Dads of San Francisco Meeting
DESCRIPTION:
URL:https://www.tandembayarea.org/calendar/dads-of-san-francisco-meeting-june-3-2021/
LOCATION:Zoom
END:VEVENT
END:VCALENDAR