BEGIN:VCALENDAR
VERSION:2.0
PRODID:-//Tandem - ECPv6.15.12//NONSGML v1.0//EN
CALSCALE:GREGORIAN
METHOD:PUBLISH
X-WR-CALNAME:Tandem
X-ORIGINAL-URL:https://www.tandembayarea.org
X-WR-CALDESC:Events for Tandem
REFRESH-INTERVAL;VALUE=DURATION:PT1H
X-Robots-Tag:noindex
X-PUBLISHED-TTL:PT1H
BEGIN:VTIMEZONE
TZID:America/Los_Angeles
BEGIN:DAYLIGHT
TZOFFSETFROM:-0800
TZOFFSETTO:-0700
TZNAME:PDT
DTSTART:20190310T100000
END:DAYLIGHT
BEGIN:STANDARD
TZOFFSETFROM:-0700
TZOFFSETTO:-0800
TZNAME:PST
DTSTART:20191103T090000
END:STANDARD
BEGIN:DAYLIGHT
TZOFFSETFROM:-0800
TZOFFSETTO:-0700
TZNAME:PDT
DTSTART:20200308T100000
END:DAYLIGHT
BEGIN:STANDARD
TZOFFSETFROM:-0700
TZOFFSETTO:-0800
TZNAME:PST
DTSTART:20201101T090000
END:STANDARD
BEGIN:DAYLIGHT
TZOFFSETFROM:-0800
TZOFFSETTO:-0700
TZNAME:PDT
DTSTART:20210314T100000
END:DAYLIGHT
BEGIN:STANDARD
TZOFFSETFROM:-0700
TZOFFSETTO:-0800
TZNAME:PST
DTSTART:20211107T090000
END:STANDARD
BEGIN:DAYLIGHT
TZOFFSETFROM:-0800
TZOFFSETTO:-0700
TZNAME:PDT
DTSTART:20220313T100000
END:DAYLIGHT
BEGIN:STANDARD
TZOFFSETFROM:-0700
TZOFFSETTO:-0800
TZNAME:PST
DTSTART:20221106T090000
END:STANDARD
BEGIN:DAYLIGHT
TZOFFSETFROM:-0800
TZOFFSETTO:-0700
TZNAME:PDT
DTSTART:20230312T100000
END:DAYLIGHT
BEGIN:STANDARD
TZOFFSETFROM:-0700
TZOFFSETTO:-0800
TZNAME:PST
DTSTART:20231105T090000
END:STANDARD
END:VTIMEZONE
BEGIN:VEVENT
DTSTART;TZID=America/Los_Angeles:20220621T100000
DTEND;TZID=America/Los_Angeles:20220621T103000
DTSTAMP:20260424T061640
CREATED:20220509T214728Z
LAST-MODIFIED:20220607T164835Z
UID:10000120-1655805600-1655807400@www.tandembayarea.org
SUMMARY:Hora de cuentos en vivo: "Voy a Portarme Muy Bien"
DESCRIPTION:Para niños de 0 a 5 años\n¡Acompáñenos para una lectura divertida e interactiva!\nInscríbase aquí: bit.ly/tandemevent\nYa se inscribió usted? Sólo tiene que hacerlo una vez.\nBusque en su correo el link para nuestro salón de Zoom.\nEl mensaje tendrá el título “Tandem Event Registration Succe
URL:https://www.tandembayarea.org/calendar/hora-de-cuentos-en-vivo-voy-a-portarme-muy-bien/
LOCATION:Zoom
ATTACH;FMTTYPE=image/jpeg:https://www.tandembayarea.org/wp-content/uploads/2022/05/Muy-Bien.jpg
ORGANIZER;CN="Tandem%2C Partners in Early Learning":MAILTO:info@tandembayarea.org
END:VEVENT
BEGIN:VEVENT
DTSTART;TZID=America/Los_Angeles:20220422T100000
DTEND;TZID=America/Los_Angeles:20220422T103000
DTSTAMP:20260424T061640
CREATED:20220412T170604Z
LAST-MODIFIED:20220412T170610Z
UID:10000256-1650621600-1650623400@www.tandembayarea.org
SUMMARY:Hora de cuentos en vivo: "Fiesta Secreta de Pizza"
DESCRIPTION:Para niños de 0 a 5 años\n¡Acompáñenos para una lectura divertida e interactiva!\nInscríbase aquí: bit.ly/tandemevent\nYa se inscribió usted? Sólo tiene que hacerlo una vez.\nBusque en su correo el link para nuestro salón de Zoom.\nEl mensaje tendrá el título “Tandem Event Registration Successful”\n\n 
URL:https://www.tandembayarea.org/calendar/hora-de-cuentos-en-vivo-fiesta-secreta-de-pizza/
LOCATION:Zoom
ATTACH;FMTTYPE=image/jpeg:https://www.tandembayarea.org/wp-content/uploads/2022/04/Fiesta-Secreta-de-Pizza.jpg
ORGANIZER;CN="Tandem%2C Partners in Early Learning":MAILTO:info@tandembayarea.org
END:VEVENT
BEGIN:VEVENT
DTSTART;TZID=America/Los_Angeles:20220321T100000
DTEND;TZID=America/Los_Angeles:20220321T103000
DTSTAMP:20260424T061640
CREATED:20220308T215207Z
LAST-MODIFIED:20220308T215210Z
UID:10000253-1647856800-1647858600@www.tandembayarea.org
SUMMARY:Hora de cuentos en vivo: "El libro que hace clap"
DESCRIPTION:Para niños de 0 a 5 años\n¡Acompáñenos para una lectura divertida e interactiva!\nInscríbase aquí: bit.ly/tandemevent\nYa se inscribió usted? Sólo tiene que hacerlo una vez.\nBusque en su correo el link para nuestro salón de Zoom.\nEl mensaje tendrá el título “Tandem Event Registration Successful”
URL:https://www.tandembayarea.org/calendar/hora-de-cuentos-en-vivo-el-libro-que-hace-clap/
LOCATION:Zoom
ATTACH;FMTTYPE=image/jpeg:https://www.tandembayarea.org/wp-content/uploads/2022/01/El-libro-que-hace-clap-SPANISH-COVER.jpg
ORGANIZER;CN="Tandem%2C Partners in Early Learning":MAILTO:info@tandembayarea.org
END:VEVENT
BEGIN:VEVENT
DTSTART;TZID=America/Los_Angeles:20220224T100000
DTEND;TZID=America/Los_Angeles:20220224T103000
DTSTAMP:20260424T061640
CREATED:20220209T002026Z
LAST-MODIFIED:20220209T002028Z
UID:10000250-1645696800-1645698600@www.tandembayarea.org
SUMMARY:Bilingual Interactive Zoom Storytime - Serie de lecturas interactivas
DESCRIPTION:Join Tandem and OUSD for our interactive Read Aloud Series. At each bilingual read aloud we will explore kindergarten readiness skills and discuss tips to share books with children ages 0-5. Every Tuesday and Thursday throughout February at 10am!\n\nAcompañe a Tandem\, Partners in Early Learning® y OUSD a una SERIE DE LECTURAS INTERACTIVAS. Estas lecturas interactivas bilingues explorarán las destrezas del Kinder y tendremos una discusión de ideas para compartir libros. Martes y Jueves Feb 1 a Feb 24: 10am.\n\nClick to join us / haga clic para entrar\nMeeting ID: 84835995384
URL:https://www.tandembayarea.org/calendar/bilingual-interactive-zoom-storytime-serie-de-lecturas-interactivas-4/
LOCATION:Zoom
ATTACH;FMTTYPE=image/jpeg:https://www.tandembayarea.org/wp-content/uploads/2016/08/Kids-look-at-book-3-e1644365091972.jpg
ORGANIZER;CN="Tandem%2C Partners in Early Learning":MAILTO:info@tandembayarea.org
END:VEVENT
BEGIN:VEVENT
DTSTART;TZID=America/Los_Angeles:20220222T100000
DTEND;TZID=America/Los_Angeles:20220222T103000
DTSTAMP:20260424T061640
CREATED:20220209T001822Z
LAST-MODIFIED:20220209T001824Z
UID:10000248-1645524000-1645525800@www.tandembayarea.org
SUMMARY:Bilingual Interactive Zoom Storytime - Serie de lecturas interactivas
DESCRIPTION:Join Tandem and OUSD for our interactive Read Aloud Series. At each bilingual read aloud we will explore kindergarten readiness skills and discuss tips to share books with children ages 0-5. Every Tuesday and Thursday throughout February at 10am!\n\nAcompañe a Tandem\, Partners in Early Learning® y OUSD a una SERIE DE LECTURAS INTERACTIVAS. Estas lecturas interactivas bilingues explorarán las destrezas del Kinder y tendremos una discusión de ideas para compartir libros. Martes y Jueves Feb 1 a Feb 24: 10am.\n\nClick to join us / haga clic para entrar\nMeeting ID: 84835995384
URL:https://www.tandembayarea.org/calendar/bilingual-interactive-zoom-storytime-serie-de-lecturas-interactivas-3/
LOCATION:Zoom
ATTACH;FMTTYPE=image/jpeg:https://www.tandembayarea.org/wp-content/uploads/2016/08/Kids-look-at-book-3-e1644365091972.jpg
ORGANIZER;CN="Tandem%2C Partners in Early Learning":MAILTO:info@tandembayarea.org
END:VEVENT
BEGIN:VEVENT
DTSTART;TZID=America/Los_Angeles:20220217T100000
DTEND;TZID=America/Los_Angeles:20220217T103000
DTSTAMP:20260424T061640
CREATED:20220209T001559Z
LAST-MODIFIED:20220209T001601Z
UID:10000247-1645092000-1645093800@www.tandembayarea.org
SUMMARY:Bilingual Interactive Zoom Storytime - Serie de lecturas interactivas
DESCRIPTION:Join Tandem and OUSD for our interactive Read Aloud Series. At each bilingual read aloud we will explore kindergarten readiness skills and discuss tips to share books with children ages 0-5. Every Tuesday and Thursday throughout February at 10am!\n\nAcompañe a Tandem\, Partners in Early Learning® y OUSD a una SERIE DE LECTURAS INTERACTIVAS. Estas lecturas interactivas bilingues explorarán las destrezas del Kinder y tendremos una discusión de ideas para compartir libros. Martes y Jueves Feb 1 a Feb 24: 10am.\n\nClick to join us / haga clic para entrar\nMeeting ID: 84835995384
URL:https://www.tandembayarea.org/calendar/bilingual-interactive-zoom-storytime-serie-de-lecturas-interactivas-2/
LOCATION:Zoom
ATTACH;FMTTYPE=image/jpeg:https://www.tandembayarea.org/wp-content/uploads/2016/08/Kids-look-at-book-3-e1644365091972.jpg
ORGANIZER;CN="Tandem%2C Partners in Early Learning":MAILTO:info@tandembayarea.org
END:VEVENT
BEGIN:VEVENT
DTSTART;TZID=America/Los_Angeles:20220215T100000
DTEND;TZID=America/Los_Angeles:20220215T103000
DTSTAMP:20260424T061640
CREATED:20220209T001035Z
LAST-MODIFIED:20220209T002030Z
UID:10000246-1644919200-1644921000@www.tandembayarea.org
SUMMARY:Bilingual Interactive Zoom Storytime - Serie de lecturas interactivas
DESCRIPTION:Join Tandem and OUSD for our interactive Read Aloud Series. At each bilingual read aloud we will explore kindergarten readiness skills and discuss tips to share books with children ages 0-5. Every Tuesday and Thursday throughout February at 10am!\n\nAcompañe a Tandem\, Partners in Early Learning® y OUSD a una SERIE DE LECTURAS INTERACTIVAS. Estas lecturas interactivas bilingues explorarán las destrezas del Kinder y tendremos una discusión de ideas para compartir libros. Martes y Jueves Feb 1 a Feb 24: 10am.\n\nClick to join us / haga clic para entrar\nMeeting ID: 84835995384
URL:https://www.tandembayarea.org/calendar/bilingual-interactive-zoom-storytime-serie-de-lecturas-interactivas/
LOCATION:Zoom
ATTACH;FMTTYPE=image/jpeg:https://www.tandembayarea.org/wp-content/uploads/2016/08/Kids-look-at-book-3-e1644365091972.jpg
ORGANIZER;CN="Tandem%2C Partners in Early Learning":MAILTO:info@tandembayarea.org
END:VEVENT
BEGIN:VEVENT
DTSTART;TZID=America/Los_Angeles:20210824T100000
DTEND;TZID=America/Los_Angeles:20210824T103000
DTSTAMP:20260424T061640
CREATED:20210625T203557Z
LAST-MODIFIED:20210804T213211Z
UID:10000226-1629799200-1629801000@www.tandembayarea.org
SUMMARY:Hora de cuentos en vivo: Estoy contigo
DESCRIPTION:Para niños de 0 a 5 años\n¡Acompáñenos para una lectura divertida e interactiva!\n \n\nInscríbase aquí: bit.ly/tandemevent\nYa se inscribió usted? Sólo tiene que hacerlo una vez.\nBusque en su correo el link para nuestro salón de Zoom.\nEl mensaje tendrá el título “Tandem Event Registration Successful”
URL:https://www.tandembayarea.org/calendar/hora-de-cuentos-en-vivo-estoy-contigo/
LOCATION:Zoom
ORGANIZER;CN="Tandem%2C Partners in Early Learning":MAILTO:info@tandembayarea.org
END:VEVENT
BEGIN:VEVENT
DTSTART;TZID=America/Los_Angeles:20210727T100000
DTEND;TZID=America/Los_Angeles:20210727T103000
DTSTAMP:20260424T061640
CREATED:20210625T201358Z
LAST-MODIFIED:20210625T201358Z
UID:10000223-1627380000-1627381800@www.tandembayarea.org
SUMMARY:Hora de cuentos en vivo: "Nico dibuja un sentimiento"
DESCRIPTION:Para niños de 0 a 5 años\n¡Acompáñenos para una lectura divertida e interactiva!\n  \nInscríbase aquí: tinyurl.com/tandem2020\nYa se inscribió usted? Sólo tiene que hacerlo una vez.\nBusque en su correo el link para nuestro salón de Zoom.\nEl mensaje tendrá el título “Tandem Event Registration Successful”
URL:https://www.tandembayarea.org/calendar/hora-de-cuentos-en-vivo-nico-dibuja-un-sentimiento/
LOCATION:Zoom
ORGANIZER;CN="Tandem%2C Partners in Early Learning":MAILTO:info@tandembayarea.org
END:VEVENT
BEGIN:VEVENT
DTSTART;TZID=America/Los_Angeles:20210513T170000
DTEND;TZID=America/Los_Angeles:20210513T190000
DTSTAMP:20260424T061640
CREATED:20210312T005201Z
LAST-MODIFIED:20210312T005201Z
UID:10000208-1620925200-1620932400@www.tandembayarea.org
SUMMARY:Clases de Crianza: Programa de Parentalidad Positiva (Triple P)
DESCRIPTION:
URL:https://www.tandembayarea.org/calendar/clases-de-crianza-programa-de-parentalidad-positiva-triple-p-10/
LOCATION:Online
END:VEVENT
BEGIN:VEVENT
DTSTART;TZID=America/Los_Angeles:20210506T170000
DTEND;TZID=America/Los_Angeles:20210506T190000
DTSTAMP:20260424T061640
CREATED:20210312T005054Z
LAST-MODIFIED:20210312T005054Z
UID:10000207-1620320400-1620327600@www.tandembayarea.org
SUMMARY:Clases de Crianza: Programa de Parentalidad Positiva (Triple P)
DESCRIPTION:
URL:https://www.tandembayarea.org/calendar/clases-de-crianza-programa-de-parentalidad-positiva-triple-p-9/
LOCATION:Online
END:VEVENT
BEGIN:VEVENT
DTSTART;TZID=America/Los_Angeles:20210503T100000
DTEND;TZID=America/Los_Angeles:20210503T103000
DTSTAMP:20260424T061640
CREATED:20210430T173234Z
LAST-MODIFIED:20210430T173234Z
UID:10000075-1620036000-1620037800@www.tandembayarea.org
SUMMARY:Hora de cuentos en vivo: El Ratoncito\, la fresa roja y madura\, y el gran oso hambriento
DESCRIPTION:Para niños de 0 a 5 años \n¡Acompáñenos para una lectura divertida e interactiva!\n  \nInscríbase aquí: tinyurl.com/tandem2020\nYa se inscribió usted? Sólo tiene que hacerlo una vez.\nBusque en su correo el link para nuestro salón de Zoom.\nEl mensaje tendrá el título “Tandem Event Registration Successful”
URL:https://www.tandembayarea.org/calendar/hora-de-cuentos-en-vivo-el-ratoncito-la-fresa-roja-y-madura-y-el-gran-oso-hambriento/
LOCATION:Zoom
ORGANIZER;CN="Tandem%2C Partners in Early Learning":MAILTO:info@tandembayarea.org
END:VEVENT
BEGIN:VEVENT
DTSTART;TZID=America/Los_Angeles:20210429T170000
DTEND;TZID=America/Los_Angeles:20210429T190000
DTSTAMP:20260424T061640
CREATED:20210312T004941Z
LAST-MODIFIED:20210312T004941Z
UID:10000206-1619715600-1619722800@www.tandembayarea.org
SUMMARY:Clases de Crianza: Programa de Parentalidad Positiva (Triple P)
DESCRIPTION:
URL:https://www.tandembayarea.org/calendar/clases-de-crianza-programa-de-parentalidad-positiva-triple-p-8/
LOCATION:Online
END:VEVENT
BEGIN:VEVENT
DTSTART;TZID=America/Los_Angeles:20210422T170000
DTEND;TZID=America/Los_Angeles:20210422T190000
DTSTAMP:20260424T061640
CREATED:20210312T004829Z
LAST-MODIFIED:20210312T004829Z
UID:10000205-1619110800-1619118000@www.tandembayarea.org
SUMMARY:Clases de Crianza: Programa de Parentalidad Positiva (Triple P)
DESCRIPTION:
URL:https://www.tandembayarea.org/calendar/clases-de-crianza-programa-de-parentalidad-positiva-triple-p-7/
LOCATION:Online
END:VEVENT
BEGIN:VEVENT
DTSTART;TZID=America/Los_Angeles:20210415T170000
DTEND;TZID=America/Los_Angeles:20210415T190000
DTSTAMP:20260424T061640
CREATED:20210312T004633Z
LAST-MODIFIED:20210312T004633Z
UID:10000204-1618506000-1618513200@www.tandembayarea.org
SUMMARY:Clases de Crianza: Programa de Parentalidad Positiva (Triple P)
DESCRIPTION:
URL:https://www.tandembayarea.org/calendar/clases-de-crianza-programa-de-parentalidad-positiva-triple-p-6/
LOCATION:Online
END:VEVENT
BEGIN:VEVENT
DTSTART;TZID=America/Los_Angeles:20210408T170000
DTEND;TZID=America/Los_Angeles:20210408T190000
DTSTAMP:20260424T061640
CREATED:20210312T004521Z
LAST-MODIFIED:20210312T004521Z
UID:10000203-1617901200-1617908400@www.tandembayarea.org
SUMMARY:Clases de Crianza: Programa de Parentalidad Positiva (Triple P)
DESCRIPTION:
URL:https://www.tandembayarea.org/calendar/clases-de-crianza-programa-de-parentalidad-positiva-triple-p-5/
LOCATION:Online
END:VEVENT
BEGIN:VEVENT
DTSTART;TZID=America/Los_Angeles:20210401T170000
DTEND;TZID=America/Los_Angeles:20210401T190000
DTSTAMP:20260424T061640
CREATED:20210312T004403Z
LAST-MODIFIED:20210312T004403Z
UID:10000202-1617296400-1617303600@www.tandembayarea.org
SUMMARY:Clases de Crianza: Programa de Parentalidad Positiva (Triple P)
DESCRIPTION:
URL:https://www.tandembayarea.org/calendar/clases-de-crianza-programa-de-parentalidad-positiva-triple-p-4/
LOCATION:Online
END:VEVENT
BEGIN:VEVENT
DTSTART;TZID=America/Los_Angeles:20210326T110000
DTEND;TZID=America/Los_Angeles:20210326T113000
DTSTAMP:20260424T061640
CREATED:20210301T181148Z
LAST-MODIFIED:20210312T011802Z
UID:10000182-1616756400-1616758200@www.tandembayarea.org
SUMMARY:Hora de cuentos en vivo: Sofia Valdez\, Presidenta tal vez
DESCRIPTION:Para niños de 0 a 5 años\n¡Acompáñenos para una lectura divertida e interactiva de Sofia Valdez\, Presidenta tal vez por Andrea Beaty! \n  \nInscríbase aquí: tinyurl.com/tandem2020\nYa se inscribió usted? Sólo tiene que hacerlo una vez.\nBusque en su correo el link para nuestro salón de Zoom.\nEl mensaje tendrá el título “Tandem Event Registration Successful”
URL:https://www.tandembayarea.org/calendar/hora-de-cuentos-en-vivo-sofia-valez-presidenta-tal-vez/
LOCATION:Zoom
ORGANIZER;CN="Tandem%2C Partners in Early Learning":MAILTO:info@tandembayarea.org
END:VEVENT
BEGIN:VEVENT
DTSTART;TZID=America/Los_Angeles:20210325T170000
DTEND;TZID=America/Los_Angeles:20210325T190000
DTSTAMP:20260424T061640
CREATED:20210312T004245Z
LAST-MODIFIED:20210312T004245Z
UID:10000201-1616691600-1616698800@www.tandembayarea.org
SUMMARY:Clases de Crianza: Programa de Parentalidad Positiva (Triple P)
DESCRIPTION:
URL:https://www.tandembayarea.org/calendar/clases-de-crianza-programa-de-parentalidad-positiva-triple-p-3/
LOCATION:Online
END:VEVENT
BEGIN:VEVENT
DTSTART;TZID=America/Los_Angeles:20210318T170000
DTEND;TZID=America/Los_Angeles:20210318T190000
DTSTAMP:20260424T061640
CREATED:20210312T004118Z
LAST-MODIFIED:20210312T004118Z
UID:10000200-1616086800-1616094000@www.tandembayarea.org
SUMMARY:Clases de Crianza: Programa de Parentalidad Positiva (Triple P)
DESCRIPTION:
URL:https://www.tandembayarea.org/calendar/clases-de-crianza-programa-de-parentalidad-positiva-triple-p-2/
LOCATION:Online
END:VEVENT
BEGIN:VEVENT
DTSTART;TZID=America/Los_Angeles:20210311T170000
DTEND;TZID=America/Los_Angeles:20210311T190000
DTSTAMP:20260424T061640
CREATED:20210312T003942Z
LAST-MODIFIED:20210312T003942Z
UID:10000199-1615482000-1615489200@www.tandembayarea.org
SUMMARY:Clases de Crianza: Programa de Parentalidad Positiva (Triple P)
DESCRIPTION:
URL:https://www.tandembayarea.org/calendar/clases-de-crianza-programa-de-parentalidad-positiva-triple-p/
LOCATION:Online
END:VEVENT
BEGIN:VEVENT
DTSTART;TZID=America/Los_Angeles:20210225T153000
DTEND;TZID=America/Los_Angeles:20210225T160000
DTSTAMP:20260424T061640
CREATED:20210114T202033Z
LAST-MODIFIED:20210129T231702Z
UID:10000178-1614267000-1614268800@www.tandembayarea.org
SUMMARY:Hora de cuentos en vivo: Lola en la biblioteca
DESCRIPTION:Para niños de 0 a 5 años\n¡Acompáñenos para una lectura divertida e interactiva de Lola en la biblioteca por Anna McQuinn y Rosalind Beardshaw! \n  \nInscríbase aquí: tinyurl.com/tandem2020\nYa se inscribió usted? Sólo tiene que hacerlo una vez.\nBusque en su correo el link para nuestro salón de Zoom.\nEl mensaje tendrá el título “Tandem Event Registration Successful”
URL:https://www.tandembayarea.org/calendar/hora-de-cuentos-en-vivo-lola-en-la-biblioteca/
LOCATION:Zoom
ORGANIZER;CN="Tandem%2C Partners in Early Learning":MAILTO:info@tandembayarea.org
END:VEVENT
BEGIN:VEVENT
DTSTART;TZID=America/Los_Angeles:20210218T153000
DTEND;TZID=America/Los_Angeles:20210218T160000
DTSTAMP:20260424T061640
CREATED:20210114T201233Z
LAST-MODIFIED:20210114T201233Z
UID:10000176-1613662200-1613664000@www.tandembayarea.org
SUMMARY:Hora de cuentos en vivo: Me llamo Celia
DESCRIPTION:Para niños de 0 a 5 años\n¡Acompáñenos para una lectura divertida e interactiva de Me llamo Celia por Monica Brown! \n  \nInscríbase aquí: tinyurl.com/tandem2020\nYa se inscribió usted? Sólo tiene que hacerlo una vez.\nBusque en su correo el link para nuestro salón de Zoom.\nEl mensaje tendrá el título “Tandem Event Registration Successful”
URL:https://www.tandembayarea.org/calendar/hora-de-cuentos-en-vivo-me-llamo-celia/
LOCATION:Zoom
ORGANIZER;CN="Tandem%2C Partners in Early Learning":MAILTO:info@tandembayarea.org
END:VEVENT
BEGIN:VEVENT
DTSTART;TZID=America/Los_Angeles:20201202T110000
DTEND;TZID=America/Los_Angeles:20201202T113000
DTSTAMP:20260424T061640
CREATED:20201201T221919Z
LAST-MODIFIED:20201201T221919Z
UID:10000141-1606906800-1606908600@www.tandembayarea.org
SUMMARY:Hora de cuentos en vivo: Mis Amigos
DESCRIPTION:Para niños de 0 a 5 años\n¡Acompáñenos para una lectura divertida e interactiva de Mis Amigos! Vengan a conocer todos mis amigos los animales\, a ver que podemos aprender de ellos. \n  \nInscríbase aquí: tinyurl.com/tandem2020\nYa se inscribió usted? Sólo tiene que hacerlo una vez.\nBusque en su correo el link para nuestro salón de Zoom.\nEl mensaje tendrá el título “Tandem Event Registration Successful”
URL:https://www.tandembayarea.org/calendar/hora-de-cuentos-en-vivo-mis-amigos/
LOCATION:Zoom
ORGANIZER;CN="Tandem%2C Partners in Early Learning":MAILTO:info@tandembayarea.org
END:VEVENT
BEGIN:VEVENT
DTSTART;TZID=America/Los_Angeles:20200827T190000
DTEND;TZID=America/Los_Angeles:20200827T203000
DTSTAMP:20260424T061640
CREATED:20200818T223832Z
LAST-MODIFIED:20200818T223832Z
UID:10000116-1598554800-1598560200@www.tandembayarea.org
SUMMARY:EN LINEA: La Magia en la Hora de Cuentos
DESCRIPTION:En este entrenamiento virtual\, los participantes aprenderán cómo las interacciones de “servir y devolver” ayudan en la construcción del cerebro\, lenguaje y destrezas de alfabetización. Revisaremos la investigación más reciente sobre el tema y la aplicaremos a las lecturas interactivas. \nPracticaremos estrategias específicas de lectura interactiva en voz alta que despiertan la alegría de compartir libros y al mismo tiempo apoyan el desarrollo saludable del cerebro y la adquisición de lenguaje en la edad temprana. \n  \nHaga clic para registrarse\n  \nPara mas informacion\, comuniquese con Kaitlin Young.
URL:https://www.tandembayarea.org/calendar/la-magia-en-la-hora-de-cuentos/
ATTACH;FMTTYPE=image/jpeg:https://www.tandembayarea.org/wp-content/uploads/2019/05/Sara-reading.jpg
ORGANIZER;CN="Tandem%2C Partners in Early Learning":MAILTO:info@tandembayarea.org
END:VEVENT
END:VCALENDAR