BEGIN:VCALENDAR
VERSION:2.0
PRODID:-//Tandem - ECPv6.15.12//NONSGML v1.0//EN
CALSCALE:GREGORIAN
METHOD:PUBLISH
X-WR-CALNAME:Tandem
X-ORIGINAL-URL:https://www.tandembayarea.org
X-WR-CALDESC:Events for Tandem
REFRESH-INTERVAL;VALUE=DURATION:PT1H
X-Robots-Tag:noindex
X-PUBLISHED-TTL:PT1H
BEGIN:VTIMEZONE
TZID:America/Los_Angeles
BEGIN:DAYLIGHT
TZOFFSETFROM:-0800
TZOFFSETTO:-0700
TZNAME:PDT
DTSTART:20190310T100000
END:DAYLIGHT
BEGIN:STANDARD
TZOFFSETFROM:-0700
TZOFFSETTO:-0800
TZNAME:PST
DTSTART:20191103T090000
END:STANDARD
BEGIN:DAYLIGHT
TZOFFSETFROM:-0800
TZOFFSETTO:-0700
TZNAME:PDT
DTSTART:20200308T100000
END:DAYLIGHT
BEGIN:STANDARD
TZOFFSETFROM:-0700
TZOFFSETTO:-0800
TZNAME:PST
DTSTART:20201101T090000
END:STANDARD
BEGIN:DAYLIGHT
TZOFFSETFROM:-0800
TZOFFSETTO:-0700
TZNAME:PDT
DTSTART:20210314T100000
END:DAYLIGHT
BEGIN:STANDARD
TZOFFSETFROM:-0700
TZOFFSETTO:-0800
TZNAME:PST
DTSTART:20211107T090000
END:STANDARD
BEGIN:DAYLIGHT
TZOFFSETFROM:-0800
TZOFFSETTO:-0700
TZNAME:PDT
DTSTART:20220313T100000
END:DAYLIGHT
BEGIN:STANDARD
TZOFFSETFROM:-0700
TZOFFSETTO:-0800
TZNAME:PST
DTSTART:20221106T090000
END:STANDARD
BEGIN:DAYLIGHT
TZOFFSETFROM:-0800
TZOFFSETTO:-0700
TZNAME:PDT
DTSTART:20230312T100000
END:DAYLIGHT
BEGIN:STANDARD
TZOFFSETFROM:-0700
TZOFFSETTO:-0800
TZNAME:PST
DTSTART:20231105T090000
END:STANDARD
END:VTIMEZONE
BEGIN:VEVENT
DTSTART;TZID=America/Los_Angeles:20220328T100000
DTEND;TZID=America/Los_Angeles:20220328T103000
DTSTAMP:20260424T074820
CREATED:20220308T215612Z
LAST-MODIFIED:20220308T215616Z
UID:10000254-1648461600-1648463400@www.tandembayarea.org
SUMMARY:Live Read Aloud: "The Proudest Blue"
DESCRIPTION:For children ages 0-5!\n\nJoin us for an engaging\, interactive\, LIVE Read Aloud of I Got the Rhythm!\n\nRegister here: bit.ly/tandemevent\nAlready Registered? You only need to do it once for all our public events.\nCheck your email for the link to our Zoom Room.\nSubject “Tandem Event Registration Successful”
URL:https://www.tandembayarea.org/calendar/live-read-aloud-the-proudest-blue/
LOCATION:Zoom
ATTACH;FMTTYPE=image/jpeg:https://www.tandembayarea.org/wp-content/uploads/2022/03/The-Proudest-Blue.jpg
ORGANIZER;CN="Tandem%2C Partners in Early Learning":MAILTO:info@tandembayarea.org
END:VEVENT
BEGIN:VEVENT
DTSTART;TZID=America/Los_Angeles:20211216T100000
DTEND;TZID=America/Los_Angeles:20211216T103000
DTSTAMP:20260424T074820
CREATED:20211201T192132Z
LAST-MODIFIED:20211201T192132Z
UID:10000109-1639648800-1639650600@www.tandembayarea.org
SUMMARY:Hora de cuentos en vivo: La Primera Luna Llena de Gatita
DESCRIPTION:Para niños de 0 a 5 años\n¡Acompáñenos para una lectura divertida e interactiva!\n \n\nInscríbase aquí: bit.ly/tandemevent\nYa se inscribió usted? Sólo tiene que hacerlo una vez.\nBusque en su correo el link para nuestro salón de Zoom.\nEl mensaje tendrá el título “Tandem Event Registration Successful”\n\n\n\n\n\n 
URL:https://www.tandembayarea.org/calendar/hora-de-cuentos-en-vivo-la-primera-luna-llena-de-gatita/
LOCATION:Zoom
ORGANIZER;CN="Tandem%2C Partners in Early Learning":MAILTO:info@tandembayarea.org
END:VEVENT
BEGIN:VEVENT
DTSTART;TZID=America/Los_Angeles:20210608T150000
DTEND;TZID=America/Los_Angeles:20210608T153000
DTSTAMP:20260424T074820
CREATED:20210602T191245Z
LAST-MODIFIED:20210602T191245Z
UID:10000217-1623164400-1623166200@www.tandembayarea.org
SUMMARY:0至5歲兒童粵語Zoom朗讀: 她有兩個爸爸
DESCRIPTION:星期二  6月8日\n3:00下午\nTandem早期學習導師，Susan邀請您和您的孩子參加她直播的有趣和互動粵語朗讀。 此朗讀最適合0至5歲的兒童。 \n  \n請在此網站註冊 Register here: tinyurl.com/tandem2020\n已經登記了？ 您只需要登記一次就可以參加我們的全部公開活動。\n請查看您的電子郵件獲取Zoom的鏈接。\n主題 “成功註冊Tandem的活動”
URL:https://www.tandembayarea.org/calendar/0%e8%87%b35%e6%ad%b2%e5%85%92%e7%ab%a5%e7%b2%b5%e8%aa%9ezoom%e6%9c%97%e8%ae%80-%e5%96%84%e8%89%af%ef%bc%81/
LOCATION:Zoom
ORGANIZER;CN="Tandem%2C Partners in Early Learning":MAILTO:info@tandembayarea.org
END:VEVENT
BEGIN:VEVENT
DTSTART;TZID=America/Los_Angeles:20210517T100000
DTEND;TZID=America/Los_Angeles:20210517T103000
DTSTAMP:20260424T074820
CREATED:20210430T174836Z
LAST-MODIFIED:20210430T174836Z
UID:10000081-1621245600-1621247400@www.tandembayarea.org
SUMMARY:Live Read Aloud: "My Papi Has a Motorcycle"
DESCRIPTION:For children ages 0-5!\nJoin us for an engaging\, interactive\, LIVE Read Aloud of My Papi Has a Motorcycle by Isabel Quintero! \n  \nRegister here: tinyurl.com/tandem2020\nAlready Registered? You only need to do it once for all our public events.\nCheck your email for the link to our Zoom Room.\nSubject “Tandem Event Registration Successful”
URL:https://www.tandembayarea.org/calendar/live-read-aloud-my-papi-has-a-motorcycle/
LOCATION:Zoom
ORGANIZER;CN="Tandem%2C Partners in Early Learning":MAILTO:info@tandembayarea.org
END:VEVENT
BEGIN:VEVENT
DTSTART;TZID=America/Los_Angeles:20210511T150000
DTEND;TZID=America/Los_Angeles:20210511T153000
DTSTAMP:20260424T074820
CREATED:20210430T174518Z
LAST-MODIFIED:20210503T174126Z
UID:10000079-1620745200-1620747000@www.tandembayarea.org
SUMMARY:0至5歲兒童粵語Zoom朗讀: 星期六！
DESCRIPTION:星期二  5月11日\n3:00下午\nTandem早期學習導師，Susan邀請您和您的孩子參加她直播的有趣和互動粵語朗讀。 此朗讀最適合0至5歲的兒童。 \n  \n請在此網站註冊 Register here: tinyurl.com/tandem2020\n已經登記了？ 您只需要登記一次就可以參加我們的全部公開活動。\n請查看您的電子郵件獲取Zoom的鏈接。\n主題 “成功註冊Tandem的活動”
URL:https://www.tandembayarea.org/calendar/0%e8%87%b35%e6%ad%b2%e5%85%92%e7%ab%a5%e7%b2%b5%e8%aa%9ezoom%e6%9c%97%e8%ae%80-%e9%9b%bb%e8%bb%8a%e4%be%86%e5%9b%89%ef%bc%81/
LOCATION:Zoom
ORGANIZER;CN="Tandem%2C Partners in Early Learning":MAILTO:info@tandembayarea.org
END:VEVENT
BEGIN:VEVENT
DTSTART;TZID=America/Los_Angeles:20210120T110000
DTEND;TZID=America/Los_Angeles:20210120T120000
DTSTAMP:20260424T074820
CREATED:20210111T175101Z
LAST-MODIFIED:20210111T175101Z
UID:10000155-1611140400-1611144000@www.tandembayarea.org
SUMMARY:Hora de cuentos en vivo: Ladra\, George
DESCRIPTION:Para niños de 0 a 5 años\n¡Acompáñenos para una lectura divertida e interactiva de Ladra\, George! \n  \nInscríbase aquí: tinyurl.com/tandem2020\nYa se inscribió usted? Sólo tiene que hacerlo una vez.\nBusque en su correo el link para nuestro salón de Zoom.\nEl mensaje tendrá el título “Tandem Event Registration Successful”
URL:https://www.tandembayarea.org/calendar/hora-de-cuentos-en-vivo-ladra-george/
LOCATION:Zoom
ORGANIZER;CN="Tandem%2C Partners in Early Learning":MAILTO:info@tandembayarea.org
END:VEVENT
BEGIN:VEVENT
DTSTART;TZID=America/Los_Angeles:20210119T150000
DTEND;TZID=America/Los_Angeles:20210119T160000
DTSTAMP:20260424T074821
CREATED:20210111T174714Z
LAST-MODIFIED:20210111T174714Z
UID:10000151-1611068400-1611072000@www.tandembayarea.org
SUMMARY:Tandem Live Zoom Read Aloud: "Pattern Fish"
DESCRIPTION:For children ages 0-5!\nJoin Tandem for an engaging\, interactive\, LIVE Read Aloud of Pattern Fish by Trudy Harris on Zoom! Patterns aren’t just stripes and dots. They can be sounds and movements too! Come join the pattern fish as they float and glide\, splash and dive\, in this underwater book that’s great for building early math skills. \n  \nRegister here: tinyurl.com/tandem2020\nAlready Registered? You only need to do it once for all our public events.\nCheck your email for the link to our Zoom Room.\nSubject “Tandem Event Registration Successful”
URL:https://www.tandembayarea.org/calendar/tandem-live-zoom-read-aloud-pattern-fish/
LOCATION:Zoom
ORGANIZER;CN="Tandem%2C Partners in Early Learning":MAILTO:info@tandembayarea.org
END:VEVENT
BEGIN:VEVENT
DTSTART;TZID=America/Los_Angeles:20201117T150000
DTEND;TZID=America/Los_Angeles:20201117T160000
DTSTAMP:20260424T074821
CREATED:20201028T193420Z
LAST-MODIFIED:20201028T193420Z
UID:10000028-1605625200-1605628800@www.tandembayarea.org
SUMMARY:Live Read Aloud: Ruby Finds a Worry
DESCRIPTION:For children ages 0-5!\nJoin us for an engaging\, interactive\, LIVE Read Aloud of Ruby Finds a Worry! \n  \nRegister here: tinyurl.com/tandem2020\nAlready Registered? You only need to do it once for all our public events.\nCheck your email for the link to our Zoom Room.\nSubject “Tandem Event Registration Successful” \n 
URL:https://www.tandembayarea.org/calendar/live-read-aloud-ruby-finds-a-worry/
LOCATION:Zoom
ORGANIZER;CN="Tandem%2C Partners in Early Learning":MAILTO:info@tandembayarea.org
END:VEVENT
BEGIN:VEVENT
DTSTART;TZID=America/Los_Angeles:20201117T150000
DTEND;TZID=America/Los_Angeles:20201117T153000
DTSTAMP:20260424T074821
CREATED:20201023T153217Z
LAST-MODIFIED:20201117T030748Z
UID:10000023-1605625200-1605627000@www.tandembayarea.org
SUMMARY:LIVE Storytime: Ruby Finds a Worry
DESCRIPTION:For children ages 3-5!\nJoin us for an engaging\, interactive\, LIVE Read Aloud of Ruby Finds a Worry! \n  \nKeep the fun and learning going after this live reading – check out our activity guide for conversation starters\, hands-on activity ideas and much more! \n  \nClick to Join: https://us02web.zoom.us/j/87244722775
URL:https://www.tandembayarea.org/calendar/live-storytime-ruby-finds-a-worry/
LOCATION:Zoom
ORGANIZER;CN="Tandem%2C Partners in Early Learning":MAILTO:info@tandembayarea.org
END:VEVENT
BEGIN:VEVENT
DTSTART;TZID=America/Los_Angeles:20201111T110000
DTEND;TZID=America/Los_Angeles:20201111T120000
DTSTAMP:20260424T074821
CREATED:20201028T174314Z
LAST-MODIFIED:20201028T174709Z
UID:10000026-1605092400-1605096000@www.tandembayarea.org
SUMMARY:Hora de cuentos en vivo: Buenas Noticias\, Malas Noticias
DESCRIPTION:Para niños de 3 a 5 años\n¡Acompáñenos para una lectura divertida e interactiva de Buenas Noticias\, Malas Noticias! \n  \nInscríbase aquí: tinyurl.com/tandem2020\nYa se inscribió usted? Sólo tiene que hacerlo una vez.\nBusque en su correo el link para nuestro salón de Zoom.\nEl mensaje tendrá el título “Tandem Event Registration Successful”
URL:https://www.tandembayarea.org/calendar/hora-de-cuentos-en-vivo-buenas-noticias-malas-noticias/
LOCATION:Zoom
ORGANIZER;CN="Tandem%2C Partners in Early Learning":MAILTO:info@tandembayarea.org
END:VEVENT
END:VCALENDAR