BEGIN:VCALENDAR
VERSION:2.0
PRODID:-//Tandem - ECPv6.15.12//NONSGML v1.0//EN
CALSCALE:GREGORIAN
METHOD:PUBLISH
X-ORIGINAL-URL:https://www.tandembayarea.org
X-WR-CALDESC:Events for Tandem
REFRESH-INTERVAL;VALUE=DURATION:PT1H
X-Robots-Tag:noindex
X-PUBLISHED-TTL:PT1H
BEGIN:VTIMEZONE
TZID:America/Los_Angeles
BEGIN:DAYLIGHT
TZOFFSETFROM:-0800
TZOFFSETTO:-0700
TZNAME:PDT
DTSTART:20190310T100000
END:DAYLIGHT
BEGIN:STANDARD
TZOFFSETFROM:-0700
TZOFFSETTO:-0800
TZNAME:PST
DTSTART:20191103T090000
END:STANDARD
BEGIN:DAYLIGHT
TZOFFSETFROM:-0800
TZOFFSETTO:-0700
TZNAME:PDT
DTSTART:20200308T100000
END:DAYLIGHT
BEGIN:STANDARD
TZOFFSETFROM:-0700
TZOFFSETTO:-0800
TZNAME:PST
DTSTART:20201101T090000
END:STANDARD
BEGIN:DAYLIGHT
TZOFFSETFROM:-0800
TZOFFSETTO:-0700
TZNAME:PDT
DTSTART:20210314T100000
END:DAYLIGHT
BEGIN:STANDARD
TZOFFSETFROM:-0700
TZOFFSETTO:-0800
TZNAME:PST
DTSTART:20211107T090000
END:STANDARD
END:VTIMEZONE
BEGIN:VEVENT
DTSTART;TZID=America/Los_Angeles:20201027T150000
DTEND;TZID=America/Los_Angeles:20201027T153000
DTSTAMP:20260424T083309
CREATED:20200928T192707Z
LAST-MODIFIED:20201026T184452Z
UID:10000139-1603810800-1603812600@www.tandembayarea.org
SUMMARY:LIVE Read Aloud: Wild Animals
DESCRIPTION:For children ages 0-2!\nJoin us for an engaging\, interactive\, LIVE Read Aloud of Wild Animals! \n  \nClick here to join the Read Aloud!\nStarting at 3:00 pm
URL:https://www.tandembayarea.org/calendar/live-read-aloud-wild-animals/
LOCATION:Zoom
ORGANIZER;CN="Tandem%2C Partners in Early Learning":MAILTO:info@tandembayarea.org
END:VEVENT
BEGIN:VEVENT
DTSTART;TZID=America/Los_Angeles:20201012T150000
DTEND;TZID=America/Los_Angeles:20201012T153000
DTSTAMP:20260424T083309
CREATED:20200928T190856Z
LAST-MODIFIED:20200928T190856Z
UID:10000130-1602514800-1602516600@www.tandembayarea.org
SUMMARY:Hora de Cuentos: Mis colores\, mi mundo
DESCRIPTION:Para niños de 0 a 2 años \n¡Acompáñenos para una lectura divertida e interactiva de Mis colores\, mi mundo! \n  \nInscríbase aquí: tinyurl.com/tandem2020\nYa se inscribió usted? Sólo tiene que hacerlo una vez.\nBusque en su correo el link para nuestro salón de Zoom. \nEl mensaje tendrá el título “Tandem Event Registration Successful”
URL:https://www.tandembayarea.org/calendar/hora-de-cuentos-mis-colores-mi-mundo/
LOCATION:Zoom
ORGANIZER;CN="Tandem%2C Partners in Early Learning":MAILTO:info@tandembayarea.org
END:VEVENT
BEGIN:VEVENT
DTSTART;TZID=America/Los_Angeles:20201006T150000
DTEND;TZID=America/Los_Angeles:20201006T153000
DTSTAMP:20260424T083309
CREATED:20200928T190547Z
LAST-MODIFIED:20200928T190547Z
UID:10000128-1601996400-1601998200@www.tandembayarea.org
SUMMARY:0至2歲兒童粵語Zoom朗讀
DESCRIPTION:Tandem早期學習導師，Susan邀請您和您的孩子參加她直播的有趣和互動粵語朗讀。 此朗讀最適合0至2歲的兒童。 \nJoin Tandem Early Learning Specialist Susan for a live\, engaging Read Aloud in Cantonese! This Read Aloud is most appropriate for children ages 0-2 years old. \n  \n請在此網站註冊 Register here: tinyurl.com/tandem2020  \n已經登記了？ 您只需要登記一次就可以參加我們的全部公開活動。 Already Registered? You only need to do it once for all our public events. \n請查看您的電子郵件獲取Zoom的鏈接。 Check your email for the link to our Zoom Room. \n主題 “成功註冊Tandem的活動” Subject “Tandem Event Registration Successful”
URL:https://www.tandembayarea.org/calendar/0%e8%87%b32%e6%ad%b2%e5%85%92%e7%ab%a5%e7%b2%b5%e8%aa%9ezoom%e6%9c%97%e8%ae%80/
LOCATION:Zoom
ORGANIZER;CN="Tandem%2C Partners in Early Learning":MAILTO:info@tandembayarea.org
END:VEVENT
END:VCALENDAR