BEGIN:VCALENDAR
VERSION:2.0
PRODID:-//Tandem - ECPv6.15.12//NONSGML v1.0//EN
CALSCALE:GREGORIAN
METHOD:PUBLISH
X-ORIGINAL-URL:https://www.tandembayarea.org
X-WR-CALDESC:Events for Tandem
REFRESH-INTERVAL;VALUE=DURATION:PT1H
X-Robots-Tag:noindex
X-PUBLISHED-TTL:PT1H
BEGIN:VTIMEZONE
TZID:America/Los_Angeles
BEGIN:DAYLIGHT
TZOFFSETFROM:-0800
TZOFFSETTO:-0700
TZNAME:PDT
DTSTART:20190310T100000
END:DAYLIGHT
BEGIN:STANDARD
TZOFFSETFROM:-0700
TZOFFSETTO:-0800
TZNAME:PST
DTSTART:20191103T090000
END:STANDARD
BEGIN:DAYLIGHT
TZOFFSETFROM:-0800
TZOFFSETTO:-0700
TZNAME:PDT
DTSTART:20200308T100000
END:DAYLIGHT
BEGIN:STANDARD
TZOFFSETFROM:-0700
TZOFFSETTO:-0800
TZNAME:PST
DTSTART:20201101T090000
END:STANDARD
BEGIN:DAYLIGHT
TZOFFSETFROM:-0800
TZOFFSETTO:-0700
TZNAME:PDT
DTSTART:20210314T100000
END:DAYLIGHT
BEGIN:STANDARD
TZOFFSETFROM:-0700
TZOFFSETTO:-0800
TZNAME:PST
DTSTART:20211107T090000
END:STANDARD
END:VTIMEZONE
BEGIN:VEVENT
DTSTART;TZID=America/Los_Angeles:20200129T100000
DTEND;TZID=America/Los_Angeles:20200129T120000
DTSTAMP:20260424T053105
CREATED:20191205T000654Z
LAST-MODIFIED:20191205T000654Z
UID:10000001-1580292000-1580299200@www.tandembayarea.org
SUMMARY:Explore and Learn - Nature Play Event at Heron's Head Park
DESCRIPTION:Tandem is partnering with Edgewood FRC and the Eco-Center for a fun\, free event for families and children at Heron’s Head Park. More details to come.
URL:https://www.tandembayarea.org/calendar/explore-and-learn-nature-play-event-at-herons-head-park/
LOCATION:Heron’s Head Park\, 32 Jennings St.\, San Francisco\, CA\, 94124
END:VEVENT
END:VCALENDAR