BEGIN:VCALENDAR
VERSION:2.0
PRODID:-//Tandem - ECPv6.15.12//NONSGML v1.0//EN
CALSCALE:GREGORIAN
METHOD:PUBLISH
X-WR-CALNAME:Tandem
X-ORIGINAL-URL:https://www.tandembayarea.org
X-WR-CALDESC:Events for Tandem
REFRESH-INTERVAL;VALUE=DURATION:PT1H
X-Robots-Tag:noindex
X-PUBLISHED-TTL:PT1H
BEGIN:VTIMEZONE
TZID:America/Los_Angeles
BEGIN:DAYLIGHT
TZOFFSETFROM:-0800
TZOFFSETTO:-0700
TZNAME:PDT
DTSTART:20190310T100000
END:DAYLIGHT
BEGIN:STANDARD
TZOFFSETFROM:-0700
TZOFFSETTO:-0800
TZNAME:PST
DTSTART:20191103T090000
END:STANDARD
BEGIN:DAYLIGHT
TZOFFSETFROM:-0800
TZOFFSETTO:-0700
TZNAME:PDT
DTSTART:20200308T100000
END:DAYLIGHT
BEGIN:STANDARD
TZOFFSETFROM:-0700
TZOFFSETTO:-0800
TZNAME:PST
DTSTART:20201101T090000
END:STANDARD
BEGIN:DAYLIGHT
TZOFFSETFROM:-0800
TZOFFSETTO:-0700
TZNAME:PDT
DTSTART:20210314T100000
END:DAYLIGHT
BEGIN:STANDARD
TZOFFSETFROM:-0700
TZOFFSETTO:-0800
TZNAME:PST
DTSTART:20211107T090000
END:STANDARD
BEGIN:DAYLIGHT
TZOFFSETFROM:-0800
TZOFFSETTO:-0700
TZNAME:PDT
DTSTART:20220313T100000
END:DAYLIGHT
BEGIN:STANDARD
TZOFFSETFROM:-0700
TZOFFSETTO:-0800
TZNAME:PST
DTSTART:20221106T090000
END:STANDARD
END:VTIMEZONE
BEGIN:VEVENT
DTSTART;TZID=America/Los_Angeles:20210316T150000
DTEND;TZID=America/Los_Angeles:20210316T153000
DTSTAMP:20260424T093211
CREATED:20210301T181853Z
LAST-MODIFIED:20210301T181853Z
UID:10000185-1615906800-1615908600@www.tandembayarea.org
SUMMARY:Live Read Aloud: "Kamala and Maya's Big Idea"
DESCRIPTION:For children ages 0-5!\nJoin us for an engaging\, interactive\, LIVE Read Aloud of Kamala and Maya’s Big Idea by Meena Harris!  \n  \nRegister here: tinyurl.com/tandem2020\nAlready Registered? You only need to do it once for all our public events.\nCheck your email for the link to our Zoom Room.\nSubject “Tandem Event Registration Successful”
URL:https://www.tandembayarea.org/calendar/live-read-aloud-kamala-and-mayas-big-idea/
LOCATION:Zoom
ORGANIZER;CN="Tandem%2C Partners in Early Learning":MAILTO:info@tandembayarea.org
END:VEVENT
BEGIN:VEVENT
DTSTART;TZID=America/Los_Angeles:20201202T110000
DTEND;TZID=America/Los_Angeles:20201202T113000
DTSTAMP:20260424T093211
CREATED:20201201T221919Z
LAST-MODIFIED:20201201T221919Z
UID:10000141-1606906800-1606908600@www.tandembayarea.org
SUMMARY:Hora de cuentos en vivo: Mis Amigos
DESCRIPTION:Para niños de 0 a 5 años\n¡Acompáñenos para una lectura divertida e interactiva de Mis Amigos! Vengan a conocer todos mis amigos los animales\, a ver que podemos aprender de ellos. \n  \nInscríbase aquí: tinyurl.com/tandem2020\nYa se inscribió usted? Sólo tiene que hacerlo una vez.\nBusque en su correo el link para nuestro salón de Zoom.\nEl mensaje tendrá el título “Tandem Event Registration Successful”
URL:https://www.tandembayarea.org/calendar/hora-de-cuentos-en-vivo-mis-amigos/
LOCATION:Zoom
ORGANIZER;CN="Tandem%2C Partners in Early Learning":MAILTO:info@tandembayarea.org
END:VEVENT
END:VCALENDAR