BEGIN:VCALENDAR
VERSION:2.0
PRODID:-//Tandem - ECPv6.15.12//NONSGML v1.0//EN
CALSCALE:GREGORIAN
METHOD:PUBLISH
X-ORIGINAL-URL:https://www.tandembayarea.org
X-WR-CALDESC:Events for Tandem
REFRESH-INTERVAL;VALUE=DURATION:PT1H
X-Robots-Tag:noindex
X-PUBLISHED-TTL:PT1H
BEGIN:VTIMEZONE
TZID:America/Los_Angeles
BEGIN:DAYLIGHT
TZOFFSETFROM:-0800
TZOFFSETTO:-0700
TZNAME:PDT
DTSTART:20170312T100000
END:DAYLIGHT
BEGIN:STANDARD
TZOFFSETFROM:-0700
TZOFFSETTO:-0800
TZNAME:PST
DTSTART:20171105T090000
END:STANDARD
BEGIN:DAYLIGHT
TZOFFSETFROM:-0800
TZOFFSETTO:-0700
TZNAME:PDT
DTSTART:20180311T100000
END:DAYLIGHT
BEGIN:STANDARD
TZOFFSETFROM:-0700
TZOFFSETTO:-0800
TZNAME:PST
DTSTART:20181104T090000
END:STANDARD
BEGIN:DAYLIGHT
TZOFFSETFROM:-0800
TZOFFSETTO:-0700
TZNAME:PDT
DTSTART:20190310T100000
END:DAYLIGHT
BEGIN:STANDARD
TZOFFSETFROM:-0700
TZOFFSETTO:-0800
TZNAME:PST
DTSTART:20191103T090000
END:STANDARD
BEGIN:DAYLIGHT
TZOFFSETFROM:-0800
TZOFFSETTO:-0700
TZNAME:PDT
DTSTART:20200308T100000
END:DAYLIGHT
BEGIN:STANDARD
TZOFFSETFROM:-0700
TZOFFSETTO:-0800
TZNAME:PST
DTSTART:20201101T090000
END:STANDARD
BEGIN:DAYLIGHT
TZOFFSETFROM:-0800
TZOFFSETTO:-0700
TZNAME:PDT
DTSTART:20210314T100000
END:DAYLIGHT
BEGIN:STANDARD
TZOFFSETFROM:-0700
TZOFFSETTO:-0800
TZNAME:PST
DTSTART:20211107T090000
END:STANDARD
BEGIN:DAYLIGHT
TZOFFSETFROM:-0800
TZOFFSETTO:-0700
TZNAME:PDT
DTSTART:20220313T100000
END:DAYLIGHT
BEGIN:STANDARD
TZOFFSETFROM:-0700
TZOFFSETTO:-0800
TZNAME:PST
DTSTART:20221106T090000
END:STANDARD
BEGIN:DAYLIGHT
TZOFFSETFROM:-0800
TZOFFSETTO:-0700
TZNAME:PDT
DTSTART:20230312T100000
END:DAYLIGHT
BEGIN:STANDARD
TZOFFSETFROM:-0700
TZOFFSETTO:-0800
TZNAME:PST
DTSTART:20231105T090000
END:STANDARD
END:VTIMEZONE
BEGIN:VEVENT
DTSTART;TZID=America/Los_Angeles:20220413T190000
DTEND;TZID=America/Los_Angeles:20220413T203000
DTSTAMP:20260424T060244
CREATED:20220124T211422Z
LAST-MODIFIED:20220207T192413Z
UID:10000240-1649876400-1649881800@www.tandembayarea.org
SUMMARY:Taller: Trauma 102-Cuidar y Apoyar
DESCRIPTION:¡Tandem® te invita a asistir a un taller!\nEn linea via CocoKids.\n\nParte 2 de 2: Construyendo sobre de lo que aprendimos en Trauma 101: Identificar y Aprender\, profundizaremos en estrategias prácticas que respaldan la capacidad de un niño para regular sus emociones\, desarrollar resiliencia con el tiempo y hablar sobre experiencias pasadas difíciles de manera segura.\nHaga clic para registrarse
URL:https://www.tandembayarea.org/calendar/taller-trauma-102-cuidar-y-apoyar/
LOCATION:Zoom
ATTACH;FMTTYPE=image/jpeg:https://www.tandembayarea.org/wp-content/uploads/2020/05/Mom-and-child-discuss-feelings-1-e1644261663679.jpg
END:VEVENT
BEGIN:VEVENT
DTSTART;TZID=America/Los_Angeles:20220112T190000
DTEND;TZID=America/Los_Angeles:20220112T203000
DTSTAMP:20260424T060244
CREATED:20220111T000456Z
LAST-MODIFIED:20220112T170222Z
UID:10000110-1642014000-1642019400@www.tandembayarea.org
SUMMARY:Educator Workshop: Building Literacy-Rich Environments
DESCRIPTION:Join Tandem for our FREE educator workshop: “Building Literacy-Rich Environments.” This event is hosted by CoCoKids. All educators and family support professionals are invited to register for free. \nParticipants will learn how to build children’s literacy skills all day long\, not just during storytime. We will share and practice a variety of word games\, rhyming songs\, and hands-on activities geared specifically toward developing the American Library Association’s Six Skills of Early Literacy. \nREGISTER FOR FREE TO ATTEND \n 
URL:https://www.tandembayarea.org/calendar/educator-workshop-building-literacy-rich-environments/
LOCATION:Zoom
ORGANIZER;CN="Tandem%2C Partners in Early Learning":MAILTO:info@tandembayarea.org
END:VEVENT
BEGIN:VEVENT
DTSTART;TZID=America/Los_Angeles:20201120T150000
DTEND;TZID=America/Los_Angeles:20201120T163000
DTSTAMP:20260424T060244
CREATED:20201021T205248Z
LAST-MODIFIED:20201028T194050Z
UID:10000021-1605884400-1605889800@www.tandembayarea.org
SUMMARY:Math in Storybooks\, Zoom Webinar
DESCRIPTION:For caregivers and educators\nMath is all around us! Uncover the math in “non-math” storybooks and practice strategies that help young children learn key math concepts. \n\n\n  \nRegister to join: tinyurl.com/tandem2020
URL:https://www.tandembayarea.org/calendar/math-in-storybooks-zoom-webinar/
LOCATION:Zoom
ORGANIZER;CN="Tandem%2C Partners in Early Learning":MAILTO:info@tandembayarea.org
END:VEVENT
BEGIN:VEVENT
DTSTART;TZID=America/Los_Angeles:20190513T183000
DTEND;TZID=America/Los_Angeles:20190513T203000
DTSTAMP:20260424T060244
CREATED:20181030T224542Z
LAST-MODIFIED:20181030T235109Z
UID:10000038-1557772200-1557779400@www.tandembayarea.org
SUMMARY:Monthly Educator Training in San Francisco
DESCRIPTION:Join us the second Monday of every month from now until May 2019! \nOur fun\, interactive workshops draw on the knowledge and skills you already have as an experienced educator\, while offering practical tips and activities you can implement in your classroom tomorrow to explore new ways of getting your young students ready for kindergarten. \nDinner\, classroom books and certified professional development hours provided free of charge. \nREGISTER FOR FREE on Eventbrite!      \nClick here to download our flyer!
URL:https://www.tandembayarea.org/calendar/monthly-educator-training-in-san-francisco-7/
LOCATION:Children’s Council of San Francisco\, 445 Church Street\, San Francisco\, CA\, 94114\, United States
ORGANIZER;CN="Tandem%2C Partners in Early Learning":MAILTO:info@tandembayarea.org
END:VEVENT
BEGIN:VEVENT
DTSTART;TZID=America/Los_Angeles:20190311T183000
DTEND;TZID=America/Los_Angeles:20190311T203000
DTSTAMP:20260424T060244
CREATED:20181030T224541Z
LAST-MODIFIED:20181030T235541Z
UID:10000036-1552329000-1552336200@www.tandembayarea.org
SUMMARY:Monthly Educator Training in San Francisco
DESCRIPTION:Join us the second Monday of every month from now until May 2019! \nOur fun\, interactive workshops draw on the knowledge and skills you already have as an experienced educator\, while offering practical tips and activities you can implement in your classroom tomorrow to explore new ways of getting your young students ready for kindergarten. \nDinner\, classroom books and certified professional development hours provided free of charge. \nREGISTER FOR FREE on Eventbrite!      \nClick here to download our flyer!
URL:https://www.tandembayarea.org/calendar/monthly-educator-training-in-san-francisco-5/
LOCATION:Children’s Council of San Francisco\, 445 Church Street\, San Francisco\, CA\, 94114\, United States
ORGANIZER;CN="Tandem%2C Partners in Early Learning":MAILTO:info@tandembayarea.org
END:VEVENT
BEGIN:VEVENT
DTSTART;TZID=America/Los_Angeles:20190211T183000
DTEND;TZID=America/Los_Angeles:20190211T203000
DTSTAMP:20260424T060244
CREATED:20181030T224539Z
LAST-MODIFIED:20181030T235815Z
UID:10000035-1549909800-1549917000@www.tandembayarea.org
SUMMARY:Monthly Educator Training in San Francisco
DESCRIPTION:Join us the second Monday of every month from now until May 2019! \nOur fun\, interactive workshops draw on the knowledge and skills you already have as an experienced educator\, while offering practical tips and activities you can implement in your classroom tomorrow to explore new ways of getting your young students ready for kindergarten. \nDinner\, classroom books and certified professional development hours provided free of charge. \nREGISTER FOR FREE on Eventbrite!      \nClick here to download our flyer!
URL:https://www.tandembayarea.org/calendar/monthly-educator-training-in-san-francisco-4/
LOCATION:Children’s Council of San Francisco\, 445 Church Street\, San Francisco\, CA\, 94114\, United States
ORGANIZER;CN="Tandem%2C Partners in Early Learning":MAILTO:info@tandembayarea.org
END:VEVENT
BEGIN:VEVENT
DTSTART;TZID=America/Los_Angeles:20190114T183000
DTEND;TZID=America/Los_Angeles:20190114T203000
DTSTAMP:20260424T060244
CREATED:20181030T224539Z
LAST-MODIFIED:20181031T000117Z
UID:10000034-1547490600-1547497800@www.tandembayarea.org
SUMMARY:Monthly Educator Training in San Francisco
DESCRIPTION:Join us the second Monday of every month from now until May 2019! \nOur fun\, interactive workshops draw on the knowledge and skills you already have as an experienced educator\, while offering practical tips and activities you can implement in your classroom tomorrow to explore new ways of getting your young students ready for kindergarten. \nDinner\, classroom books and certified professional development hours provided free of charge. \nREGISTER FOR FREE on Eventbrite!      \nClick here to download our flyer!
URL:https://www.tandembayarea.org/calendar/monthly-educator-training-in-san-francisco-3/
LOCATION:Children’s Council of San Francisco\, 445 Church Street\, San Francisco\, CA\, 94114\, United States
ORGANIZER;CN="Tandem%2C Partners in Early Learning":MAILTO:info@tandembayarea.org
END:VEVENT
BEGIN:VEVENT
DTSTART;TZID=America/Los_Angeles:20181210T183000
DTEND;TZID=America/Los_Angeles:20181210T183000
DTSTAMP:20260424T060244
CREATED:20181030T224538Z
LAST-MODIFIED:20181031T000321Z
UID:10000032-1544466600-1544466600@www.tandembayarea.org
SUMMARY:Monthly Educator Training in San Francisco
DESCRIPTION:Join us the second Monday of every month from now until May 2019! \nOur fun\, interactive workshops draw on the knowledge and skills you already have as an experienced educator\, while offering practical tips and activities you can implement in your classroom tomorrow to explore new ways of getting your young students ready for kindergarten. \nDinner\, classroom books and certified professional development hours provided free of charge. \nREGISTER FOR FREE on Eventbrite!      \nClick here to download our flyer!
URL:https://www.tandembayarea.org/calendar/monthly-educator-training-in-san-francisco-2/
LOCATION:Children’s Council of San Francisco\, 445 Church Street\, San Francisco\, CA\, 94114\, United States
ORGANIZER;CN="Tandem%2C Partners in Early Learning":MAILTO:info@tandembayarea.org
END:VEVENT
END:VCALENDAR