BEGIN:VCALENDAR
VERSION:2.0
PRODID:-//Tandem - ECPv6.15.12//NONSGML v1.0//EN
CALSCALE:GREGORIAN
METHOD:PUBLISH
X-ORIGINAL-URL:https://www.tandembayarea.org
X-WR-CALDESC:Events for Tandem
REFRESH-INTERVAL;VALUE=DURATION:PT1H
X-Robots-Tag:noindex
X-PUBLISHED-TTL:PT1H
BEGIN:VTIMEZONE
TZID:America/Los_Angeles
BEGIN:DAYLIGHT
TZOFFSETFROM:-0800
TZOFFSETTO:-0700
TZNAME:PDT
DTSTART:20180311T100000
END:DAYLIGHT
BEGIN:STANDARD
TZOFFSETFROM:-0700
TZOFFSETTO:-0800
TZNAME:PST
DTSTART:20181104T090000
END:STANDARD
BEGIN:DAYLIGHT
TZOFFSETFROM:-0800
TZOFFSETTO:-0700
TZNAME:PDT
DTSTART:20190310T100000
END:DAYLIGHT
BEGIN:STANDARD
TZOFFSETFROM:-0700
TZOFFSETTO:-0800
TZNAME:PST
DTSTART:20191103T090000
END:STANDARD
BEGIN:DAYLIGHT
TZOFFSETFROM:-0800
TZOFFSETTO:-0700
TZNAME:PDT
DTSTART:20200308T100000
END:DAYLIGHT
BEGIN:STANDARD
TZOFFSETFROM:-0700
TZOFFSETTO:-0800
TZNAME:PST
DTSTART:20201101T090000
END:STANDARD
BEGIN:DAYLIGHT
TZOFFSETFROM:-0800
TZOFFSETTO:-0700
TZNAME:PDT
DTSTART:20210314T100000
END:DAYLIGHT
BEGIN:STANDARD
TZOFFSETFROM:-0700
TZOFFSETTO:-0800
TZNAME:PST
DTSTART:20211107T090000
END:STANDARD
BEGIN:DAYLIGHT
TZOFFSETFROM:-0800
TZOFFSETTO:-0700
TZNAME:PDT
DTSTART:20220313T100000
END:DAYLIGHT
BEGIN:STANDARD
TZOFFSETFROM:-0700
TZOFFSETTO:-0800
TZNAME:PST
DTSTART:20221106T090000
END:STANDARD
END:VTIMEZONE
BEGIN:VEVENT
DTSTART;TZID=America/Los_Angeles:20211102T100000
DTEND;TZID=America/Los_Angeles:20211102T103000
DTSTAMP:20260424T031347
CREATED:20211103T232458Z
LAST-MODIFIED:20211103T232500Z
UID:10000096-1635847200-1635849000@www.tandembayarea.org
SUMMARY:Live Read Aloud: "Carlo Likes Colors"
DESCRIPTION:For children ages 0-5!\nJoin us for an engaging\, interactive\, LIVE Read Aloud of Carlo Likes Colors by Jessica Spanyol!\n\n \n\nRegister here: bit.ly/tandemevent\nAlready Registered? You only need to do it once for all our public events.\nCheck your email for the link to our Zoom Room.\nSubject “Tandem Event Registration Successful”
URL:https://www.tandembayarea.org/calendar/live-read-aloud-carlo-likes-colors/
LOCATION:Zoom
ORGANIZER;CN="Tandem%2C Partners in Early Learning":MAILTO:info@tandembayarea.org
END:VEVENT
BEGIN:VEVENT
DTSTART;TZID=America/Los_Angeles:20201006T150000
DTEND;TZID=America/Los_Angeles:20201006T153000
DTSTAMP:20260424T031347
CREATED:20200928T190547Z
LAST-MODIFIED:20200928T190547Z
UID:10000128-1601996400-1601998200@www.tandembayarea.org
SUMMARY:0至2歲兒童粵語Zoom朗讀
DESCRIPTION:Tandem早期學習導師，Susan邀請您和您的孩子參加她直播的有趣和互動粵語朗讀。 此朗讀最適合0至2歲的兒童。 \nJoin Tandem Early Learning Specialist Susan for a live\, engaging Read Aloud in Cantonese! This Read Aloud is most appropriate for children ages 0-2 years old. \n  \n請在此網站註冊 Register here: tinyurl.com/tandem2020  \n已經登記了？ 您只需要登記一次就可以參加我們的全部公開活動。 Already Registered? You only need to do it once for all our public events. \n請查看您的電子郵件獲取Zoom的鏈接。 Check your email for the link to our Zoom Room. \n主題 “成功註冊Tandem的活動” Subject “Tandem Event Registration Successful”
URL:https://www.tandembayarea.org/calendar/0%e8%87%b32%e6%ad%b2%e5%85%92%e7%ab%a5%e7%b2%b5%e8%aa%9ezoom%e6%9c%97%e8%ae%80/
LOCATION:Zoom
ORGANIZER;CN="Tandem%2C Partners in Early Learning":MAILTO:info@tandembayarea.org
END:VEVENT
BEGIN:VEVENT
DTSTART;TZID=America/Los_Angeles:20200121T180000
DTEND;TZID=America/Los_Angeles:20200121T190000
DTSTAMP:20260424T031347
CREATED:20191008T235230Z
LAST-MODIFIED:20191220T213130Z
UID:10000086-1579629600-1579633200@www.tandembayarea.org
SUMMARY:Bilingual Storytime (English and Spanish) at the Hercules Library
DESCRIPTION:Join Tandem staff at the Hercules Public Library for an interactive bilingual storytime program in Spanish and English\, for children of all ages and their families!
URL:https://www.tandembayarea.org/calendar/bilingual-storytime-hercules-january14/
LOCATION:Hercules Library\, 109 Civic Drive\, Hercules\, CA\, 94547\, United States
ORGANIZER;CN="Tandem%2C Partners in Early Learning":MAILTO:info@tandembayarea.org
END:VEVENT
BEGIN:VEVENT
DTSTART;TZID=America/Los_Angeles:20191115T111500
DTEND;TZID=America/Los_Angeles:20191115T114500
DTSTAMP:20260424T031347
CREATED:20191022T192343Z
LAST-MODIFIED:20191022T192831Z
UID:10000078-1573816500-1573818300@www.tandembayarea.org
SUMMARY:Bilingual Storytime at the Pittsburg Public Library
DESCRIPTION:  \nAn interactive storytime in Spanish and English for young children and their families. Fridays\, 11/15\, 11/22\, and 12/6 at 11:15 a.m. \n  \nUna lectura interactiva en español e inglés para niños pequeños y sus familias. Viernes\, 11/15\, 11/22\, and 12/6 a las 11:15 de la mañana
URL:https://www.tandembayarea.org/calendar/bilingual-storytime-november-15-pittsburg-public-library/
LOCATION:Pittsburg Public Library\, 80 Power Avenue\, Pittsburg\, CA\, 94565\, United States
ORGANIZER;CN="Tandem%2C Partners in Early Learning":MAILTO:info@tandembayarea.org
END:VEVENT
BEGIN:VEVENT
DTSTART;TZID=America/Los_Angeles:20191112T180000
DTEND;TZID=America/Los_Angeles:20191112T184500
DTSTAMP:20260424T031347
CREATED:20191008T233727Z
LAST-MODIFIED:20191008T235419Z
UID:10000050-1573581600-1573584300@www.tandembayarea.org
SUMMARY:Bilingual Storytime (English and Spanish) at the Hercules Library
DESCRIPTION:Join Tandem staff at the Hercules Public Library for an interactive bilingual storytime program in Spanish and English\, for children of all ages and their families!
URL:https://www.tandembayarea.org/calendar/bilingual_storytime_hercules_november12/
LOCATION:Hercules Library\, 109 Civic Drive\, Hercules\, CA\, 94547\, United States
ORGANIZER;CN="Tandem%2C Partners in Early Learning":MAILTO:info@tandembayarea.org
END:VEVENT
BEGIN:VEVENT
DTSTART;TZID=America/Los_Angeles:20191024T110000
DTEND;TZID=America/Los_Angeles:20191024T113000
DTSTAMP:20260424T031347
CREATED:20191008T230802Z
LAST-MODIFIED:20191008T235454Z
UID:10000064-1571914800-1571916600@www.tandembayarea.org
SUMMARY:Bilingual Storytime (English and Spanish) at the Hercules Library
DESCRIPTION:Join Tandem staff at the Hercules Public Library for an interactive bilingual storytime program in Spanish and English\, for children of all ages and their families!
URL:https://www.tandembayarea.org/calendar/bilingual-storytime-english-and-spanish-hercules-october24/
LOCATION:Hercules Library\, 109 Civic Drive\, Hercules\, CA\, 94547\, United States
ATTACH;FMTTYPE=image/jpeg:https://www.tandembayarea.org/wp-content/uploads/2019/10/Laura-Read-Aloud-2.jpg
ORGANIZER;CN="Tandem%2C Partners in Early Learning":MAILTO:info@tandembayarea.org
END:VEVENT
END:VCALENDAR