BEGIN:VCALENDAR
VERSION:2.0
PRODID:-//Tandem - ECPv6.15.12//NONSGML v1.0//EN
CALSCALE:GREGORIAN
METHOD:PUBLISH
X-ORIGINAL-URL:https://www.tandembayarea.org
X-WR-CALDESC:Events for Tandem
REFRESH-INTERVAL;VALUE=DURATION:PT1H
X-Robots-Tag:noindex
X-PUBLISHED-TTL:PT1H
BEGIN:VTIMEZONE
TZID:America/Los_Angeles
BEGIN:DAYLIGHT
TZOFFSETFROM:-0800
TZOFFSETTO:-0700
TZNAME:PDT
DTSTART:20180311T100000
END:DAYLIGHT
BEGIN:STANDARD
TZOFFSETFROM:-0700
TZOFFSETTO:-0800
TZNAME:PST
DTSTART:20181104T090000
END:STANDARD
BEGIN:DAYLIGHT
TZOFFSETFROM:-0800
TZOFFSETTO:-0700
TZNAME:PDT
DTSTART:20190310T100000
END:DAYLIGHT
BEGIN:STANDARD
TZOFFSETFROM:-0700
TZOFFSETTO:-0800
TZNAME:PST
DTSTART:20191103T090000
END:STANDARD
BEGIN:DAYLIGHT
TZOFFSETFROM:-0800
TZOFFSETTO:-0700
TZNAME:PDT
DTSTART:20200308T100000
END:DAYLIGHT
BEGIN:STANDARD
TZOFFSETFROM:-0700
TZOFFSETTO:-0800
TZNAME:PST
DTSTART:20201101T090000
END:STANDARD
BEGIN:DAYLIGHT
TZOFFSETFROM:-0800
TZOFFSETTO:-0700
TZNAME:PDT
DTSTART:20210314T100000
END:DAYLIGHT
BEGIN:STANDARD
TZOFFSETFROM:-0700
TZOFFSETTO:-0800
TZNAME:PST
DTSTART:20211107T090000
END:STANDARD
END:VTIMEZONE
BEGIN:VEVENT
DTSTART;TZID=America/Los_Angeles:20200925T160000
DTEND;TZID=America/Los_Angeles:20200925T180000
DTSTAMP:20260424T061651
CREATED:20200915T163646Z
LAST-MODIFIED:20200915T163646Z
UID:10000126-1601049600-1601056800@www.tandembayarea.org
SUMMARY:Celebración del mes de orgullo latino (Latinx Heritage Month Celebration)
DESCRIPTION:Tandem will be presenting a Read Aloud and giving away free books!\n  \n 
URL:https://www.tandembayarea.org/calendar/celebracion-del-mes-de-orgullo-latino-latinx-heritage-month-celebration/
LOCATION:Online
END:VEVENT
BEGIN:VEVENT
DTSTART;TZID=America/Los_Angeles:20200521T183000
DTEND;TZID=America/Los_Angeles:20200521T203000
DTSTAMP:20260424T061651
CREATED:20190819T204129Z
LAST-MODIFIED:20191205T170010Z
UID:10000056-1590085800-1590093000@www.tandembayarea.org
SUMMARY:Free Educator Workshop in San Francisco: Phonological Awareness 2.0
DESCRIPTION:This workshop will be provided in English only.
URL:https://www.tandembayarea.org/calendar/free-educator-workshop-in-san-francisco-phonological-awareness-2-0/
LOCATION:Children’s Council of San Francisco\, 445 Church Street\, San Francisco\, CA\, 94114\, United States
ORGANIZER;CN="Tandem%2C Partners in Early Learning":MAILTO:info@tandembayarea.org
END:VEVENT
BEGIN:VEVENT
DTSTART;TZID=America/Los_Angeles:20200416T183000
DTEND;TZID=America/Los_Angeles:20200416T203000
DTSTAMP:20260424T061651
CREATED:20190819T203825Z
LAST-MODIFIED:20191205T170425Z
UID:10000054-1587061800-1587069000@www.tandembayarea.org
SUMMARY:Free Educator Workshop in San Francisco: Phonological Awareness 1.0
DESCRIPTION:This workshop will be provided in English only.
URL:https://www.tandembayarea.org/calendar/free-educator-workshop-in-san-francisco-phonological-awareness-1-0/
LOCATION:Children’s Council of San Francisco\, 445 Church Street\, San Francisco\, CA\, 94114\, United States
ORGANIZER;CN="Tandem%2C Partners in Early Learning":MAILTO:info@tandembayarea.org
END:VEVENT
BEGIN:VEVENT
DTSTART;TZID=America/Los_Angeles:20200319T183000
DTEND;TZID=America/Los_Angeles:20200319T203000
DTSTAMP:20260424T061651
CREATED:20190819T203502Z
LAST-MODIFIED:20191205T170520Z
UID:10000089-1584642600-1584649800@www.tandembayarea.org
SUMMARY:Free Educator Workshop in San Francisco: Building Literacy Rich Environments
DESCRIPTION:This workshop will be provided in English and Cantonese.
URL:https://www.tandembayarea.org/calendar/free-educator-workshop-in-san-francisco-building-literacy-rich-environments/
LOCATION:Children’s Council of San Francisco\, 445 Church Street\, San Francisco\, CA\, 94114\, United States
ORGANIZER;CN="Tandem%2C Partners in Early Learning":MAILTO:info@tandembayarea.org
END:VEVENT
BEGIN:VEVENT
DTSTART;TZID=America/Los_Angeles:20200116T183000
DTEND;TZID=America/Los_Angeles:20200116T203000
DTSTAMP:20260424T061651
CREATED:20190819T202456Z
LAST-MODIFIED:20191205T170703Z
UID:10000046-1579199400-1579206600@www.tandembayarea.org
SUMMARY:Free Educator Workshop in San Francisco: Building on Play - Authentic Assessment
DESCRIPTION:This workshop will be provided in English and Cantonese.
URL:https://www.tandembayarea.org/calendar/free-educator-workshop-in-san-francisco-building-on-play-authentic-assessment/
LOCATION:Children’s Council of San Francisco\, 445 Church Street\, San Francisco\, CA\, 94114\, United States
ORGANIZER;CN="Tandem%2C Partners in Early Learning":MAILTO:info@tandembayarea.org
END:VEVENT
BEGIN:VEVENT
DTSTART;TZID=America/Los_Angeles:20191219T183000
DTEND;TZID=America/Los_Angeles:20191219T203000
DTSTAMP:20260424T061651
CREATED:20190819T201940Z
LAST-MODIFIED:20191205T170129Z
UID:10000044-1576780200-1576787400@www.tandembayarea.org
SUMMARY:Free Educator Workshop in San Francisco: Cultivating Creativity
DESCRIPTION:Please note that this workshop will be provided in English only. 
URL:https://www.tandembayarea.org/calendar/free-educator-workshop-in-san-francisco-cultivating-creativity/
LOCATION:Mission Dolores Academy Auditorium\, 3371 16th Street\, San Francisco\, CA\, 94114\, United States
ORGANIZER;CN="Tandem%2C Partners in Early Learning":MAILTO:info@tandembayarea.org
END:VEVENT
BEGIN:VEVENT
DTSTART;TZID=America/Los_Angeles:20191017T183000
DTEND;TZID=America/Los_Angeles:20191017T203000
DTSTAMP:20260424T061651
CREATED:20190819T200558Z
LAST-MODIFIED:20190819T204728Z
UID:10000041-1571337000-1571344200@www.tandembayarea.org
SUMMARY:Free Educator Workshop in San Francisco: The Neuroscience of Storytelling
DESCRIPTION:
URL:https://www.tandembayarea.org/calendar/educator-workshop-in-san-francisco-the-neuroscience-of-storytelling/
LOCATION:Mission Dolores Academy Auditorium\, 3371 16th Street\, San Francisco\, CA\, 94114\, United States
ORGANIZER;CN="Tandem%2C Partners in Early Learning":MAILTO:info@tandembayarea.org
END:VEVENT
BEGIN:VEVENT
DTSTART;TZID=America/Los_Angeles:20190919T183000
DTEND;TZID=America/Los_Angeles:20190919T203000
DTSTAMP:20260424T061651
CREATED:20190819T194637Z
LAST-MODIFIED:20190819T204810Z
UID:10000039-1568917800-1568925000@www.tandembayarea.org
SUMMARY:Free Educator Workshop in San Francisco: Early Language and the Growing Brain
DESCRIPTION:This workshop will be provided in English and Cantonese.
URL:https://www.tandembayarea.org/calendar/free-educator-workshop-september-2019-san-francisco/
LOCATION:Mission Dolores Academy Auditorium\, 3371 16th Street\, San Francisco\, CA\, 94114\, United States
ORGANIZER;CN="Tandem%2C Partners in Early Learning":MAILTO:info@tandembayarea.org
END:VEVENT
END:VCALENDAR