BEGIN:VCALENDAR
VERSION:2.0
PRODID:-//Tandem - ECPv6.15.12//NONSGML v1.0//EN
CALSCALE:GREGORIAN
METHOD:PUBLISH
X-ORIGINAL-URL:https://www.tandembayarea.org
X-WR-CALDESC:Events for Tandem
REFRESH-INTERVAL;VALUE=DURATION:PT1H
X-Robots-Tag:noindex
X-PUBLISHED-TTL:PT1H
BEGIN:VTIMEZONE
TZID:America/Los_Angeles
BEGIN:DAYLIGHT
TZOFFSETFROM:-0800
TZOFFSETTO:-0700
TZNAME:PDT
DTSTART:20210314T100000
END:DAYLIGHT
BEGIN:STANDARD
TZOFFSETFROM:-0700
TZOFFSETTO:-0800
TZNAME:PST
DTSTART:20211107T090000
END:STANDARD
BEGIN:DAYLIGHT
TZOFFSETFROM:-0800
TZOFFSETTO:-0700
TZNAME:PDT
DTSTART:20220313T100000
END:DAYLIGHT
BEGIN:STANDARD
TZOFFSETFROM:-0700
TZOFFSETTO:-0800
TZNAME:PST
DTSTART:20221106T090000
END:STANDARD
BEGIN:DAYLIGHT
TZOFFSETFROM:-0800
TZOFFSETTO:-0700
TZNAME:PDT
DTSTART:20230312T100000
END:DAYLIGHT
BEGIN:STANDARD
TZOFFSETFROM:-0700
TZOFFSETTO:-0800
TZNAME:PST
DTSTART:20231105T090000
END:STANDARD
END:VTIMEZONE
BEGIN:VEVENT
DTSTART;TZID=America/Los_Angeles:20220315T180000
DTEND;TZID=America/Los_Angeles:20220315T190000
DTSTAMP:20260424T071151
CREATED:20220111T001321Z
LAST-MODIFIED:20220207T192511Z
UID:10000235-1647367200-1647370800@www.tandembayarea.org
SUMMARY:Building on Books: STEM in Storybooks
DESCRIPTION:Our Building on Books Event Series continues March 15th\, with a new round of authors and illustrators in conversation about STEM in storybooks. Save the date for this live\, online event. We hope you’ll join the conversation as we explore how children can gain a foundation for STEM and see themselves as scientists\, engineers\, mathematicians\, and more.\n\nComplete event details and ticket information coming soon!\n\n 
URL:https://www.tandembayarea.org/calendar/building-on-books-stem-in-storybooks/
LOCATION:Zoom
ATTACH;FMTTYPE=image/png:https://www.tandembayarea.org/wp-content/uploads/2020/09/Building-Literacy-rich-Environments-e1644261877960.png
ORGANIZER;CN="Tandem%2C Partners in Early Learning":MAILTO:info@tandembayarea.org
END:VEVENT
END:VCALENDAR