BEGIN:VCALENDAR
VERSION:2.0
PRODID:-//Tandem - ECPv6.15.12//NONSGML v1.0//EN
CALSCALE:GREGORIAN
METHOD:PUBLISH
X-ORIGINAL-URL:https://www.tandembayarea.org
X-WR-CALDESC:Events for Tandem
REFRESH-INTERVAL;VALUE=DURATION:PT1H
X-Robots-Tag:noindex
X-PUBLISHED-TTL:PT1H
BEGIN:VTIMEZONE
TZID:America/Los_Angeles
BEGIN:DAYLIGHT
TZOFFSETFROM:-0800
TZOFFSETTO:-0700
TZNAME:PDT
DTSTART:20190310T100000
END:DAYLIGHT
BEGIN:STANDARD
TZOFFSETFROM:-0700
TZOFFSETTO:-0800
TZNAME:PST
DTSTART:20191103T090000
END:STANDARD
BEGIN:DAYLIGHT
TZOFFSETFROM:-0800
TZOFFSETTO:-0700
TZNAME:PDT
DTSTART:20200308T100000
END:DAYLIGHT
BEGIN:STANDARD
TZOFFSETFROM:-0700
TZOFFSETTO:-0800
TZNAME:PST
DTSTART:20201101T090000
END:STANDARD
BEGIN:DAYLIGHT
TZOFFSETFROM:-0800
TZOFFSETTO:-0700
TZNAME:PDT
DTSTART:20210314T100000
END:DAYLIGHT
BEGIN:STANDARD
TZOFFSETFROM:-0700
TZOFFSETTO:-0800
TZNAME:PST
DTSTART:20211107T090000
END:STANDARD
END:VTIMEZONE
BEGIN:VEVENT
DTSTART;TZID=America/Los_Angeles:20201104T110000
DTEND;TZID=America/Los_Angeles:20201104T120000
DTSTAMP:20260424T082441
CREATED:20201028T173913Z
LAST-MODIFIED:20201028T173913Z
UID:10000025-1604487600-1604491200@www.tandembayarea.org
SUMMARY:Hora de cuentos en vivo: Todos Bostezan
DESCRIPTION:Para niños de 0 a 5 años\n¡Acompáñenos para una lectura divertida e interactiva de Todos Bostezan! \n  \nInscríbase aquí: tinyurl.com/tandem2020\nYa se inscribió usted? Sólo tiene que hacerlo una vez.\nBusque en su correo el link para nuestro salón de Zoom. \nEl mensaje tendrá el título “Tandem Event Registration Successful”
URL:https://www.tandembayarea.org/calendar/hora-de-cuentos-en-vivo-todos-bostezan/
LOCATION:Zoom
ORGANIZER;CN="Tandem%2C Partners in Early Learning":MAILTO:info@tandembayarea.org
END:VEVENT
END:VCALENDAR