BEGIN:VCALENDAR
VERSION:2.0
PRODID:-//Tandem - ECPv6.15.12//NONSGML v1.0//EN
CALSCALE:GREGORIAN
METHOD:PUBLISH
X-ORIGINAL-URL:https://www.tandembayarea.org
X-WR-CALDESC:Events for Tandem
REFRESH-INTERVAL;VALUE=DURATION:PT1H
X-Robots-Tag:noindex
X-PUBLISHED-TTL:PT1H
BEGIN:VTIMEZONE
TZID:America/Los_Angeles
BEGIN:DAYLIGHT
TZOFFSETFROM:-0800
TZOFFSETTO:-0700
TZNAME:PDT
DTSTART:20190310T100000
END:DAYLIGHT
BEGIN:STANDARD
TZOFFSETFROM:-0700
TZOFFSETTO:-0800
TZNAME:PST
DTSTART:20191103T090000
END:STANDARD
BEGIN:DAYLIGHT
TZOFFSETFROM:-0800
TZOFFSETTO:-0700
TZNAME:PDT
DTSTART:20200308T100000
END:DAYLIGHT
BEGIN:STANDARD
TZOFFSETFROM:-0700
TZOFFSETTO:-0800
TZNAME:PST
DTSTART:20201101T090000
END:STANDARD
BEGIN:DAYLIGHT
TZOFFSETFROM:-0800
TZOFFSETTO:-0700
TZNAME:PDT
DTSTART:20210314T100000
END:DAYLIGHT
BEGIN:STANDARD
TZOFFSETFROM:-0700
TZOFFSETTO:-0800
TZNAME:PST
DTSTART:20211107T090000
END:STANDARD
BEGIN:DAYLIGHT
TZOFFSETFROM:-0800
TZOFFSETTO:-0700
TZNAME:PDT
DTSTART:20220313T100000
END:DAYLIGHT
BEGIN:STANDARD
TZOFFSETFROM:-0700
TZOFFSETTO:-0800
TZNAME:PST
DTSTART:20221106T090000
END:STANDARD
END:VTIMEZONE
BEGIN:VEVENT
DTSTART;TZID=America/Los_Angeles:20210421T190000
DTEND;TZID=America/Los_Angeles:20210421T203000
DTSTAMP:20260424T071019
CREATED:20210120T222859Z
LAST-MODIFIED:20210120T222859Z
UID:10000179-1619031600-1619037000@www.tandembayarea.org
SUMMARY:Webinar: Math in Storybooks for caregivers\, families\, and educators
DESCRIPTION:Math is all around us! Uncover the math in “non-math” storybooks and practice strategies that help young children learn key math concepts. \n  \nRegister here: tinyurl.com/tandem2020\nAlready Registered? You only need to do it once for all our public events.\nCheck your email for the link to our Zoom Room.\nSubject “Tandem Event Registration Successful”
URL:https://www.tandembayarea.org/calendar/webinar-math-in-storybooks-for-caregivers-families-and-educators/
ORGANIZER;CN="Tandem%2C Partners in Early Learning":MAILTO:info@tandembayarea.org
END:VEVENT
BEGIN:VEVENT
DTSTART;TZID=America/Los_Angeles:20201120T150000
DTEND;TZID=America/Los_Angeles:20201120T163000
DTSTAMP:20260424T071019
CREATED:20201021T205248Z
LAST-MODIFIED:20201028T194050Z
UID:10000021-1605884400-1605889800@www.tandembayarea.org
SUMMARY:Math in Storybooks\, Zoom Webinar
DESCRIPTION:For caregivers and educators\nMath is all around us! Uncover the math in “non-math” storybooks and practice strategies that help young children learn key math concepts. \n\n\n  \nRegister to join: tinyurl.com/tandem2020
URL:https://www.tandembayarea.org/calendar/math-in-storybooks-zoom-webinar/
LOCATION:Zoom
ORGANIZER;CN="Tandem%2C Partners in Early Learning":MAILTO:info@tandembayarea.org
END:VEVENT
BEGIN:VEVENT
DTSTART;TZID=America/Los_Angeles:20201014T190000
DTEND;TZID=America/Los_Angeles:20201014T203000
DTSTAMP:20260424T071019
CREATED:20200819T233014Z
LAST-MODIFIED:20200819T233014Z
UID:10000012-1602702000-1602707400@www.tandembayarea.org
SUMMARY:Matemática en los libros de cuentos\, Zoom Webinar
DESCRIPTION:Para educadores\n!Las matemáticas están en todo nuestro alrededor! Acompañe a Tandem en este taller virtual para descubrir la matemática en todos los libros ‘no matemáticos’. Discutiremos y practicaremos estrategias para ayudar a los niñ@s aprender conceptos matemáticos claves. \n  \nHaga clic para registrarse\n 
URL:https://www.tandembayarea.org/calendar/matematica-en-los-libros-de-cuentos-zoom-webinar/
LOCATION:Zoom
END:VEVENT
END:VCALENDAR