BEGIN:VCALENDAR
VERSION:2.0
PRODID:-//Tandem - ECPv6.15.12//NONSGML v1.0//EN
CALSCALE:GREGORIAN
METHOD:PUBLISH
X-WR-CALNAME:Tandem
X-ORIGINAL-URL:https://www.tandembayarea.org
X-WR-CALDESC:Events for Tandem
REFRESH-INTERVAL;VALUE=DURATION:PT1H
X-Robots-Tag:noindex
X-PUBLISHED-TTL:PT1H
BEGIN:VTIMEZONE
TZID:America/Los_Angeles
BEGIN:DAYLIGHT
TZOFFSETFROM:-0800
TZOFFSETTO:-0700
TZNAME:PDT
DTSTART:20180311T100000
END:DAYLIGHT
BEGIN:STANDARD
TZOFFSETFROM:-0700
TZOFFSETTO:-0800
TZNAME:PST
DTSTART:20181104T090000
END:STANDARD
BEGIN:DAYLIGHT
TZOFFSETFROM:-0800
TZOFFSETTO:-0700
TZNAME:PDT
DTSTART:20190310T100000
END:DAYLIGHT
BEGIN:STANDARD
TZOFFSETFROM:-0700
TZOFFSETTO:-0800
TZNAME:PST
DTSTART:20191103T090000
END:STANDARD
BEGIN:DAYLIGHT
TZOFFSETFROM:-0800
TZOFFSETTO:-0700
TZNAME:PDT
DTSTART:20200308T100000
END:DAYLIGHT
BEGIN:STANDARD
TZOFFSETFROM:-0700
TZOFFSETTO:-0800
TZNAME:PST
DTSTART:20201101T090000
END:STANDARD
BEGIN:DAYLIGHT
TZOFFSETFROM:-0800
TZOFFSETTO:-0700
TZNAME:PDT
DTSTART:20210314T100000
END:DAYLIGHT
BEGIN:STANDARD
TZOFFSETFROM:-0700
TZOFFSETTO:-0800
TZNAME:PST
DTSTART:20211107T090000
END:STANDARD
BEGIN:DAYLIGHT
TZOFFSETFROM:-0800
TZOFFSETTO:-0700
TZNAME:PDT
DTSTART:20220313T100000
END:DAYLIGHT
BEGIN:STANDARD
TZOFFSETFROM:-0700
TZOFFSETTO:-0800
TZNAME:PST
DTSTART:20221106T090000
END:STANDARD
END:VTIMEZONE
BEGIN:VEVENT
DTSTART;TZID=America/Los_Angeles:20210505T190000
DTEND;TZID=America/Los_Angeles:20210505T203000
DTSTAMP:20260424T061835
CREATED:20210430T173814Z
LAST-MODIFIED:20210430T175727Z
UID:10000077-1620241200-1620246600@www.tandembayarea.org
SUMMARY:Workshop: Sharing Stories\, Sharing Feelings
DESCRIPTION:An online workshop for educators and families of children 0-5.\n\nExplore three ways that sharing books promotes a child’s social-emotional development. Practice techniques for incorporating social-emotional development into interactive storytimes at home or in the classroom. \n  \nRegister here! 
URL:https://www.tandembayarea.org/calendar/workshop-sharing-stories-sharing-feelings/
LOCATION:Zoom
ORGANIZER;CN="Tandem%2C Partners in Early Learning":MAILTO:info@tandembayarea.org
END:VEVENT
BEGIN:VEVENT
DTSTART;TZID=America/Los_Angeles:20200924T140000
DTEND;TZID=America/Los_Angeles:20200924T153000
DTSTAMP:20260424T061835
CREATED:20200803T204540Z
LAST-MODIFIED:20200921T170840Z
UID:10000115-1600956000-1600961400@www.tandembayarea.org
SUMMARY:"Storytime Magic" workshop for Families\, Caregivers\, and Educators - Presented in Cantonese
DESCRIPTION:9月24號\n下午2:00至下午3:30 \n為家庭，照顧者和教育者提供 “故事時間魔法” 粵語講座 \nMark your calendars!\n請您在日曆記下來！ \nJoin Tandem on Zoom for a free workshop presented in Cantonese. We’ll demonstrate interactive book-sharing tips that support a child’s healthy brain development and early language skills.\n邀請您參加Tandem的免費Zoom粵語講座內容包括展示互動方式來分享圖書技巧。 這些技巧會幫助孩子有一個健康腦部發育和早期語言能力。 \n請點擊這裡參加朗讀 (Click here to join) – https://us02web.zoom.us/j/87244722775 \n  \nRegister here: tinyurl.com/tandem2020\nAlready Registered? You only need to do it once for all our public events.\nCheck your email for the link to our Zoom Room.\nSubject “Tandem Event Registration Successful” \n\n請在此網站註冊: tinyurl.com/tandem2020 \n已經登記了？ 您只需要登記一次就可以參加我們的全部公開活動。\n請查看您的電子郵件獲取Zoom的鏈接。\n主題 “成功註冊Tandem的活動“
URL:https://www.tandembayarea.org/calendar/storytime-magic-workshop-for-families-caregivers-and-educators-presented-in-cantonese/
LOCATION:Zoom
ATTACH;FMTTYPE=image/jpeg:https://www.tandembayarea.org/wp-content/uploads/2020/08/Mom-and-daughter-read-a-book.jpg
ORGANIZER;CN="Tandem%2C Partners in Early Learning":MAILTO:info@tandembayarea.org
END:VEVENT
BEGIN:VEVENT
DTSTART;TZID=America/Los_Angeles:20200520T190000
DTEND;TZID=America/Los_Angeles:20200520T210000
DTSTAMP:20260424T061835
CREATED:20191009T181915Z
LAST-MODIFIED:20191009T181915Z
UID:10000076-1590001200-1590008400@www.tandembayarea.org
SUMMARY:Free Educator Workshop: Supporting Students with Trauma
DESCRIPTION:This workshop is focused on exploring what trauma looks like in children 0 – 5 years old. Learn about different types of trauma\, how it affects developing brains and bodies\, and practice trauma- sensitive classroom strategies that support all the children in your classroom.\n \nCapacity: 25 (you must sign up using the website link provided)
URL:https://www.tandembayarea.org/calendar/free-educator-workshop-supporting-students-with-trauma/
LOCATION:CoCoKids Learning Institute\, 1035 Detroit Avenue\, Suite 100\, Concord\, CA\, 94518\, United States
END:VEVENT
BEGIN:VEVENT
DTSTART;TZID=America/Los_Angeles:20200326T190000
DTEND;TZID=America/Los_Angeles:20200326T210000
DTSTAMP:20260424T061835
CREATED:20191009T181215Z
LAST-MODIFIED:20200317T154942Z
UID:10000067-1585249200-1585256400@www.tandembayarea.org
SUMMARY:CANCELLED: Educator Workshop: Story\, Song\, and Movement
DESCRIPTION:This event has been cancelled.\n\n 
URL:https://www.tandembayarea.org/calendar/free-educator-workshop-story-song-and-movement/
LOCATION:CoCoKids Learning Institute\, 1035 Detroit Avenue\, Suite 100\, Concord\, CA\, 94518\, United States
ORGANIZER;CN="Tandem%2C Partners in Early Learning":MAILTO:info@tandembayarea.org
END:VEVENT
BEGIN:VEVENT
DTSTART;TZID=America/Los_Angeles:20200307T090000
DTEND;TZID=America/Los_Angeles:20200307T120000
DTSTAMP:20260424T061835
CREATED:20200211T232613Z
LAST-MODIFIED:20200211T233301Z
UID:10000002-1583571600-1583582400@www.tandembayarea.org
SUMMARY:Create Early Childhood Environments that Support Gender Diversity
DESCRIPTION:This event is free and will be ASL interpreted and Spanish interpreted. Free childcare available with advanced RSVP through February 28\, 2020. \nDownload this flyer to share with your friends and neighbors.
URL:https://www.tandembayarea.org/calendar/create-early-childhood-environments-that-support-gender-diversity/
LOCATION:Lisser Hall on the Mills College Campus\, 5000 Macarthur Blvd\, Oakland\, CA\, United States
END:VEVENT
BEGIN:VEVENT
DTSTART;TZID=America/Los_Angeles:20200115T190000
DTEND;TZID=America/Los_Angeles:20200115T210000
DTSTAMP:20260424T061835
CREATED:20191009T000022Z
LAST-MODIFIED:20191009T000350Z
UID:10000085-1579114800-1579122000@www.tandembayarea.org
SUMMARY:Educator Workshop: Early Language & the Growing Brain
DESCRIPTION:Join us for our educator workshop! Educators will deepen their understanding of early childhood brain development as it relates to literacy. We will review the latest research on the subject and practice specific interactive classroom “Read Aloud” strategies that support early language acquisition and development.\n \nCapacity: 25 (you must sign up using the website link provided)
URL:https://www.tandembayarea.org/calendar/educator-workshop-early-language-the-growing-brain-concord/
LOCATION:CoCoKids Learning Institute\, 1035 Detroit Avenue\, Suite 100\, Concord\, CA\, 94518\, United States
END:VEVENT
BEGIN:VEVENT
DTSTART;TZID=America/Los_Angeles:20191121T183000
DTEND;TZID=America/Los_Angeles:20191121T203000
DTSTAMP:20260424T061835
CREATED:20190819T201508Z
LAST-MODIFIED:20190819T204705Z
UID:10000043-1574361000-1574368200@www.tandembayarea.org
SUMMARY:Free Educator Workshop in San Francisco: The Multilingual Classroom
DESCRIPTION:Please note that this workshop\, The Multilingual Classroom\, will be provided in English and Cantonese.
URL:https://www.tandembayarea.org/calendar/free-educator-workshop-october-2019/
LOCATION:Mission Dolores Academy Auditorium\, 3371 16th Street\, San Francisco\, CA\, 94114\, United States
ORGANIZER;CN="Tandem%2C Partners in Early Learning":MAILTO:info@tandembayarea.org
END:VEVENT
END:VCALENDAR