BEGIN:VCALENDAR
VERSION:2.0
PRODID:-//Tandem - ECPv6.15.12//NONSGML v1.0//EN
CALSCALE:GREGORIAN
METHOD:PUBLISH
X-ORIGINAL-URL:https://www.tandembayarea.org
X-WR-CALDESC:Events for Tandem
REFRESH-INTERVAL;VALUE=DURATION:PT1H
X-Robots-Tag:noindex
X-PUBLISHED-TTL:PT1H
BEGIN:VTIMEZONE
TZID:America/Los_Angeles
BEGIN:DAYLIGHT
TZOFFSETFROM:-0800
TZOFFSETTO:-0700
TZNAME:PDT
DTSTART:20200308T100000
END:DAYLIGHT
BEGIN:STANDARD
TZOFFSETFROM:-0700
TZOFFSETTO:-0800
TZNAME:PST
DTSTART:20201101T090000
END:STANDARD
BEGIN:DAYLIGHT
TZOFFSETFROM:-0800
TZOFFSETTO:-0700
TZNAME:PDT
DTSTART:20210314T100000
END:DAYLIGHT
BEGIN:STANDARD
TZOFFSETFROM:-0700
TZOFFSETTO:-0800
TZNAME:PST
DTSTART:20211107T090000
END:STANDARD
BEGIN:DAYLIGHT
TZOFFSETFROM:-0800
TZOFFSETTO:-0700
TZNAME:PDT
DTSTART:20220313T100000
END:DAYLIGHT
BEGIN:STANDARD
TZOFFSETFROM:-0700
TZOFFSETTO:-0800
TZNAME:PST
DTSTART:20221106T090000
END:STANDARD
BEGIN:DAYLIGHT
TZOFFSETFROM:-0800
TZOFFSETTO:-0700
TZNAME:PDT
DTSTART:20230312T100000
END:DAYLIGHT
BEGIN:STANDARD
TZOFFSETFROM:-0700
TZOFFSETTO:-0800
TZNAME:PST
DTSTART:20231105T090000
END:STANDARD
BEGIN:DAYLIGHT
TZOFFSETFROM:-0800
TZOFFSETTO:-0700
TZNAME:PDT
DTSTART:20240310T100000
END:DAYLIGHT
BEGIN:STANDARD
TZOFFSETFROM:-0700
TZOFFSETTO:-0800
TZNAME:PST
DTSTART:20241103T090000
END:STANDARD
END:VTIMEZONE
BEGIN:VEVENT
DTSTART;TZID=America/Los_Angeles:20230430T120000
DTEND;TZID=America/Los_Angeles:20230430T160000
DTSTAMP:20260424T052023
CREATED:20230327T203110Z
LAST-MODIFIED:20230403T180346Z
UID:10000350-1682856000-1682870400@www.tandembayarea.org
SUMMARY:Dia de Los Ninos - Dia de los Libros
DESCRIPTION:Join us at Dia de Los Ninos | Dia de los Libros! Tandem will be offering an activity and giving away books and resources.
URL:https://www.tandembayarea.org/calendar/dia-de-los-ninos-dia-de-los-libros/
LOCATION:Parque Ninos Unidos\, 3090 23rd St\, San Francisco
ATTACH;FMTTYPE=image/png:https://www.tandembayarea.org/wp-content/uploads/2023/03/DiadelosNinos_poster2023-png.png
END:VEVENT
BEGIN:VEVENT
DTSTART;TZID=America/Los_Angeles:20220429T110000
DTEND;TZID=America/Los_Angeles:20220429T123000
DTSTAMP:20260424T052023
CREATED:20220412T182341Z
LAST-MODIFIED:20220412T182342Z
UID:10000261-1651230000-1651235400@www.tandembayarea.org
SUMMARY:El Día de los Niños / Día de los Libros Contra Costa!
DESCRIPTION:You’re invited! Celebrate El Día de los Niños / Día de los Libros VIRTUALLY with Tandem\, First 5 Contra Costa\, and the Contra Costa County Public library. April 29 at 11am PST!\n\nRSVP to attend: bit.ly/tandemevent
URL:https://www.tandembayarea.org/calendar/el-dia-de-los-ninos-dia-de-los-libros-contra-costa/
LOCATION:Zoom
ATTACH;FMTTYPE=image/jpeg:https://www.tandembayarea.org/wp-content/uploads/2022/04/YS-DiadelosNinos-Storytime-Social-Square-2022.jpg
ORGANIZER;CN="Tandem%2C Partners in Early Learning":MAILTO:info@tandembayarea.org
END:VEVENT
BEGIN:VEVENT
DTSTART;TZID=America/Los_Angeles:20220424T120000
DTEND;TZID=America/Los_Angeles:20220424T160000
DTSTAMP:20260424T052024
CREATED:20220412T172616Z
LAST-MODIFIED:20220412T172618Z
UID:10000258-1650801600-1650816000@www.tandembayarea.org
SUMMARY:El Día de los Niños / Día de los Libros San Francisco
DESCRIPTION:Don’t miss this special celebration at Parque Niños Unidos at 23rd Street and Folsom in San Francisco!
URL:https://www.tandembayarea.org/calendar/el-dia-de-los-ninos-dia-de-los-libros-san-francisco/
LOCATION:Parque Ninos Unidos\, 3090 23rd St\, San Francisco
ATTACH;FMTTYPE=image/png:https://www.tandembayarea.org/wp-content/uploads/2022/04/diadelosninos2022_IG_Post-01.png
END:VEVENT
BEGIN:VEVENT
DTSTART;TZID=America/Los_Angeles:20210430T140000
DTEND;TZID=America/Los_Angeles:20210430T160000
DTSTAMP:20260424T052024
CREATED:20210413T214957Z
LAST-MODIFIED:20210413T214957Z
UID:10000073-1619791200-1619798400@www.tandembayarea.org
SUMMARY:Celebrate Dia! El dis de los ninos\, El dia de los libros virtual storytime
DESCRIPTION:  \nClick to register to join us: tinyurl.com/tandem2020
URL:https://www.tandembayarea.org/calendar/celebrate-dia-el-dis-de-los-ninos-el-dia-de-los-libros-virtual-storytime/
LOCATION:Zoom
ORGANIZER;CN="Tandem%2C Partners in Early Learning":MAILTO:info@tandembayarea.org
END:VEVENT
BEGIN:VEVENT
DTSTART;TZID=America/Los_Angeles:20210425T120000
DTEND;TZID=America/Los_Angeles:20210425T150000
DTSTAMP:20260424T052024
CREATED:20210405T225312Z
LAST-MODIFIED:20210405T225312Z
UID:10000072-1619352000-1619362800@www.tandembayarea.org
SUMMARY:Dia de los Ninos San Francisco
DESCRIPTION:Evento especial  – haga clic para ver detalles\nSpecial event – Click for details \nCelebración Virtual domingo\, 25 de abril a las 12 p.m. en el canal de YouTube de la Biblioteca Pública de San Francisco.  \nVirtual Celebration Sunday\, April 25 at 12 p.m. on the SF Public Library’s YouTube Channel.
URL:https://www.tandembayarea.org/calendar/dia-de-los-ninos-san-francisco/
LOCATION:Online
END:VEVENT
END:VCALENDAR