BEGIN:VCALENDAR
VERSION:2.0
PRODID:-//Tandem - ECPv6.15.12//NONSGML v1.0//EN
CALSCALE:GREGORIAN
METHOD:PUBLISH
X-ORIGINAL-URL:https://www.tandembayarea.org
X-WR-CALDESC:Events for Tandem
REFRESH-INTERVAL;VALUE=DURATION:PT1H
X-Robots-Tag:noindex
X-PUBLISHED-TTL:PT1H
BEGIN:VTIMEZONE
TZID:America/Los_Angeles
BEGIN:DAYLIGHT
TZOFFSETFROM:-0800
TZOFFSETTO:-0700
TZNAME:PDT
DTSTART:20190310T100000
END:DAYLIGHT
BEGIN:STANDARD
TZOFFSETFROM:-0700
TZOFFSETTO:-0800
TZNAME:PST
DTSTART:20191103T090000
END:STANDARD
BEGIN:DAYLIGHT
TZOFFSETFROM:-0800
TZOFFSETTO:-0700
TZNAME:PDT
DTSTART:20200308T100000
END:DAYLIGHT
BEGIN:STANDARD
TZOFFSETFROM:-0700
TZOFFSETTO:-0800
TZNAME:PST
DTSTART:20201101T090000
END:STANDARD
BEGIN:DAYLIGHT
TZOFFSETFROM:-0800
TZOFFSETTO:-0700
TZNAME:PDT
DTSTART:20210314T100000
END:DAYLIGHT
BEGIN:STANDARD
TZOFFSETFROM:-0700
TZOFFSETTO:-0800
TZNAME:PST
DTSTART:20211107T090000
END:STANDARD
END:VTIMEZONE
BEGIN:VEVENT
DTSTART;TZID=America/Los_Angeles:20201105T190000
DTEND;TZID=America/Los_Angeles:20201105T203000
DTSTAMP:20260424T093429
CREATED:20200819T233553Z
LAST-MODIFIED:20201028T193630Z
UID:10000013-1604602800-1604608200@www.tandembayarea.org
SUMMARY:Building Literacy-Rich Environments: Webinar for Educators
DESCRIPTION:For Educators and Caregivers\nJoin us for a free webinar\, hosted by CoCoKids. In this webinar\, adults will learn how to build their child or students’ literacy skills all day long\, not just during storytime. We will share and practice a variety of word games\, rhyming songs\, and hands-on activities geared specifically toward developing the American Library Association’s Six Skills of Early Literacy. \nClick to register with CoCoKids to attend this webinar. 
URL:https://www.tandembayarea.org/calendar/building-literacy-rich-environments-webinar-for-educators/
LOCATION:Zoom
END:VEVENT
END:VCALENDAR