BEGIN:VCALENDAR
VERSION:2.0
PRODID:-//Tandem - ECPv6.15.12//NONSGML v1.0//EN
CALSCALE:GREGORIAN
METHOD:PUBLISH
X-ORIGINAL-URL:https://www.tandembayarea.org
X-WR-CALDESC:Events for Tandem
REFRESH-INTERVAL;VALUE=DURATION:PT1H
X-Robots-Tag:noindex
X-PUBLISHED-TTL:PT1H
BEGIN:VTIMEZONE
TZID:America/Los_Angeles
BEGIN:DAYLIGHT
TZOFFSETFROM:-0800
TZOFFSETTO:-0700
TZNAME:PDT
DTSTART:20210314T100000
END:DAYLIGHT
BEGIN:STANDARD
TZOFFSETFROM:-0700
TZOFFSETTO:-0800
TZNAME:PST
DTSTART:20211107T090000
END:STANDARD
BEGIN:DAYLIGHT
TZOFFSETFROM:-0800
TZOFFSETTO:-0700
TZNAME:PDT
DTSTART:20220313T100000
END:DAYLIGHT
BEGIN:STANDARD
TZOFFSETFROM:-0700
TZOFFSETTO:-0800
TZNAME:PST
DTSTART:20221106T090000
END:STANDARD
BEGIN:DAYLIGHT
TZOFFSETFROM:-0800
TZOFFSETTO:-0700
TZNAME:PDT
DTSTART:20230312T100000
END:DAYLIGHT
BEGIN:STANDARD
TZOFFSETFROM:-0700
TZOFFSETTO:-0800
TZNAME:PST
DTSTART:20231105T090000
END:STANDARD
BEGIN:DAYLIGHT
TZOFFSETFROM:-0800
TZOFFSETTO:-0700
TZNAME:PDT
DTSTART:20240310T100000
END:DAYLIGHT
BEGIN:STANDARD
TZOFFSETFROM:-0700
TZOFFSETTO:-0800
TZNAME:PST
DTSTART:20241103T090000
END:STANDARD
END:VTIMEZONE
BEGIN:VEVENT
DTSTART;TZID=America/Los_Angeles:20230422T100000
DTEND;TZID=America/Los_Angeles:20230422T130000
DTSTAMP:20260424T024830
CREATED:20230404T160527Z
LAST-MODIFIED:20230404T160527Z
UID:10000353-1682157600-1682168400@www.tandembayarea.org
SUMMARY:2023 UnPeeled Event at BANANAS
DESCRIPTION:Don’t miss BANANA’S Ultimate Children’s Event at Children’s Fairyland! This free event features music\, stories\, food\, and fun! Learn more at https://bananasbunch.org/donate/unpeeled/. \n 
URL:https://www.tandembayarea.org/calendar/2023-unpeeled-event-at-bananas/
LOCATION:Children’s Fairyland\, 699 BELLEVUE AVE\, Oakland\, CA\, 94610\, United States
ATTACH;FMTTYPE=image/jpeg:https://www.tandembayarea.org/wp-content/uploads/2023/04/UnPeeled2023-Performers-1.jpg
END:VEVENT
BEGIN:VEVENT
DTSTART;TZID=America/Los_Angeles:20221111T100000
DTEND;TZID=America/Los_Angeles:20221111T120000
DTSTAMP:20260424T024830
CREATED:20220930T165520Z
LAST-MODIFIED:20220930T172741Z
UID:10000310-1668160800-1668168000@www.tandembayarea.org
SUMMARY:Interactive & Fun Literacy Activities at Children's Fairyland
DESCRIPTION:These sessions are for both caregivers and their children. Different literacy activities will be showcased on each of the following dates: October 12th & November 11th. Space is limited. Please contact Tania at tania@tandembayarea.org or Yolanda at yolanda@tandembayarea.org to register for one or both dates. Free park entry & parking + free books for participants! This programming is being funded and made possible by Oakland Fund for Children and Youth (OFCY).
URL:https://www.tandembayarea.org/calendar/interactive-fun-literacy-activities-at-childrens-fairyland/2022-11-11/
LOCATION:Children’s Fairyland\, 699 BELLEVUE AVE\, Oakland\, CA\, 94610\, United States
ATTACH;FMTTYPE=image/png:https://www.tandembayarea.org/wp-content/uploads/2022/09/Tandem-Literacy-Activities.png
ORGANIZER;CN="Tandem%2C Partners in Early Learning":MAILTO:info@tandembayarea.org
END:VEVENT
BEGIN:VEVENT
DTSTART;TZID=America/Los_Angeles:20221012T100000
DTEND;TZID=America/Los_Angeles:20221012T120000
DTSTAMP:20260424T024830
CREATED:20220930T165520Z
LAST-MODIFIED:20220930T172741Z
UID:10000309-1665568800-1665576000@www.tandembayarea.org
SUMMARY:Interactive & Fun Literacy Activities at Children's Fairyland
DESCRIPTION:These sessions are for both caregivers and their children. Different literacy activities will be showcased on each of the following dates: October 12th & November 11th. Space is limited. Please contact Tania at tania@tandembayarea.org or Yolanda at yolanda@tandembayarea.org to register for one or both dates. Free park entry & parking + free books for participants! This programming is being funded and made possible by Oakland Fund for Children and Youth (OFCY).
URL:https://www.tandembayarea.org/calendar/interactive-fun-literacy-activities-at-childrens-fairyland/2022-10-12/
LOCATION:Children’s Fairyland\, 699 BELLEVUE AVE\, Oakland\, CA\, 94610\, United States
ATTACH;FMTTYPE=image/png:https://www.tandembayarea.org/wp-content/uploads/2022/09/Tandem-Literacy-Activities.png
ORGANIZER;CN="Tandem%2C Partners in Early Learning":MAILTO:info@tandembayarea.org
END:VEVENT
BEGIN:VEVENT
DTSTART;TZID=America/Los_Angeles:20220423T103000
DTEND;TZID=America/Los_Angeles:20220423T143000
DTSTAMP:20260424T024830
CREATED:20220412T181829Z
LAST-MODIFIED:20220412T181831Z
UID:10000259-1650709800-1650724200@www.tandembayarea.org
SUMMARY:UnPeeled: BANANAS Ultimate Children's Event (Oakland)
DESCRIPTION:Join our friends at BANANAS for their special annual children’s event featuring performances and special guests at Children’s Fairyland in Oakland.\n\nVisit the BANANAS website to learn more and RSVP for the event.
URL:https://www.tandembayarea.org/calendar/unpeeled-bananas-ultimate-childrens-event-oakland/
LOCATION:Children’s Fairyland\, 699 BELLEVUE AVE\, Oakland\, CA\, 94610\, United States
ATTACH;FMTTYPE=image/jpeg:https://www.tandembayarea.org/wp-content/uploads/2022/04/IG-UnPeeled2022Flyer.jpg
END:VEVENT
END:VCALENDAR